BEGIN:VCALENDAR
PRODID:-//nuDatenautomaten//framework iCal4j //DE
VERSION:2.0
CALSCALE:GREGORIAN
BEGIN:VTIMEZONE
TZID:Europe/Berlin
LAST-MODIFIED:20260306T231828Z
TZURL:https://www.tzurl.org/zoneinfo/Europe/Berlin
X-LIC-LOCATION:Europe/Berlin
X-PROLEPTIC-TZNAME:LMT
BEGIN:STANDARD
TZNAME:CET
TZOFFSETFROM:+005328
TZOFFSETTO:+0100
DTSTART:18930401T000000
END:STANDARD
BEGIN:DAYLIGHT
TZNAME:CEST
TZOFFSETFROM:+0100
TZOFFSETTO:+0200
DTSTART:19160430T230000
RDATE:19400401T020000
RDATE:19430329T020000
RDATE:19460414T020000
RDATE:19470406T030000
RDATE:19480418T020000
RDATE:19490410T020000
RDATE:19800406T020000
END:DAYLIGHT
BEGIN:STANDARD
TZNAME:CET
TZOFFSETFROM:+0200
TZOFFSETTO:+0100
DTSTART:19161001T010000
RDATE:19421102T030000
RDATE:19431004T030000
RDATE:19441002T030000
RDATE:19451118T030000
RDATE:19461007T030000
END:STANDARD
BEGIN:DAYLIGHT
TZNAME:CEST
TZOFFSETFROM:+0100
TZOFFSETTO:+0200
DTSTART:19170416T020000
RRULE:FREQ=YEARLY;UNTIL=19180415T010000Z;BYMONTH=4;BYDAY=3MO
END:DAYLIGHT
BEGIN:STANDARD
TZNAME:CET
TZOFFSETFROM:+0200
TZOFFSETTO:+0100
DTSTART:19170917T030000
RRULE:FREQ=YEARLY;UNTIL=19180916T010000Z;BYMONTH=9;BYDAY=3MO
END:STANDARD
BEGIN:DAYLIGHT
TZNAME:CEST
TZOFFSETFROM:+0100
TZOFFSETTO:+0200
DTSTART:19440403T020000
RRULE:FREQ=YEARLY;UNTIL=19450402T010000Z;BYMONTH=4;BYDAY=1MO
END:DAYLIGHT
BEGIN:DAYLIGHT
TZNAME:CEMT
TZOFFSETFROM:+0200
TZOFFSETTO:+0300
DTSTART:19450524T020000
RDATE:19470511T030000
END:DAYLIGHT
BEGIN:DAYLIGHT
TZNAME:CEST
TZOFFSETFROM:+0300
TZOFFSETTO:+0200
DTSTART:19450924T030000
RDATE:19470629T030000
END:DAYLIGHT
BEGIN:STANDARD
TZNAME:CET
TZOFFSETFROM:+0100
TZOFFSETTO:+0100
DTSTART:19460101T000000
RDATE:19800101T000000
END:STANDARD
BEGIN:STANDARD
TZNAME:CET
TZOFFSETFROM:+0200
TZOFFSETTO:+0100
DTSTART:19471005T030000
RRULE:FREQ=YEARLY;UNTIL=19491002T010000Z;BYMONTH=10;BYDAY=1SU
END:STANDARD
BEGIN:STANDARD
TZNAME:CET
TZOFFSETFROM:+0200
TZOFFSETTO:+0100
DTSTART:19800928T030000
RRULE:FREQ=YEARLY;UNTIL=19950924T010000Z;BYMONTH=9;BYDAY=-1SU
END:STANDARD
BEGIN:DAYLIGHT
TZNAME:CEST
TZOFFSETFROM:+0100
TZOFFSETTO:+0200
DTSTART:19810329T020000
RRULE:FREQ=YEARLY;BYMONTH=3;BYDAY=-1SU
END:DAYLIGHT
BEGIN:STANDARD
TZNAME:CET
TZOFFSETFROM:+0200
TZOFFSETTO:+0100
DTSTART:19961027T030000
RRULE:FREQ=YEARLY;BYMONTH=10;BYDAY=-1SU
END:STANDARD
END:VTIMEZONE
BEGIN:VEVENT
DTSTAMP:20260424T181547Z
DTSTART;TZID=Europe/Berlin:20171124T193000
DTEND;TZID=Europe/Berlin:20171124T223000
SUMMARY:HE 6. Liga Gr. 3 Aarau V vs Menziken III (0)
UID:6010be51-449f-5356-e053-1fc7a80a74f7
STATUS:CONFIRMED
LAST-MODIFIED:20171128T105607Z
DESCRIPTION:6. Liga Herren Gruppe 3\nBegegnungs-Nr: 0\nHeim: Aarau V\nGast: Menziken III\n\nAdresse: Weltistrasse 20\, 5000 Aarau\n
LOCATION:Weltistrasse 20\, 5000 Aarau
CATEGORIES:Saison 2017/18
END:VEVENT
BEGIN:VEVENT
DTSTAMP:20260424T181547Z
DTSTART;TZID=Europe/Berlin:20171020T193000
DTEND;TZID=Europe/Berlin:20171020T223000
SUMMARY:HE 6. Liga Gr. 3 Aarau V vs Baden II (0)
UID:6010be51-44a4-5356-e053-1fc7a80a74f7
STATUS:CONFIRMED
LAST-MODIFIED:20171023T074753Z
DESCRIPTION:6. Liga Herren Gruppe 3\nBegegnungs-Nr: 0\nHeim: Aarau V\nGast: Baden II\n\nAdresse: Weltistrasse 20\, 5000 Aarau\n
LOCATION:Weltistrasse 20\, 5000 Aarau
CATEGORIES:Saison 2017/18
END:VEVENT
BEGIN:VEVENT
DTSTAMP:20260424T181547Z
DTSTART;TZID=Europe/Berlin:20170920T193000
DTEND;TZID=Europe/Berlin:20170920T223000
SUMMARY:HE 6. Liga Gr. 3 Aarau V vs Frick VI (0)
UID:6010be51-44b0-5356-e053-1fc7a80a74f7
STATUS:CONFIRMED
LAST-MODIFIED:20171003T144006Z
DESCRIPTION:6. Liga Herren Gruppe 3\nBegegnungs-Nr: 0\nHeim: Aarau V\nGast: Frick VI\n\nAdresse: Weltistrasse 20\, 5000 Aarau\n
LOCATION:Weltistrasse 20\, 5000 Aarau
CATEGORIES:Saison 2017/18
END:VEVENT
BEGIN:VEVENT
DTSTAMP:20260424T181547Z
DTSTART;TZID=Europe/Berlin:20170825T193000
DTEND;TZID=Europe/Berlin:20170825T223000
SUMMARY:HE 6. Liga Gr. 3 Aarau V vs Olten IV (0)
UID:6010be51-44b8-5356-e053-1fc7a80a74f7
STATUS:CONFIRMED
LAST-MODIFIED:20170828T073916Z
DESCRIPTION:6. Liga Herren Gruppe 3\nBegegnungs-Nr: 0\nHeim: Aarau V\nGast: Olten IV\n\nAdresse: Weltistrasse 20\, 5000 Aarau\n
LOCATION:Weltistrasse 20\, 5000 Aarau
CATEGORIES:Saison 2017/18
END:VEVENT
BEGIN:VEVENT
DTSTAMP:20260424T181547Z
DTSTART;TZID=Europe/Berlin:20180323T193000
DTEND;TZID=Europe/Berlin:20180323T223000
SUMMARY:HE 6. Liga Gr. 3 Aarau V vs Brugg V (0)
UID:6010be51-42d3-5356-e053-1fc7a80a74f7
STATUS:CONFIRMED
LAST-MODIFIED:20180327T091715Z
DESCRIPTION:6. Liga Herren Gruppe 3\nBegegnungs-Nr: 0\nHeim: Aarau V\nGast: Brugg V\n\nAdresse: Weltistrasse 20\, 5000 Aarau\n
LOCATION:Weltistrasse 20\, 5000 Aarau
CATEGORIES:Saison 2017/18
END:VEVENT
BEGIN:VEVENT
DTSTAMP:20260424T181547Z
DTSTART;TZID=Europe/Berlin:20180316T193000
DTEND;TZID=Europe/Berlin:20180316T223000
SUMMARY:HE 6. Liga Gr. 3 Aarau V vs Mellingen II (0)
UID:6010be51-42d7-5356-e053-1fc7a80a74f7
STATUS:CONFIRMED
LAST-MODIFIED:20180319T092420Z
DESCRIPTION:6. Liga Herren Gruppe 3\nBegegnungs-Nr: 0\nHeim: Aarau V\nGast: Mellingen II\n\nAdresse: Weltistrasse 20\, 5000 Aarau\n
LOCATION:Weltistrasse 20\, 5000 Aarau
CATEGORIES:Saison 2017/18
END:VEVENT
BEGIN:VEVENT
DTSTAMP:20260424T181547Z
DTSTART;TZID=Europe/Berlin:20180126T193000
DTEND;TZID=Europe/Berlin:20180126T223000
SUMMARY:HE 6. Liga Gr. 3 Aarau V vs Wettingen V (0)
UID:6010be51-431b-5356-e053-1fc7a80a74f7
STATUS:CONFIRMED
LAST-MODIFIED:20180129T093556Z
DESCRIPTION:6. Liga Herren Gruppe 3\nBegegnungs-Nr: 0\nHeim: Aarau V\nGast: Wettingen V\n\nAdresse: Weltistrasse 20\, 5000 Aarau\n
LOCATION:Weltistrasse 20\, 5000 Aarau
CATEGORIES:Saison 2017/18
END:VEVENT
BEGIN:VEVENT
DTSTAMP:20260424T181547Z
DTSTART;TZID=Europe/Berlin:20180112T193000
DTEND;TZID=Europe/Berlin:20180112T223000
SUMMARY:HE 6. Liga Gr. 3 Aarau V vs Zofingen IV (0)
UID:6010be51-4326-5356-e053-1fc7a80a74f7
STATUS:CONFIRMED
LAST-MODIFIED:20180115T152719Z
DESCRIPTION:6. Liga Herren Gruppe 3\nBegegnungs-Nr: 0\nHeim: Aarau V\nGast: Zofingen IV\n\nAdresse: Weltistrasse 20\, 5000 Aarau\n
LOCATION:Weltistrasse 20\, 5000 Aarau
CATEGORIES:Saison 2017/18
END:VEVENT
BEGIN:VEVENT
DTSTAMP:20260424T181547Z
DTSTART;TZID=Europe/Berlin:20171116T200000
DTEND;TZID=Europe/Berlin:20171116T230000
SUMMARY:HE 6. Liga Gr. 3 Mellingen II vs Aarau V (0)
UID:6010be51-4465-5356-e053-1fc7a80a74f7
STATUS:CONFIRMED
LAST-MODIFIED:20171120T092730Z
DESCRIPTION:6. Liga Herren Gruppe 3\nBegegnungs-Nr: 0\nHeim: Mellingen II\nGast: Aarau V\n\nAdresse: Bahnhofstrasse 22\, 5507 Mellingen\n
LOCATION:Bahnhofstrasse 22\, 5507 Mellingen
CATEGORIES:Saison 2017/18
END:VEVENT
BEGIN:VEVENT
DTSTAMP:20260424T181547Z
DTSTART;TZID=Europe/Berlin:20170928T194500
DTEND;TZID=Europe/Berlin:20170928T224500
SUMMARY:HE 6. Liga Gr. 3 Wettingen V vs Aarau V (0)
UID:6010be51-44a9-5356-e053-1fc7a80a74f7
STATUS:CONFIRMED
LAST-MODIFIED:20171004T121750Z
DESCRIPTION:6. Liga Herren Gruppe 3\nBegegnungs-Nr: 0\nHeim: Wettingen V\nGast: Aarau V\n\nAdresse: Schulstrasse 14\, 5430 Wettingen\n
LOCATION:Schulstrasse 14\, 5430 Wettingen
CATEGORIES:Saison 2017/18
END:VEVENT
BEGIN:VEVENT
DTSTAMP:20260424T181547Z
DTSTART;TZID=Europe/Berlin:20170906T194500
DTEND;TZID=Europe/Berlin:20170906T224500
SUMMARY:HE 6. Liga Gr. 3 Zofingen IV vs Aarau V (0)
UID:6010be51-44b5-5356-e053-1fc7a80a74f7
STATUS:CONFIRMED
LAST-MODIFIED:20170908T075310Z
DESCRIPTION:6. Liga Herren Gruppe 3\nBegegnungs-Nr: 0\nHeim: Zofingen IV\nGast: Aarau V\n\nAdresse: Kreuzplatz\, 4802 Strengelbach\n
LOCATION:Kreuzplatz\, 4802 Strengelbach
CATEGORIES:Saison 2017/18
END:VEVENT
BEGIN:VEVENT
DTSTAMP:20260424T181547Z
DTSTART;TZID=Europe/Berlin:20180119T201500
DTEND;TZID=Europe/Berlin:20180119T231500
SUMMARY:HE 6. Liga Gr. 3 Frick VI vs Aarau V (0)
UID:6010be51-4292-5356-e053-1fc7a80a74f7
STATUS:CONFIRMED
LAST-MODIFIED:20180122T110022Z
DESCRIPTION:6. Liga Herren Gruppe 3\nBegegnungs-Nr: 0\nHeim: Frick VI\nGast: Aarau V\n\nAdresse: Schulstrasse 51\, 5070 Frick\n
LOCATION:Schulstrasse 51\, 5070 Frick
CATEGORIES:Saison 2017/18
END:VEVENT
BEGIN:VEVENT
DTSTAMP:20260424T181547Z
DTSTART;TZID=Europe/Berlin:20180307T200000
DTEND;TZID=Europe/Berlin:20180307T230000
SUMMARY:HE 6. Liga Gr. 3 Menziken III vs Aarau V (0)
UID:6010be51-42dc-5356-e053-1fc7a80a74f7
STATUS:CONFIRMED
LAST-MODIFIED:20180309T134048Z
DESCRIPTION:6. Liga Herren Gruppe 3\nBegegnungs-Nr: 0\nHeim: Menziken III\nGast: Aarau V\n\nAdresse: Turnplatzstrasse\, 5737 Menziken\n
LOCATION:Turnplatzstrasse\, 5737 Menziken
CATEGORIES:Saison 2017/18
END:VEVENT
BEGIN:VEVENT
DTSTAMP:20260424T181547Z
DTSTART;TZID=Europe/Berlin:20180220T193000
DTEND;TZID=Europe/Berlin:20180220T223000
SUMMARY:HE 6. Liga Gr. 3 Baden II vs Aarau V (0)
UID:6010be51-42e1-5356-e053-1fc7a80a74f7
STATUS:CONFIRMED
LAST-MODIFIED:20180226T084926Z
DESCRIPTION:6. Liga Herren Gruppe 3\nBegegnungs-Nr: 0\nHeim: Baden II\nGast: Aarau V\n\nAdresse: Wiesenstrasse 32 (Parkhaus Schmiede Fabrikstrasse)\, 5400 Baden\n
LOCATION:Wiesenstrasse 32 (Parkhaus Schmiede Fabrikstrasse)\, 5400 Baden
CATEGORIES:Saison 2017/18
END:VEVENT
BEGIN:VEVENT
DTSTAMP:20260424T181547Z
DTSTART;TZID=Europe/Berlin:20171222T194500
DTEND;TZID=Europe/Berlin:20171222T224500
SUMMARY:HE 6. Liga Gr. 3 Olten IV vs Aarau V (0)
UID:6010be51-4328-5356-e053-1fc7a80a74f7
STATUS:CONFIRMED
LAST-MODIFIED:20180115T135237Z
DESCRIPTION:6. Liga Herren Gruppe 3\nBegegnungs-Nr: 0\nHeim: Olten IV\nGast: Aarau V\n\nAdresse: Engelbergstrasse 60\, 4600 Olten\n
LOCATION:Engelbergstrasse 60\, 4600 Olten
CATEGORIES:Saison 2017/18
END:VEVENT
BEGIN:VEVENT
DTSTAMP:20260424T181547Z
DTSTART;TZID=Europe/Berlin:20171127T201500
DTEND;TZID=Europe/Berlin:20171127T231500
SUMMARY:HE 6. Liga Gr. 3 Brugg V vs Aarau V (0)
UID:6010be51-5802-5356-e053-1fc7a80a74f7
STATUS:CONFIRMED
LAST-MODIFIED:20171204T093536Z
DESCRIPTION:6. Liga Herren Gruppe 3\nBegegnungs-Nr: 0\nHeim: Brugg V\nGast: Aarau V\n\nAdresse: Sommerhaldenstrasse 29\, 5200 Brugg/Lauffohr\n
LOCATION:Sommerhaldenstrasse 29\, 5200 Brugg/Lauffohr
CATEGORIES:Saison 2017/18
END:VEVENT
END:VCALENDAR
