BEGIN:VCALENDAR
PRODID:-//nuDatenautomaten//framework iCal4j //DE
VERSION:2.0
CALSCALE:GREGORIAN
BEGIN:VTIMEZONE
TZID:Europe/Berlin
LAST-MODIFIED:20260306T231828Z
TZURL:https://www.tzurl.org/zoneinfo/Europe/Berlin
X-LIC-LOCATION:Europe/Berlin
X-PROLEPTIC-TZNAME:LMT
BEGIN:STANDARD
TZNAME:CET
TZOFFSETFROM:+005328
TZOFFSETTO:+0100
DTSTART:18930401T000000
END:STANDARD
BEGIN:DAYLIGHT
TZNAME:CEST
TZOFFSETFROM:+0100
TZOFFSETTO:+0200
DTSTART:19160430T230000
RDATE:19400401T020000
RDATE:19430329T020000
RDATE:19460414T020000
RDATE:19470406T030000
RDATE:19480418T020000
RDATE:19490410T020000
RDATE:19800406T020000
END:DAYLIGHT
BEGIN:STANDARD
TZNAME:CET
TZOFFSETFROM:+0200
TZOFFSETTO:+0100
DTSTART:19161001T010000
RDATE:19421102T030000
RDATE:19431004T030000
RDATE:19441002T030000
RDATE:19451118T030000
RDATE:19461007T030000
END:STANDARD
BEGIN:DAYLIGHT
TZNAME:CEST
TZOFFSETFROM:+0100
TZOFFSETTO:+0200
DTSTART:19170416T020000
RRULE:FREQ=YEARLY;UNTIL=19180415T010000Z;BYMONTH=4;BYDAY=3MO
END:DAYLIGHT
BEGIN:STANDARD
TZNAME:CET
TZOFFSETFROM:+0200
TZOFFSETTO:+0100
DTSTART:19170917T030000
RRULE:FREQ=YEARLY;UNTIL=19180916T010000Z;BYMONTH=9;BYDAY=3MO
END:STANDARD
BEGIN:DAYLIGHT
TZNAME:CEST
TZOFFSETFROM:+0100
TZOFFSETTO:+0200
DTSTART:19440403T020000
RRULE:FREQ=YEARLY;UNTIL=19450402T010000Z;BYMONTH=4;BYDAY=1MO
END:DAYLIGHT
BEGIN:DAYLIGHT
TZNAME:CEMT
TZOFFSETFROM:+0200
TZOFFSETTO:+0300
DTSTART:19450524T020000
RDATE:19470511T030000
END:DAYLIGHT
BEGIN:DAYLIGHT
TZNAME:CEST
TZOFFSETFROM:+0300
TZOFFSETTO:+0200
DTSTART:19450924T030000
RDATE:19470629T030000
END:DAYLIGHT
BEGIN:STANDARD
TZNAME:CET
TZOFFSETFROM:+0100
TZOFFSETTO:+0100
DTSTART:19460101T000000
RDATE:19800101T000000
END:STANDARD
BEGIN:STANDARD
TZNAME:CET
TZOFFSETFROM:+0200
TZOFFSETTO:+0100
DTSTART:19471005T030000
RRULE:FREQ=YEARLY;UNTIL=19491002T010000Z;BYMONTH=10;BYDAY=1SU
END:STANDARD
BEGIN:STANDARD
TZNAME:CET
TZOFFSETFROM:+0200
TZOFFSETTO:+0100
DTSTART:19800928T030000
RRULE:FREQ=YEARLY;UNTIL=19950924T010000Z;BYMONTH=9;BYDAY=-1SU
END:STANDARD
BEGIN:DAYLIGHT
TZNAME:CEST
TZOFFSETFROM:+0100
TZOFFSETTO:+0200
DTSTART:19810329T020000
RRULE:FREQ=YEARLY;BYMONTH=3;BYDAY=-1SU
END:DAYLIGHT
BEGIN:STANDARD
TZNAME:CET
TZOFFSETFROM:+0200
TZOFFSETTO:+0100
DTSTART:19961027T030000
RRULE:FREQ=YEARLY;BYMONTH=10;BYDAY=-1SU
END:STANDARD
END:VTIMEZONE
BEGIN:VEVENT
DTSTAMP:20260424T163256Z
DTSTART;TZID=Europe/Berlin:20171213T201500
DTEND;TZID=Europe/Berlin:20171213T231500
SUMMARY:Ligue 3 Gr.3\, Ph.A ZZ-Lancy X vs Meyrin V (30)
UID:6010be51-548b-5356-e053-1fc7a80a74f7
STATUS:CONFIRMED
LAST-MODIFIED:20171214T144256Z
DESCRIPTION:3ème ligue Hommes Gr. 3 Phase A\nBegegnungs-Nr: 30\nHeim: ZZ-Lancy X\nGast: Meyrin V\n\nAdresse: Avenue du Curé-Baud 40\, 1212 Grand-Lancy\n
LOCATION:Avenue du Curé-Baud 40\, 1212 Grand-Lancy
CATEGORIES:Saison 2017/18
END:VEVENT
BEGIN:VEVENT
DTSTAMP:20260424T163256Z
DTSTART;TZID=Europe/Berlin:20171108T201500
DTEND;TZID=Europe/Berlin:20171108T231500
SUMMARY:Ligue 3 Gr.3\, Ph.A ZZ-Lancy X vs Grand-Saconnex (18)
UID:6010be51-553b-5356-e053-1fc7a80a74f7
STATUS:CONFIRMED
LAST-MODIFIED:20171109T123649Z
DESCRIPTION:3ème ligue Hommes Gr. 3 Phase A\nBegegnungs-Nr: 18\nHeim: ZZ-Lancy X\nGast: Grand-Saconnex\n\nAdresse: Avenue du Curé-Baud 40\, 1212 Grand-Lancy\n
LOCATION:Avenue du Curé-Baud 40\, 1212 Grand-Lancy
CATEGORIES:Saison 2017/18
END:VEVENT
BEGIN:VEVENT
DTSTAMP:20260424T163256Z
DTSTART;TZID=Europe/Berlin:20171206T201500
DTEND;TZID=Europe/Berlin:20171206T231500
SUMMARY:Ligue 3 Gr.3\, Ph.A ZZ-Lancy X vs Silver Star IV (27)
UID:6010be51-5542-5356-e053-1fc7a80a74f7
STATUS:CONFIRMED
LAST-MODIFIED:20171207T134415Z
DESCRIPTION:3ème ligue Hommes Gr. 3 Phase A\nBegegnungs-Nr: 27\nHeim: ZZ-Lancy X\nGast: Silver Star IV\n\nAdresse: Avenue du Curé-Baud 40\, 1212 Grand-Lancy\n
LOCATION:Avenue du Curé-Baud 40\, 1212 Grand-Lancy
CATEGORIES:Saison 2017/18
END:VEVENT
BEGIN:VEVENT
DTSTAMP:20260424T163256Z
DTSTART;TZID=Europe/Berlin:20170927T201500
DTEND;TZID=Europe/Berlin:20170927T231500
SUMMARY:Ligue 3 Gr.3\, Ph.A ZZ-Lancy X vs Bernex (9)
UID:6010be51-5543-5356-e053-1fc7a80a74f7
STATUS:CONFIRMED
LAST-MODIFIED:20170928T181637Z
DESCRIPTION:3ème ligue Hommes Gr. 3 Phase A\nBegegnungs-Nr: 9\nHeim: ZZ-Lancy X\nGast: Bernex\n\nAdresse: Avenue du Curé-Baud 40\, 1212 Grand-Lancy\n
LOCATION:Avenue du Curé-Baud 40\, 1212 Grand-Lancy
CATEGORIES:Saison 2017/18
END:VEVENT
BEGIN:VEVENT
DTSTAMP:20260424T163256Z
DTSTART;TZID=Europe/Berlin:20170920T201500
DTEND;TZID=Europe/Berlin:20170920T231500
SUMMARY:Ligue 3 Gr.3\, Ph.A ZZ-Lancy X vs Veyrier VI (6)
UID:6010be51-5547-5356-e053-1fc7a80a74f7
STATUS:CONFIRMED
LAST-MODIFIED:20170921T131657Z
DESCRIPTION:3ème ligue Hommes Gr. 3 Phase A\nBegegnungs-Nr: 6\nHeim: ZZ-Lancy X\nGast: Veyrier VI\n\nAdresse: Avenue du Curé-Baud 40\, 1212 Grand-Lancy\n
LOCATION:Avenue du Curé-Baud 40\, 1212 Grand-Lancy
CATEGORIES:Saison 2017/18
END:VEVENT
BEGIN:VEVENT
DTSTAMP:20260424T163256Z
DTSTART;TZID=Europe/Berlin:20180228T201500
DTEND;TZID=Europe/Berlin:20180228T231500
SUMMARY:Ligue 3 Gr.3\, Ph.B ZZ-Lancy X vs Versoix VII (14)
UID:c351093e-621a-441c-8a71-35a713572f90
STATUS:CONFIRMED
LAST-MODIFIED:20180301T140013Z
DESCRIPTION:3ème ligue Hommes Gr. 3 Phase B\nBegegnungs-Nr: 14\nHeim: ZZ-Lancy X\nGast: Versoix VII\n\nAdresse: Avenue du Curé-Baud 40\, 1212 Grand-Lancy\n
LOCATION:Avenue du Curé-Baud 40\, 1212 Grand-Lancy
CATEGORIES:Saison 2017/18
END:VEVENT
BEGIN:VEVENT
DTSTAMP:20260424T163256Z
DTSTART;TZID=Europe/Berlin:20180207T201500
DTEND;TZID=Europe/Berlin:20180207T231500
SUMMARY:Ligue 3 Gr.3\, Ph.B ZZ-Lancy X vs Rapid-Genève III (10)
UID:8f8d7051-880c-42ff-bed8-beddeb06b763
STATUS:CONFIRMED
LAST-MODIFIED:20180208T135606Z
DESCRIPTION:3ème ligue Hommes Gr. 3 Phase B\nBegegnungs-Nr: 10\nHeim: ZZ-Lancy X\nGast: Rapid-Genève III\n\nAdresse: Avenue du Curé-Baud 40\, 1212 Grand-Lancy\n
LOCATION:Avenue du Curé-Baud 40\, 1212 Grand-Lancy
CATEGORIES:Saison 2017/18
END:VEVENT
BEGIN:VEVENT
DTSTAMP:20260424T163256Z
DTSTART;TZID=Europe/Berlin:20180110T201500
DTEND;TZID=Europe/Berlin:20180110T231500
SUMMARY:Ligue 3 Gr.3\, Ph.B ZZ-Lancy X vs Carouge V (3)
UID:60f4c7b7-e7ce-47a8-b23a-f86a35adf559
STATUS:CONFIRMED
LAST-MODIFIED:20180111T174208Z
DESCRIPTION:3ème ligue Hommes Gr. 3 Phase B\nBegegnungs-Nr: 3\nHeim: ZZ-Lancy X\nGast: Carouge V\n\nAdresse: Avenue du Curé-Baud 40\, 1212 Grand-Lancy\n
LOCATION:Avenue du Curé-Baud 40\, 1212 Grand-Lancy
CATEGORIES:Saison 2017/18
END:VEVENT
BEGIN:VEVENT
DTSTAMP:20260424T163256Z
DTSTART;TZID=Europe/Berlin:20180321T201500
DTEND;TZID=Europe/Berlin:20180321T231500
SUMMARY:Ligue 3 Gr.3\, Ph.B ZZ-Lancy X vs Meyrin IX (23)
UID:5beb992f-03aa-4723-a13f-748cea1f4d1f
STATUS:CONFIRMED
LAST-MODIFIED:20180322T183308Z
DESCRIPTION:3ème ligue Hommes Gr. 3 Phase B\nBegegnungs-Nr: 23\nHeim: ZZ-Lancy X\nGast: Meyrin IX\n\nAdresse: Avenue du Curé-Baud 40\, 1212 Grand-Lancy\n
LOCATION:Avenue du Curé-Baud 40\, 1212 Grand-Lancy
CATEGORIES:Saison 2017/18
END:VEVENT
BEGIN:VEVENT
DTSTAMP:20260424T163256Z
DTSTART;TZID=Europe/Berlin:20180314T201500
DTEND;TZID=Europe/Berlin:20180314T231500
SUMMARY:Ligue 3 Gr.3\, Ph.B ZZ-Lancy X vs Bernex (19)
UID:1ecc2b88-b1eb-41e0-ad5d-e9b6d19bb542
STATUS:CONFIRMED
LAST-MODIFIED:20180315T125514Z
DESCRIPTION:3ème ligue Hommes Gr. 3 Phase B\nBegegnungs-Nr: 19\nHeim: ZZ-Lancy X\nGast: Bernex\n\nAdresse: Avenue du Curé-Baud 40\, 1212 Grand-Lancy\n
LOCATION:Avenue du Curé-Baud 40\, 1212 Grand-Lancy
CATEGORIES:Saison 2017/18
END:VEVENT
BEGIN:VEVENT
DTSTAMP:20260424T163256Z
DTSTART;TZID=Europe/Berlin:20171129T194500
DTEND;TZID=Europe/Berlin:20171129T224500
SUMMARY:Ligue 3 Gr.3\, Ph.A Bernex vs ZZ-Lancy X (24)
UID:6010be51-53dd-5356-e053-1fc7a80a74f7
STATUS:CONFIRMED
LAST-MODIFIED:20171130T153434Z
DESCRIPTION:3ème ligue Hommes Gr. 3 Phase A\nBegegnungs-Nr: 24\nHeim: Bernex\nGast: ZZ-Lancy X\n\nAdresse: Chemin de Saule 120\, 1233 Bernex\n
LOCATION:Chemin de Saule 120\, 1233 Bernex
CATEGORIES:Saison 2017/18
END:VEVENT
BEGIN:VEVENT
DTSTAMP:20260424T163256Z
DTSTART;TZID=Europe/Berlin:20171115T194500
DTEND;TZID=Europe/Berlin:20171115T224500
SUMMARY:Ligue 3 Gr.3\, Ph.A Veyrier VI vs ZZ-Lancy X (21)
UID:6010be51-5484-5356-e053-1fc7a80a74f7
STATUS:CONFIRMED
LAST-MODIFIED:20171116T125919Z
DESCRIPTION:3ème ligue Hommes Gr. 3 Phase A\nBegegnungs-Nr: 21\nHeim: Veyrier VI\nGast: ZZ-Lancy X\n\nAdresse: -\, 1255 Veyrier\n
LOCATION:-\, 1255 Veyrier
CATEGORIES:Saison 2017/18
END:VEVENT
BEGIN:VEVENT
DTSTAMP:20260424T163256Z
DTSTART;TZID=Europe/Berlin:20170913T194500
DTEND;TZID=Europe/Berlin:20170913T224500
SUMMARY:Ligue 3 Gr.3\, Ph.A Grand-Saconnex vs ZZ-Lancy X (3)
UID:6010be51-5487-5356-e053-1fc7a80a74f7
STATUS:CONFIRMED
LAST-MODIFIED:20170914T114655Z
DESCRIPTION:3ème ligue Hommes Gr. 3 Phase A\nBegegnungs-Nr: 3\nHeim: Grand-Saconnex\nGast: ZZ-Lancy X\n
LOCATION:
CATEGORIES:Saison 2017/18
END:VEVENT
BEGIN:VEVENT
DTSTAMP:20260424T163256Z
DTSTART;TZID=Europe/Berlin:20171011T194500
DTEND;TZID=Europe/Berlin:20171011T224500
SUMMARY:Ligue 3 Gr.3\, Ph.A Silver Star IV vs ZZ-Lancy X (12)
UID:6010be51-5540-5356-e053-1fc7a80a74f7
STATUS:CONFIRMED
LAST-MODIFIED:20171012T113732Z
DESCRIPTION:3ème ligue Hommes Gr. 3 Phase A\nBegegnungs-Nr: 12\nHeim: Silver Star IV\nGast: ZZ-Lancy X\n\nAdresse: Rue de Vermont 33\, 1202 Genève\n
LOCATION:Rue de Vermont 33\, 1202 Genève
CATEGORIES:Saison 2017/18
END:VEVENT
BEGIN:VEVENT
DTSTAMP:20260424T163256Z
DTSTART;TZID=Europe/Berlin:20180131T194500
DTEND;TZID=Europe/Berlin:20180131T224500
SUMMARY:Ligue 3 Gr.3\, Ph.B Meyrin IX vs ZZ-Lancy X (8)
UID:05b3b37c-a21b-4550-b026-99d371e6d49d
STATUS:CONFIRMED
LAST-MODIFIED:20180201T132727Z
DESCRIPTION:3ème ligue Hommes Gr. 3 Phase B\nBegegnungs-Nr: 8\nHeim: Meyrin IX\nGast: ZZ-Lancy X\n
LOCATION:
CATEGORIES:Saison 2017/18
END:VEVENT
BEGIN:VEVENT
DTSTAMP:20260424T163256Z
DTSTART;TZID=Europe/Berlin:20171018T194500
DTEND;TZID=Europe/Berlin:20171018T224500
SUMMARY:Ligue 3 Gr.3\, Ph.A Meyrin V vs ZZ-Lancy X (15)
UID:6010be51-5831-5356-e053-1fc7a80a74f7
STATUS:CONFIRMED
LAST-MODIFIED:20171019T115234Z
DESCRIPTION:3ème ligue Hommes Gr. 3 Phase A\nBegegnungs-Nr: 15\nHeim: Meyrin V\nGast: ZZ-Lancy X\n
LOCATION:
CATEGORIES:Saison 2017/18
END:VEVENT
BEGIN:VEVENT
DTSTAMP:20260424T163256Z
DTSTART;TZID=Europe/Berlin:20180117T194500
DTEND;TZID=Europe/Berlin:20180117T224500
SUMMARY:Ligue 3 Gr.3\, Ph.B Bernex vs ZZ-Lancy X (4)
UID:6a66e12c-10fa-4e89-94a7-d07895cc78f6
STATUS:CONFIRMED
LAST-MODIFIED:20180119T084614Z
DESCRIPTION:3ème ligue Hommes Gr. 3 Phase B\nBegegnungs-Nr: 4\nHeim: Bernex\nGast: ZZ-Lancy X\n\nAdresse: Chemin de Saule 120\, 1233 Bernex\n
LOCATION:Chemin de Saule 120\, 1233 Bernex
CATEGORIES:Saison 2017/18
END:VEVENT
BEGIN:VEVENT
DTSTAMP:20260424T163256Z
DTSTART;TZID=Europe/Berlin:20180418T194500
DTEND;TZID=Europe/Berlin:20180418T224500
SUMMARY:Ligue 3 Gr.3\, Ph.B Versoix VII vs ZZ-Lancy X (29)
UID:0abba630-de60-4191-b893-f33ee4728bc2
STATUS:CONFIRMED
LAST-MODIFIED:20180419T120434Z
DESCRIPTION:3ème ligue Hommes Gr. 3 Phase B\nBegegnungs-Nr: 29\nHeim: Versoix VII\nGast: ZZ-Lancy X\n
LOCATION:
CATEGORIES:Saison 2017/18
END:VEVENT
BEGIN:VEVENT
DTSTAMP:20260424T163256Z
DTSTART;TZID=Europe/Berlin:20180411T194500
DTEND;TZID=Europe/Berlin:20180411T224500
SUMMARY:Ligue 3 Gr.3\, Ph.B Rapid-Genève III vs ZZ-Lancy X (25)
UID:af31bead-d95c-434a-b275-05e1a101fa5f
STATUS:CONFIRMED
LAST-MODIFIED:20180412T121018Z
DESCRIPTION:3ème ligue Hommes Gr. 3 Phase B\nBegegnungs-Nr: 25\nHeim: Rapid-Genève III\nGast: ZZ-Lancy X\n
LOCATION:
CATEGORIES:Saison 2017/18
END:VEVENT
BEGIN:VEVENT
DTSTAMP:20260424T163256Z
DTSTART;TZID=Europe/Berlin:20180307T194500
DTEND;TZID=Europe/Berlin:20180307T224500
SUMMARY:Ligue 3 Gr.3\, Ph.B Carouge V vs ZZ-Lancy X (18)
UID:dc760af1-42f1-4995-85f7-9809418f7d77
STATUS:CONFIRMED
LAST-MODIFIED:20180308T155331Z
DESCRIPTION:3ème ligue Hommes Gr. 3 Phase B\nBegegnungs-Nr: 18\nHeim: Carouge V\nGast: ZZ-Lancy X\n
LOCATION:
CATEGORIES:Saison 2017/18
END:VEVENT
END:VCALENDAR
