BEGIN:VCALENDAR
PRODID:-//nuDatenautomaten//framework iCal4j //DE
VERSION:2.0
CALSCALE:GREGORIAN
BEGIN:VTIMEZONE
TZID:Europe/Berlin
LAST-MODIFIED:20260306T231828Z
TZURL:https://www.tzurl.org/zoneinfo/Europe/Berlin
X-LIC-LOCATION:Europe/Berlin
X-PROLEPTIC-TZNAME:LMT
BEGIN:STANDARD
TZNAME:CET
TZOFFSETFROM:+005328
TZOFFSETTO:+0100
DTSTART:18930401T000000
END:STANDARD
BEGIN:DAYLIGHT
TZNAME:CEST
TZOFFSETFROM:+0100
TZOFFSETTO:+0200
DTSTART:19160430T230000
RDATE:19400401T020000
RDATE:19430329T020000
RDATE:19460414T020000
RDATE:19470406T030000
RDATE:19480418T020000
RDATE:19490410T020000
RDATE:19800406T020000
END:DAYLIGHT
BEGIN:STANDARD
TZNAME:CET
TZOFFSETFROM:+0200
TZOFFSETTO:+0100
DTSTART:19161001T010000
RDATE:19421102T030000
RDATE:19431004T030000
RDATE:19441002T030000
RDATE:19451118T030000
RDATE:19461007T030000
END:STANDARD
BEGIN:DAYLIGHT
TZNAME:CEST
TZOFFSETFROM:+0100
TZOFFSETTO:+0200
DTSTART:19170416T020000
RRULE:FREQ=YEARLY;UNTIL=19180415T010000Z;BYMONTH=4;BYDAY=3MO
END:DAYLIGHT
BEGIN:STANDARD
TZNAME:CET
TZOFFSETFROM:+0200
TZOFFSETTO:+0100
DTSTART:19170917T030000
RRULE:FREQ=YEARLY;UNTIL=19180916T010000Z;BYMONTH=9;BYDAY=3MO
END:STANDARD
BEGIN:DAYLIGHT
TZNAME:CEST
TZOFFSETFROM:+0100
TZOFFSETTO:+0200
DTSTART:19440403T020000
RRULE:FREQ=YEARLY;UNTIL=19450402T010000Z;BYMONTH=4;BYDAY=1MO
END:DAYLIGHT
BEGIN:DAYLIGHT
TZNAME:CEMT
TZOFFSETFROM:+0200
TZOFFSETTO:+0300
DTSTART:19450524T020000
RDATE:19470511T030000
END:DAYLIGHT
BEGIN:DAYLIGHT
TZNAME:CEST
TZOFFSETFROM:+0300
TZOFFSETTO:+0200
DTSTART:19450924T030000
RDATE:19470629T030000
END:DAYLIGHT
BEGIN:STANDARD
TZNAME:CET
TZOFFSETFROM:+0100
TZOFFSETTO:+0100
DTSTART:19460101T000000
RDATE:19800101T000000
END:STANDARD
BEGIN:STANDARD
TZNAME:CET
TZOFFSETFROM:+0200
TZOFFSETTO:+0100
DTSTART:19471005T030000
RRULE:FREQ=YEARLY;UNTIL=19491002T010000Z;BYMONTH=10;BYDAY=1SU
END:STANDARD
BEGIN:STANDARD
TZNAME:CET
TZOFFSETFROM:+0200
TZOFFSETTO:+0100
DTSTART:19800928T030000
RRULE:FREQ=YEARLY;UNTIL=19950924T010000Z;BYMONTH=9;BYDAY=-1SU
END:STANDARD
BEGIN:DAYLIGHT
TZNAME:CEST
TZOFFSETFROM:+0100
TZOFFSETTO:+0200
DTSTART:19810329T020000
RRULE:FREQ=YEARLY;BYMONTH=3;BYDAY=-1SU
END:DAYLIGHT
BEGIN:STANDARD
TZNAME:CET
TZOFFSETFROM:+0200
TZOFFSETTO:+0100
DTSTART:19961027T030000
RRULE:FREQ=YEARLY;BYMONTH=10;BYDAY=-1SU
END:STANDARD
END:VTIMEZONE
BEGIN:VEVENT
DTSTAMP:20260424T194216Z
DTSTART;TZID=Europe/Berlin:20170914T200000
DTEND;TZID=Europe/Berlin:20170914T230000
SUMMARY:HE 2. Liga Gr. 1 Köniz vs Münsingen (14)
UID:6010be51-3cc1-5356-e053-1fc7a80a74f7
STATUS:CONFIRMED
LAST-MODIFIED:20170915T162730Z
DESCRIPTION:2. Liga Herren Gruppe 1\nBegegnungs-Nr: 14\nHeim: Köniz\nGast: Münsingen\n\nAdresse: Kirchstrasse 72-76\, 3084 Wabern\n
LOCATION:Kirchstrasse 72-76\, 3084 Wabern
CATEGORIES:Saison 2017/18
END:VEVENT
BEGIN:VEVENT
DTSTAMP:20260424T194216Z
DTSTART;TZID=Europe/Berlin:20180405T200000
DTEND;TZID=Europe/Berlin:20180405T230000
SUMMARY:HE 2. Liga Gr. 1 Köniz vs Steffisburg (42)
UID:6010be51-3cc6-5356-e053-1fc7a80a74f7
STATUS:CONFIRMED
LAST-MODIFIED:20180406T140910Z
DESCRIPTION:2. Liga Herren Gruppe 1\nBegegnungs-Nr: 42\nHeim: Köniz\nGast: Steffisburg\n\nAdresse: Kirchstrasse 72-76\, 3084 Wabern\n
LOCATION:Kirchstrasse 72-76\, 3084 Wabern
CATEGORIES:Saison 2017/18
END:VEVENT
BEGIN:VEVENT
DTSTAMP:20260424T194216Z
DTSTART;TZID=Europe/Berlin:20180201T200000
DTEND;TZID=Europe/Berlin:20180201T230000
SUMMARY:HE 2. Liga Gr. 1 Köniz vs Solothurn III (19)
UID:6010be51-3d09-5356-e053-1fc7a80a74f7
STATUS:CONFIRMED
LAST-MODIFIED:20180203T135938Z
DESCRIPTION:2. Liga Herren Gruppe 1\nBegegnungs-Nr: 19\nHeim: Köniz\nGast: Solothurn III\n\nAdresse: Kirchstrasse 72-76\, 3084 Wabern\n
LOCATION:Kirchstrasse 72-76\, 3084 Wabern
CATEGORIES:Saison 2017/18
END:VEVENT
BEGIN:VEVENT
DTSTAMP:20260424T194216Z
DTSTART;TZID=Europe/Berlin:20180115T200000
DTEND;TZID=Europe/Berlin:20180115T230000
SUMMARY:HE 2. Liga Gr. 1 Köniz vs Düdingen (9)
UID:6010be51-3d3d-5356-e053-1fc7a80a74f7
STATUS:CONFIRMED
LAST-MODIFIED:20180116T165014Z
DESCRIPTION:2. Liga Herren Gruppe 1\nBegegnungs-Nr: 9\nHeim: Köniz\nGast: Düdingen\n\nAdresse: Kirchstrasse 72-76\, 3084 Wabern\n
LOCATION:Kirchstrasse 72-76\, 3084 Wabern
CATEGORIES:Saison 2017/18
END:VEVENT
BEGIN:VEVENT
DTSTAMP:20260424T194216Z
DTSTART;TZID=Europe/Berlin:20180322T200000
DTEND;TZID=Europe/Berlin:20180322T230000
SUMMARY:HE 2. Liga Gr. 1 Köniz vs Ittigen (38)
UID:6010be51-3cc9-5356-e053-1fc7a80a74f7
STATUS:CONFIRMED
LAST-MODIFIED:20180323T171401Z
DESCRIPTION:2. Liga Herren Gruppe 1\nBegegnungs-Nr: 38\nHeim: Köniz\nGast: Ittigen\n\nAdresse: Kirchstrasse 72-76\, 3084 Wabern\n
LOCATION:Kirchstrasse 72-76\, 3084 Wabern
CATEGORIES:Saison 2017/18
END:VEVENT
BEGIN:VEVENT
DTSTAMP:20260424T194216Z
DTSTART;TZID=Europe/Berlin:20180212T200000
DTEND;TZID=Europe/Berlin:20180212T230000
SUMMARY:HE 2. Liga Gr. 1 Köniz vs Heimberg (21)
UID:6010be51-3d07-5356-e053-1fc7a80a74f7
STATUS:CONFIRMED
LAST-MODIFIED:20180213T182543Z
DESCRIPTION:2. Liga Herren Gruppe 1\nBegegnungs-Nr: 21\nHeim: Köniz\nGast: Heimberg\n\nAdresse: Kirchstrasse 72-76\, 3084 Wabern\n
LOCATION:Kirchstrasse 72-76\, 3084 Wabern
CATEGORIES:Saison 2017/18
END:VEVENT
BEGIN:VEVENT
DTSTAMP:20260424T194216Z
DTSTART;TZID=Europe/Berlin:20170821T000000
DTEND;TZID=Europe/Berlin:20170821T030000
SUMMARY:HE 2. Liga Gr. 1 Köniz vs Thun III (4)
UID:6010be51-4db3-5356-e053-1fc7a80a74f7
STATUS:CONFIRMED
LAST-MODIFIED:20170820T112053Z
DESCRIPTION:2. Liga Herren Gruppe 1\nBegegnungs-Nr: 4\nHeim: Köniz\nGast: Thun III\n
LOCATION:
CATEGORIES:Saison 2017/18
END:VEVENT
BEGIN:VEVENT
DTSTAMP:20260424T194216Z
DTSTART;TZID=Europe/Berlin:20171116T200000
DTEND;TZID=Europe/Berlin:20171116T230000
SUMMARY:HE 2. Liga Gr. 1 Köniz vs Burgdorf II (33)
UID:6010be51-599b-5356-e053-1fc7a80a74f7
STATUS:CONFIRMED
LAST-MODIFIED:20171118T122913Z
DESCRIPTION:2. Liga Herren Gruppe 1\nBegegnungs-Nr: 33\nHeim: Köniz\nGast: Burgdorf II\n\nAdresse: Kirchstrasse 72-76\, 3084 Wabern\n
LOCATION:Kirchstrasse 72-76\, 3084 Wabern
CATEGORIES:Saison 2017/18
END:VEVENT
BEGIN:VEVENT
DTSTAMP:20260424T194216Z
DTSTART;TZID=Europe/Berlin:20171102T200000
DTEND;TZID=Europe/Berlin:20171102T230000
SUMMARY:HE 2. Liga Gr. 1 Köniz vs Belp II (27)
UID:6010be51-5bb4-5356-e053-1fc7a80a74f7
STATUS:CONFIRMED
LAST-MODIFIED:20171104T172359Z
DESCRIPTION:2. Liga Herren Gruppe 1\nBegegnungs-Nr: 27\nHeim: Köniz\nGast: Belp II\n\nAdresse: Kirchstrasse 72-76\, 3084 Wabern\n
LOCATION:Kirchstrasse 72-76\, 3084 Wabern
CATEGORIES:Saison 2017/18
END:VEVENT
BEGIN:VEVENT
DTSTAMP:20260424T194216Z
DTSTART;TZID=Europe/Berlin:20170907T194500
DTEND;TZID=Europe/Berlin:20170907T224500
SUMMARY:HE 2. Liga Gr. 1 Düdingen vs Köniz (9)
UID:6010be51-3c4b-5356-e053-1fc7a80a74f7
STATUS:CONFIRMED
LAST-MODIFIED:20170908T144631Z
DESCRIPTION:2. Liga Herren Gruppe 1\nBegegnungs-Nr: 9\nHeim: Düdingen\nGast: Köniz\n\nAdresse: Alfons-Aeby-Strasse\, 3186 Düdingen\n
LOCATION:Alfons-Aeby-Strasse\, 3186 Düdingen
CATEGORIES:Saison 2017/18
END:VEVENT
BEGIN:VEVENT
DTSTAMP:20260424T194216Z
DTSTART;TZID=Europe/Berlin:20171120T194500
DTEND;TZID=Europe/Berlin:20171120T224500
SUMMARY:HE 2. Liga Gr. 1 Ittigen vs Köniz (38)
UID:6010be51-3c55-5356-e053-1fc7a80a74f7
STATUS:CONFIRMED
LAST-MODIFIED:20171122T151443Z
DESCRIPTION:2. Liga Herren Gruppe 1\nBegegnungs-Nr: 38\nHeim: Ittigen\nGast: Köniz\n\nAdresse: Fischrainweg 17\, 3048 Worblaufen\n
LOCATION:Fischrainweg 17\, 3048 Worblaufen
CATEGORIES:Saison 2017/18
END:VEVENT
BEGIN:VEVENT
DTSTAMP:20260424T194216Z
DTSTART;TZID=Europe/Berlin:20171026T194500
DTEND;TZID=Europe/Berlin:20171026T224500
SUMMARY:HE 2. Liga Gr. 1 Heimberg vs Köniz (21)
UID:6010be51-3c8c-5356-e053-1fc7a80a74f7
STATUS:CONFIRMED
LAST-MODIFIED:20171028T123346Z
DESCRIPTION:2. Liga Herren Gruppe 1\nBegegnungs-Nr: 21\nHeim: Heimberg\nGast: Köniz\n\nAdresse: Niesenstrasse 38\, 3627 Heimberg\n
LOCATION:Niesenstrasse 38\, 3627 Heimberg
CATEGORIES:Saison 2017/18
END:VEVENT
BEGIN:VEVENT
DTSTAMP:20260424T194216Z
DTSTART;TZID=Europe/Berlin:20171011T194500
DTEND;TZID=Europe/Berlin:20171011T224500
SUMMARY:HE 2. Liga Gr. 1 Solothurn III vs Köniz (19)
UID:6010be51-3cbd-5356-e053-1fc7a80a74f7
STATUS:CONFIRMED
LAST-MODIFIED:20171013T203545Z
DESCRIPTION:2. Liga Herren Gruppe 1\nBegegnungs-Nr: 19\nHeim: Solothurn III\nGast: Köniz\n\nAdresse: Untere Sternengasse 24\, 4500 Solothurn\n
LOCATION:Untere Sternengasse 24\, 4500 Solothurn
CATEGORIES:Saison 2017/18
END:VEVENT
BEGIN:VEVENT
DTSTAMP:20260424T194216Z
DTSTART;TZID=Europe/Berlin:20180310T160000
DTEND;TZID=Europe/Berlin:20180310T190000
SUMMARY:HE 2. Liga Gr. 1 Burgdorf II vs Köniz (33)
UID:6010be51-3cfb-5356-e053-1fc7a80a74f7
STATUS:CONFIRMED
LAST-MODIFIED:20180311T095209Z
DESCRIPTION:2. Liga Herren Gruppe 1\nBegegnungs-Nr: 33\nHeim: Burgdorf II\nGast: Köniz\n\nAdresse: Pestalozzistrasse 69\, 3400 Burgdorf\n
LOCATION:Pestalozzistrasse 69\, 3400 Burgdorf
CATEGORIES:Saison 2017/18
END:VEVENT
BEGIN:VEVENT
DTSTAMP:20260424T194216Z
DTSTART;TZID=Europe/Berlin:20180302T193000
DTEND;TZID=Europe/Berlin:20180302T223000
SUMMARY:HE 2. Liga Gr. 1 Belp II vs Köniz (27)
UID:6010be51-3d00-5356-e053-1fc7a80a74f7
STATUS:CONFIRMED
LAST-MODIFIED:20180303T101146Z
DESCRIPTION:2. Liga Herren Gruppe 1\nBegegnungs-Nr: 27\nHeim: Belp II\nGast: Köniz\n\nAdresse: Neumattstrasse 39\, 3123 Belp\n
LOCATION:Neumattstrasse 39\, 3123 Belp
CATEGORIES:Saison 2017/18
END:VEVENT
BEGIN:VEVENT
DTSTAMP:20260424T194216Z
DTSTART;TZID=Europe/Berlin:20180124T200000
DTEND;TZID=Europe/Berlin:20180124T230000
SUMMARY:HE 2. Liga Gr. 1 Münsingen vs Köniz (14)
UID:6010be51-3d39-5356-e053-1fc7a80a74f7
STATUS:CONFIRMED
LAST-MODIFIED:20180125T162002Z
DESCRIPTION:2. Liga Herren Gruppe 1\nBegegnungs-Nr: 14\nHeim: Münsingen\nGast: Köniz\n\nAdresse: Turnhallenweg 8\, 3110 Münsingen\n
LOCATION:Turnhallenweg 8\, 3110 Münsingen
CATEGORIES:Saison 2017/18
END:VEVENT
BEGIN:VEVENT
DTSTAMP:20260424T194216Z
DTSTART;TZID=Europe/Berlin:20171211T000000
DTEND;TZID=Europe/Berlin:20171211T030000
SUMMARY:HE 2. Liga Gr. 1 Thun III vs Köniz (4)
UID:6010be51-3d42-5356-e053-1fc7a80a74f7
STATUS:CONFIRMED
LAST-MODIFIED:20170830T200032Z
DESCRIPTION:2. Liga Herren Gruppe 1\nBegegnungs-Nr: 4\nHeim: Thun III\nGast: Köniz\n
LOCATION:
CATEGORIES:Saison 2017/18
END:VEVENT
BEGIN:VEVENT
DTSTAMP:20260424T194216Z
DTSTART;TZID=Europe/Berlin:20171201T200000
DTEND;TZID=Europe/Berlin:20171201T230000
SUMMARY:HE 2. Liga Gr. 1 Steffisburg vs Köniz (42)
UID:6010be51-58b3-5356-e053-1fc7a80a74f7
STATUS:CONFIRMED
LAST-MODIFIED:20171202T185010Z
DESCRIPTION:2. Liga Herren Gruppe 1\nBegegnungs-Nr: 42\nHeim: Steffisburg\nGast: Köniz\n\nAdresse: Sonnenfeldstrasse 10\, 3613 Steffisburg\n
LOCATION:Sonnenfeldstrasse 10\, 3613 Steffisburg
CATEGORIES:Saison 2017/18
END:VEVENT
END:VCALENDAR
