BEGIN:VCALENDAR
PRODID:-//nuDatenautomaten//framework iCal4j //DE
VERSION:2.0
CALSCALE:GREGORIAN
BEGIN:VTIMEZONE
TZID:Europe/Berlin
LAST-MODIFIED:20260306T231828Z
TZURL:https://www.tzurl.org/zoneinfo/Europe/Berlin
X-LIC-LOCATION:Europe/Berlin
X-PROLEPTIC-TZNAME:LMT
BEGIN:STANDARD
TZNAME:CET
TZOFFSETFROM:+005328
TZOFFSETTO:+0100
DTSTART:18930401T000000
END:STANDARD
BEGIN:DAYLIGHT
TZNAME:CEST
TZOFFSETFROM:+0100
TZOFFSETTO:+0200
DTSTART:19160430T230000
RDATE:19400401T020000
RDATE:19430329T020000
RDATE:19460414T020000
RDATE:19470406T030000
RDATE:19480418T020000
RDATE:19490410T020000
RDATE:19800406T020000
END:DAYLIGHT
BEGIN:STANDARD
TZNAME:CET
TZOFFSETFROM:+0200
TZOFFSETTO:+0100
DTSTART:19161001T010000
RDATE:19421102T030000
RDATE:19431004T030000
RDATE:19441002T030000
RDATE:19451118T030000
RDATE:19461007T030000
END:STANDARD
BEGIN:DAYLIGHT
TZNAME:CEST
TZOFFSETFROM:+0100
TZOFFSETTO:+0200
DTSTART:19170416T020000
RRULE:FREQ=YEARLY;UNTIL=19180415T010000Z;BYMONTH=4;BYDAY=3MO
END:DAYLIGHT
BEGIN:STANDARD
TZNAME:CET
TZOFFSETFROM:+0200
TZOFFSETTO:+0100
DTSTART:19170917T030000
RRULE:FREQ=YEARLY;UNTIL=19180916T010000Z;BYMONTH=9;BYDAY=3MO
END:STANDARD
BEGIN:DAYLIGHT
TZNAME:CEST
TZOFFSETFROM:+0100
TZOFFSETTO:+0200
DTSTART:19440403T020000
RRULE:FREQ=YEARLY;UNTIL=19450402T010000Z;BYMONTH=4;BYDAY=1MO
END:DAYLIGHT
BEGIN:DAYLIGHT
TZNAME:CEMT
TZOFFSETFROM:+0200
TZOFFSETTO:+0300
DTSTART:19450524T020000
RDATE:19470511T030000
END:DAYLIGHT
BEGIN:DAYLIGHT
TZNAME:CEST
TZOFFSETFROM:+0300
TZOFFSETTO:+0200
DTSTART:19450924T030000
RDATE:19470629T030000
END:DAYLIGHT
BEGIN:STANDARD
TZNAME:CET
TZOFFSETFROM:+0100
TZOFFSETTO:+0100
DTSTART:19460101T000000
RDATE:19800101T000000
END:STANDARD
BEGIN:STANDARD
TZNAME:CET
TZOFFSETFROM:+0200
TZOFFSETTO:+0100
DTSTART:19471005T030000
RRULE:FREQ=YEARLY;UNTIL=19491002T010000Z;BYMONTH=10;BYDAY=1SU
END:STANDARD
BEGIN:STANDARD
TZNAME:CET
TZOFFSETFROM:+0200
TZOFFSETTO:+0100
DTSTART:19800928T030000
RRULE:FREQ=YEARLY;UNTIL=19950924T010000Z;BYMONTH=9;BYDAY=-1SU
END:STANDARD
BEGIN:DAYLIGHT
TZNAME:CEST
TZOFFSETFROM:+0100
TZOFFSETTO:+0200
DTSTART:19810329T020000
RRULE:FREQ=YEARLY;BYMONTH=3;BYDAY=-1SU
END:DAYLIGHT
BEGIN:STANDARD
TZNAME:CET
TZOFFSETFROM:+0200
TZOFFSETTO:+0100
DTSTART:19961027T030000
RRULE:FREQ=YEARLY;BYMONTH=10;BYDAY=-1SU
END:STANDARD
END:VTIMEZONE
BEGIN:VEVENT
DTSTAMP:20260424T181714Z
DTSTART;TZID=Europe/Berlin:20170919T200000
DTEND;TZID=Europe/Berlin:20170919T230000
SUMMARY:HE 2. Liga Gr. 1 Steffisburg vs Düdingen (3)
UID:6010be51-3c4f-5356-e053-1fc7a80a74f7
STATUS:CONFIRMED
LAST-MODIFIED:20170921T163627Z
DESCRIPTION:2. Liga Herren Gruppe 1\nBegegnungs-Nr: 3\nHeim: Steffisburg\nGast: Düdingen\n\nAdresse: Sonnenfeldstrasse 10\, 3613 Steffisburg\n
LOCATION:Sonnenfeldstrasse 10\, 3613 Steffisburg
CATEGORIES:Saison 2017/18
END:VEVENT
BEGIN:VEVENT
DTSTAMP:20260424T181714Z
DTSTART;TZID=Europe/Berlin:20171124T200000
DTEND;TZID=Europe/Berlin:20171124T230000
SUMMARY:HE 2. Liga Gr. 1 Steffisburg vs Heimberg (36)
UID:6010be51-3c80-5356-e053-1fc7a80a74f7
STATUS:CONFIRMED
LAST-MODIFIED:20171125T062749Z
DESCRIPTION:2. Liga Herren Gruppe 1\nBegegnungs-Nr: 36\nHeim: Steffisburg\nGast: Heimberg\n\nAdresse: Sonnenfeldstrasse 10\, 3613 Steffisburg\n
LOCATION:Sonnenfeldstrasse 10\, 3613 Steffisburg
CATEGORIES:Saison 2017/18
END:VEVENT
BEGIN:VEVENT
DTSTAMP:20260424T181714Z
DTSTART;TZID=Europe/Berlin:20170922T200000
DTEND;TZID=Europe/Berlin:20170922T230000
SUMMARY:HE 2. Liga Gr. 1 Steffisburg vs Solothurn III (13)
UID:6010be51-3cc2-5356-e053-1fc7a80a74f7
STATUS:CONFIRMED
LAST-MODIFIED:20170923T091819Z
DESCRIPTION:2. Liga Herren Gruppe 1\nBegegnungs-Nr: 13\nHeim: Steffisburg\nGast: Solothurn III\n\nAdresse: Sonnenfeldstrasse 10\, 3613 Steffisburg\n
LOCATION:Sonnenfeldstrasse 10\, 3613 Steffisburg
CATEGORIES:Saison 2017/18
END:VEVENT
BEGIN:VEVENT
DTSTAMP:20260424T181714Z
DTSTART;TZID=Europe/Berlin:20180309T200000
DTEND;TZID=Europe/Berlin:20180309T230000
SUMMARY:HE 2. Liga Gr. 1 Steffisburg vs Belp II (32)
UID:6010be51-3cfc-5356-e053-1fc7a80a74f7
STATUS:CONFIRMED
LAST-MODIFIED:20180310T184659Z
DESCRIPTION:2. Liga Herren Gruppe 1\nBegegnungs-Nr: 32\nHeim: Steffisburg\nGast: Belp II\n\nAdresse: Sonnenfeldstrasse 10\, 3613 Steffisburg\n
LOCATION:Sonnenfeldstrasse 10\, 3613 Steffisburg
CATEGORIES:Saison 2017/18
END:VEVENT
BEGIN:VEVENT
DTSTAMP:20260424T181714Z
DTSTART;TZID=Europe/Berlin:20180202T200000
DTEND;TZID=Europe/Berlin:20180202T230000
SUMMARY:HE 2. Liga Gr. 1 Steffisburg vs Ittigen (18)
UID:6010be51-3d0a-5356-e053-1fc7a80a74f7
STATUS:CONFIRMED
LAST-MODIFIED:20180204T180144Z
DESCRIPTION:2. Liga Herren Gruppe 1\nBegegnungs-Nr: 18\nHeim: Steffisburg\nGast: Ittigen\n\nAdresse: Sonnenfeldstrasse 10\, 3613 Steffisburg\n
LOCATION:Sonnenfeldstrasse 10\, 3613 Steffisburg
CATEGORIES:Saison 2017/18
END:VEVENT
BEGIN:VEVENT
DTSTAMP:20260424T181714Z
DTSTART;TZID=Europe/Berlin:20180112T200000
DTEND;TZID=Europe/Berlin:20180112T230000
SUMMARY:HE 2. Liga Gr. 1 Steffisburg vs Münsingen (8)
UID:6010be51-3d3e-5356-e053-1fc7a80a74f7
STATUS:CONFIRMED
LAST-MODIFIED:20180114T180459Z
DESCRIPTION:2. Liga Herren Gruppe 1\nBegegnungs-Nr: 8\nHeim: Steffisburg\nGast: Münsingen\n\nAdresse: Sonnenfeldstrasse 10\, 3613 Steffisburg\n
LOCATION:Sonnenfeldstrasse 10\, 3613 Steffisburg
CATEGORIES:Saison 2017/18
END:VEVENT
BEGIN:VEVENT
DTSTAMP:20260424T181714Z
DTSTART;TZID=Europe/Berlin:20180226T000000
DTEND;TZID=Europe/Berlin:20180226T030000
SUMMARY:HE 2. Liga Gr. 1 Steffisburg vs Thun III (28)
UID:6010be51-512f-5356-e053-1fc7a80a74f7
STATUS:CONFIRMED
LAST-MODIFIED:20170830T200234Z
DESCRIPTION:2. Liga Herren Gruppe 1\nBegegnungs-Nr: 28\nHeim: Steffisburg\nGast: Thun III\n
LOCATION:
CATEGORIES:Saison 2017/18
END:VEVENT
BEGIN:VEVENT
DTSTAMP:20260424T181714Z
DTSTART;TZID=Europe/Berlin:20171201T200000
DTEND;TZID=Europe/Berlin:20171201T230000
SUMMARY:HE 2. Liga Gr. 1 Steffisburg vs Köniz (42)
UID:6010be51-58b3-5356-e053-1fc7a80a74f7
STATUS:CONFIRMED
LAST-MODIFIED:20171202T185010Z
DESCRIPTION:2. Liga Herren Gruppe 1\nBegegnungs-Nr: 42\nHeim: Steffisburg\nGast: Köniz\n\nAdresse: Sonnenfeldstrasse 10\, 3613 Steffisburg\n
LOCATION:Sonnenfeldstrasse 10\, 3613 Steffisburg
CATEGORIES:Saison 2017/18
END:VEVENT
BEGIN:VEVENT
DTSTAMP:20260424T181714Z
DTSTART;TZID=Europe/Berlin:20171020T200000
DTEND;TZID=Europe/Berlin:20171020T230000
SUMMARY:HE 2. Liga Gr. 1 Steffisburg vs Burgdorf II (23)
UID:6010be51-5acf-5356-e053-1fc7a80a74f7
STATUS:CONFIRMED
LAST-MODIFIED:20171021T094209Z
DESCRIPTION:2. Liga Herren Gruppe 1\nBegegnungs-Nr: 23\nHeim: Steffisburg\nGast: Burgdorf II\n\nAdresse: Sonnenfeldstrasse 10\, 3613 Steffisburg\n
LOCATION:Sonnenfeldstrasse 10\, 3613 Steffisburg
CATEGORIES:Saison 2017/18
END:VEVENT
BEGIN:VEVENT
DTSTAMP:20260424T181714Z
DTSTART;TZID=Europe/Berlin:20170927T200000
DTEND;TZID=Europe/Berlin:20170927T230000
SUMMARY:HE 2. Liga Gr. 1 Münsingen vs Steffisburg (8)
UID:6010be51-3c4c-5356-e053-1fc7a80a74f7
STATUS:CONFIRMED
LAST-MODIFIED:20170929T153627Z
DESCRIPTION:2. Liga Herren Gruppe 1\nBegegnungs-Nr: 8\nHeim: Münsingen\nGast: Steffisburg\n\nAdresse: Turnhallenweg 8\, 3110 Münsingen\n
LOCATION:Turnhallenweg 8\, 3110 Münsingen
CATEGORIES:Saison 2017/18
END:VEVENT
BEGIN:VEVENT
DTSTAMP:20260424T181714Z
DTSTART;TZID=Europe/Berlin:20171030T000000
DTEND;TZID=Europe/Berlin:20171030T030000
SUMMARY:HE 2. Liga Gr. 1 Thun III vs Steffisburg (28)
UID:6010be51-3c87-5356-e053-1fc7a80a74f7
STATUS:CONFIRMED
LAST-MODIFIED:20170830T195839Z
DESCRIPTION:2. Liga Herren Gruppe 1\nBegegnungs-Nr: 28\nHeim: Thun III\nGast: Steffisburg\n
LOCATION:
CATEGORIES:Saison 2017/18
END:VEVENT
BEGIN:VEVENT
DTSTAMP:20260424T181714Z
DTSTART;TZID=Europe/Berlin:20180405T200000
DTEND;TZID=Europe/Berlin:20180405T230000
SUMMARY:HE 2. Liga Gr. 1 Köniz vs Steffisburg (42)
UID:6010be51-3cc6-5356-e053-1fc7a80a74f7
STATUS:CONFIRMED
LAST-MODIFIED:20180406T140910Z
DESCRIPTION:2. Liga Herren Gruppe 1\nBegegnungs-Nr: 42\nHeim: Köniz\nGast: Steffisburg\n\nAdresse: Kirchstrasse 72-76\, 3084 Wabern\n
LOCATION:Kirchstrasse 72-76\, 3084 Wabern
CATEGORIES:Saison 2017/18
END:VEVENT
BEGIN:VEVENT
DTSTAMP:20260424T181714Z
DTSTART;TZID=Europe/Berlin:20180306T194500
DTEND;TZID=Europe/Berlin:20180306T224500
SUMMARY:HE 2. Liga Gr. 1 Heimberg vs Steffisburg (36)
UID:6010be51-3ccb-5356-e053-1fc7a80a74f7
STATUS:CONFIRMED
LAST-MODIFIED:20180308T180414Z
DESCRIPTION:2. Liga Herren Gruppe 1\nBegegnungs-Nr: 36\nHeim: Heimberg\nGast: Steffisburg\n\nAdresse: Niesenstrasse 38\, 3627 Heimberg\n
LOCATION:Niesenstrasse 38\, 3627 Heimberg
CATEGORIES:Saison 2017/18
END:VEVENT
BEGIN:VEVENT
DTSTAMP:20260424T181714Z
DTSTART;TZID=Europe/Berlin:20180210T160000
DTEND;TZID=Europe/Berlin:20180210T190000
SUMMARY:HE 2. Liga Gr. 1 Burgdorf II vs Steffisburg (23)
UID:6010be51-3d05-5356-e053-1fc7a80a74f7
STATUS:CONFIRMED
LAST-MODIFIED:20180212T183529Z
DESCRIPTION:2. Liga Herren Gruppe 1\nBegegnungs-Nr: 23\nHeim: Burgdorf II\nGast: Steffisburg\n\nAdresse: Pestalozzistrasse 69\, 3400 Burgdorf\n
LOCATION:Pestalozzistrasse 69\, 3400 Burgdorf
CATEGORIES:Saison 2017/18
END:VEVENT
BEGIN:VEVENT
DTSTAMP:20260424T181714Z
DTSTART;TZID=Europe/Berlin:20180124T194500
DTEND;TZID=Europe/Berlin:20180124T224500
SUMMARY:HE 2. Liga Gr. 1 Solothurn III vs Steffisburg (13)
UID:6010be51-53c1-5356-e053-1fc7a80a74f7
STATUS:CONFIRMED
LAST-MODIFIED:20180125T161945Z
DESCRIPTION:2. Liga Herren Gruppe 1\nBegegnungs-Nr: 13\nHeim: Solothurn III\nGast: Steffisburg\n\nAdresse: Untere Sternengasse 24\, 4500 Solothurn\n
LOCATION:Untere Sternengasse 24\, 4500 Solothurn
CATEGORIES:Saison 2017/18
END:VEVENT
BEGIN:VEVENT
DTSTAMP:20260424T181714Z
DTSTART;TZID=Europe/Berlin:20171110T193000
DTEND;TZID=Europe/Berlin:20171110T223000
SUMMARY:HE 2. Liga Gr. 1 Belp II vs Steffisburg (32)
UID:6010be51-4a9e-5356-e053-1fc7a80a74f7
STATUS:CONFIRMED
LAST-MODIFIED:20171112T033714Z
DESCRIPTION:2. Liga Herren Gruppe 1\nBegegnungs-Nr: 32\nHeim: Belp II\nGast: Steffisburg\n\nAdresse: Neumattstrasse 39\, 3123 Belp\n
LOCATION:Neumattstrasse 39\, 3123 Belp
CATEGORIES:Saison 2017/18
END:VEVENT
BEGIN:VEVENT
DTSTAMP:20260424T181714Z
DTSTART;TZID=Europe/Berlin:20171218T194500
DTEND;TZID=Europe/Berlin:20171218T224500
SUMMARY:HE 2. Liga Gr. 1 Düdingen vs Steffisburg (3)
UID:6010be51-50f3-5356-e053-1fc7a80a74f7
STATUS:CONFIRMED
LAST-MODIFIED:20171219T101302Z
DESCRIPTION:2. Liga Herren Gruppe 1\nBegegnungs-Nr: 3\nHeim: Düdingen\nGast: Steffisburg\n\nAdresse: Alfons-Aeby-Strasse\, 3186 Düdingen\n
LOCATION:Alfons-Aeby-Strasse\, 3186 Düdingen
CATEGORIES:Saison 2017/18
END:VEVENT
BEGIN:VEVENT
DTSTAMP:20260424T181714Z
DTSTART;TZID=Europe/Berlin:20171023T194500
DTEND;TZID=Europe/Berlin:20171023T224500
SUMMARY:HE 2. Liga Gr. 1 Ittigen vs Steffisburg (18)
UID:6010be51-3cbe-5356-e053-1fc7a80a74f7
STATUS:CONFIRMED
LAST-MODIFIED:20171024T153850Z
DESCRIPTION:2. Liga Herren Gruppe 1\nBegegnungs-Nr: 18\nHeim: Ittigen\nGast: Steffisburg\n\nAdresse: Fischrainweg 17\, 3048 Worblaufen\n
LOCATION:Fischrainweg 17\, 3048 Worblaufen
CATEGORIES:Saison 2017/18
END:VEVENT
END:VCALENDAR
