BEGIN:VCALENDAR
PRODID:-//nuDatenautomaten//framework iCal4j //DE
VERSION:2.0
CALSCALE:GREGORIAN
BEGIN:VTIMEZONE
TZID:Europe/Berlin
LAST-MODIFIED:20260306T231828Z
TZURL:https://www.tzurl.org/zoneinfo/Europe/Berlin
X-LIC-LOCATION:Europe/Berlin
X-PROLEPTIC-TZNAME:LMT
BEGIN:STANDARD
TZNAME:CET
TZOFFSETFROM:+005328
TZOFFSETTO:+0100
DTSTART:18930401T000000
END:STANDARD
BEGIN:DAYLIGHT
TZNAME:CEST
TZOFFSETFROM:+0100
TZOFFSETTO:+0200
DTSTART:19160430T230000
RDATE:19400401T020000
RDATE:19430329T020000
RDATE:19460414T020000
RDATE:19470406T030000
RDATE:19480418T020000
RDATE:19490410T020000
RDATE:19800406T020000
END:DAYLIGHT
BEGIN:STANDARD
TZNAME:CET
TZOFFSETFROM:+0200
TZOFFSETTO:+0100
DTSTART:19161001T010000
RDATE:19421102T030000
RDATE:19431004T030000
RDATE:19441002T030000
RDATE:19451118T030000
RDATE:19461007T030000
END:STANDARD
BEGIN:DAYLIGHT
TZNAME:CEST
TZOFFSETFROM:+0100
TZOFFSETTO:+0200
DTSTART:19170416T020000
RRULE:FREQ=YEARLY;UNTIL=19180415T010000Z;BYMONTH=4;BYDAY=3MO
END:DAYLIGHT
BEGIN:STANDARD
TZNAME:CET
TZOFFSETFROM:+0200
TZOFFSETTO:+0100
DTSTART:19170917T030000
RRULE:FREQ=YEARLY;UNTIL=19180916T010000Z;BYMONTH=9;BYDAY=3MO
END:STANDARD
BEGIN:DAYLIGHT
TZNAME:CEST
TZOFFSETFROM:+0100
TZOFFSETTO:+0200
DTSTART:19440403T020000
RRULE:FREQ=YEARLY;UNTIL=19450402T010000Z;BYMONTH=4;BYDAY=1MO
END:DAYLIGHT
BEGIN:DAYLIGHT
TZNAME:CEMT
TZOFFSETFROM:+0200
TZOFFSETTO:+0300
DTSTART:19450524T020000
RDATE:19470511T030000
END:DAYLIGHT
BEGIN:DAYLIGHT
TZNAME:CEST
TZOFFSETFROM:+0300
TZOFFSETTO:+0200
DTSTART:19450924T030000
RDATE:19470629T030000
END:DAYLIGHT
BEGIN:STANDARD
TZNAME:CET
TZOFFSETFROM:+0100
TZOFFSETTO:+0100
DTSTART:19460101T000000
RDATE:19800101T000000
END:STANDARD
BEGIN:STANDARD
TZNAME:CET
TZOFFSETFROM:+0200
TZOFFSETTO:+0100
DTSTART:19471005T030000
RRULE:FREQ=YEARLY;UNTIL=19491002T010000Z;BYMONTH=10;BYDAY=1SU
END:STANDARD
BEGIN:STANDARD
TZNAME:CET
TZOFFSETFROM:+0200
TZOFFSETTO:+0100
DTSTART:19800928T030000
RRULE:FREQ=YEARLY;UNTIL=19950924T010000Z;BYMONTH=9;BYDAY=-1SU
END:STANDARD
BEGIN:DAYLIGHT
TZNAME:CEST
TZOFFSETFROM:+0100
TZOFFSETTO:+0200
DTSTART:19810329T020000
RRULE:FREQ=YEARLY;BYMONTH=3;BYDAY=-1SU
END:DAYLIGHT
BEGIN:STANDARD
TZNAME:CET
TZOFFSETFROM:+0200
TZOFFSETTO:+0100
DTSTART:19961027T030000
RRULE:FREQ=YEARLY;BYMONTH=10;BYDAY=-1SU
END:STANDARD
END:VTIMEZONE
BEGIN:VEVENT
DTSTAMP:20260424T193418Z
DTSTART;TZID=Europe/Berlin:20171122T201500
DTEND;TZID=Europe/Berlin:20171122T231500
SUMMARY:HE 3.Liga Gr.3 Uster vs Zürich-Affoltern III (0)
UID:6010be51-4913-5356-e053-1fc7a80a74f7
STATUS:CONFIRMED
LAST-MODIFIED:20171127T132702Z
DESCRIPTION:3. Liga Herren Gruppe 3\nBegegnungs-Nr: 0\nHeim: Uster\nGast: Zürich-Affoltern III\n\nAdresse: Wilstrasse 30 / Zürcherstrasse\, 8610 Uster\n
LOCATION:Wilstrasse 30 / Zürcherstrasse\, 8610 Uster
CATEGORIES:Saison 2017/18
END:VEVENT
BEGIN:VEVENT
DTSTAMP:20260424T193418Z
DTSTART;TZID=Europe/Berlin:20171106T201500
DTEND;TZID=Europe/Berlin:20171106T231500
SUMMARY:HE 3.Liga Gr.3 Uster vs Bassersdorf (0)
UID:6010be51-4916-5356-e053-1fc7a80a74f7
STATUS:CONFIRMED
LAST-MODIFIED:20171113T131605Z
DESCRIPTION:3. Liga Herren Gruppe 3\nBegegnungs-Nr: 0\nHeim: Uster\nGast: Bassersdorf\n\nAdresse: Wilstrasse 30 / Zürcherstrasse\, 8610 Uster\n
LOCATION:Wilstrasse 30 / Zürcherstrasse\, 8610 Uster
CATEGORIES:Saison 2017/18
END:VEVENT
BEGIN:VEVENT
DTSTAMP:20260424T193418Z
DTSTART;TZID=Europe/Berlin:20171006T201500
DTEND;TZID=Europe/Berlin:20171006T231500
SUMMARY:HE 3.Liga Gr.3 Uster vs Wetzikon V (0)
UID:6010be51-491a-5356-e053-1fc7a80a74f7
STATUS:CONFIRMED
LAST-MODIFIED:20171009T100417Z
DESCRIPTION:3. Liga Herren Gruppe 3\nBegegnungs-Nr: 0\nHeim: Uster\nGast: Wetzikon V\n\nAdresse: Wilstrasse 30 / Zürcherstrasse\, 8610 Uster\n
LOCATION:Wilstrasse 30 / Zürcherstrasse\, 8610 Uster
CATEGORIES:Saison 2017/18
END:VEVENT
BEGIN:VEVENT
DTSTAMP:20260424T193418Z
DTSTART;TZID=Europe/Berlin:20170908T201500
DTEND;TZID=Europe/Berlin:20170908T231500
SUMMARY:HE 3.Liga Gr.3 Uster vs Dübendorf-Volketswil (0)
UID:6010be51-4920-5356-e053-1fc7a80a74f7
STATUS:CONFIRMED
LAST-MODIFIED:20170908T110141Z
DESCRIPTION:3. Liga Herren Gruppe 3\nBegegnungs-Nr: 0\nHeim: Uster\nGast: Dübendorf-Volketswil\n\nAdresse: Wilstrasse 30 / Zürcherstrasse\, 8610 Uster\n
LOCATION:Wilstrasse 30 / Zürcherstrasse\, 8610 Uster
CATEGORIES:Saison 2017/18
END:VEVENT
BEGIN:VEVENT
DTSTAMP:20260424T193418Z
DTSTART;TZID=Europe/Berlin:20180507T200000
DTEND;TZID=Europe/Berlin:20180507T230000
SUMMARY:HE 3.Liga Abstieg Uster vs Urdorf III (352)
UID:304a2f12-4361-40a5-bb8e-a19773bc2f31
STATUS:CONFIRMED
LAST-MODIFIED:20180503T093814Z
DESCRIPTION:3. Liga Herren Abstieg\nBegegnungs-Nr: 352\nHeim: Uster\nGast: Urdorf III\n
LOCATION:
CATEGORIES:Saison 2017/18
END:VEVENT
BEGIN:VEVENT
DTSTAMP:20260424T193418Z
DTSTART;TZID=Europe/Berlin:20180309T201500
DTEND;TZID=Europe/Berlin:20180309T231500
SUMMARY:HE 3.Liga Gr.3 Uster vs Urdorf II (0)
UID:6010be51-5163-5356-e053-1fc7a80a74f7
STATUS:CONFIRMED
LAST-MODIFIED:20180315T143420Z
DESCRIPTION:3. Liga Herren Gruppe 3\nBegegnungs-Nr: 0\nHeim: Uster\nGast: Urdorf II\n\nAdresse: Wilstrasse 30 / Zürcherstrasse\, 8610 Uster\n
LOCATION:Wilstrasse 30 / Zürcherstrasse\, 8610 Uster
CATEGORIES:Saison 2017/18
END:VEVENT
BEGIN:VEVENT
DTSTAMP:20260424T193418Z
DTSTART;TZID=Europe/Berlin:20180413T201500
DTEND;TZID=Europe/Berlin:20180413T231500
SUMMARY:HE 3.Liga Gr.3 Uster vs St. Gallen V (0)
UID:6010be51-5128-5356-e053-1fc7a80a74f7
STATUS:CONFIRMED
LAST-MODIFIED:20180419T081231Z
DESCRIPTION:3. Liga Herren Gruppe 3\nBegegnungs-Nr: 0\nHeim: Uster\nGast: St. Gallen V\n\nAdresse: Wilstrasse 30 / Zürcherstrasse\, 8610 Uster\n
LOCATION:Wilstrasse 30 / Zürcherstrasse\, 8610 Uster
CATEGORIES:Saison 2017/18
END:VEVENT
BEGIN:VEVENT
DTSTAMP:20260424T193418Z
DTSTART;TZID=Europe/Berlin:20180315T201500
DTEND;TZID=Europe/Berlin:20180315T231500
SUMMARY:HE 3.Liga Gr.3 Uster vs Bassersdorf (0)
UID:6010be51-5162-5356-e053-1fc7a80a74f7
STATUS:CONFIRMED
LAST-MODIFIED:20180319T170629Z
DESCRIPTION:3. Liga Herren Gruppe 3\nBegegnungs-Nr: 0\nHeim: Uster\nGast: Bassersdorf\n\nAdresse: Wilstrasse 30 / Zürcherstrasse\, 8610 Uster\n
LOCATION:Wilstrasse 30 / Zürcherstrasse\, 8610 Uster
CATEGORIES:Saison 2017/18
END:VEVENT
BEGIN:VEVENT
DTSTAMP:20260424T193418Z
DTSTART;TZID=Europe/Berlin:20180126T201500
DTEND;TZID=Europe/Berlin:20180126T231500
SUMMARY:HE 3.Liga Gr.3 Uster vs Kloten IV (0)
UID:6010be51-516b-5356-e053-1fc7a80a74f7
STATUS:CONFIRMED
LAST-MODIFIED:20180129T105717Z
DESCRIPTION:3. Liga Herren Gruppe 3\nBegegnungs-Nr: 0\nHeim: Uster\nGast: Kloten IV\n\nAdresse: Wilstrasse 30 / Zürcherstrasse\, 8610 Uster\n
LOCATION:Wilstrasse 30 / Zürcherstrasse\, 8610 Uster
CATEGORIES:Saison 2017/18
END:VEVENT
BEGIN:VEVENT
DTSTAMP:20260424T193418Z
DTSTART;TZID=Europe/Berlin:20171208T200000
DTEND;TZID=Europe/Berlin:20171208T230000
SUMMARY:HE 3.Liga Gr.3 St. Gallen V vs Uster (0)
UID:6010be51-48e4-5356-e053-1fc7a80a74f7
STATUS:CONFIRMED
LAST-MODIFIED:20171213T152513Z
DESCRIPTION:3. Liga Herren Gruppe 3\nBegegnungs-Nr: 0\nHeim: St. Gallen V\nGast: Uster\n\nAdresse: Zilstrasse 61\, 9016 St.Gallen\n
LOCATION:Zilstrasse 61\, 9016 St.Gallen
CATEGORIES:Saison 2017/18
END:VEVENT
BEGIN:VEVENT
DTSTAMP:20260424T193418Z
DTSTART;TZID=Europe/Berlin:20171030T201500
DTEND;TZID=Europe/Berlin:20171030T231500
SUMMARY:HE 3.Liga Gr.3 Urdorf II vs Uster (0)
UID:6010be51-4917-5356-e053-1fc7a80a74f7
STATUS:CONFIRMED
LAST-MODIFIED:20171031T133123Z
DESCRIPTION:3. Liga Herren Gruppe 3\nBegegnungs-Nr: 0\nHeim: Urdorf II\nGast: Uster\n\nAdresse: Weihermattstrasse 50\, 8902 Urdorf\n
LOCATION:Weihermattstrasse 50\, 8902 Urdorf
CATEGORIES:Saison 2017/18
END:VEVENT
BEGIN:VEVENT
DTSTAMP:20260424T193418Z
DTSTART;TZID=Europe/Berlin:20170913T193000
DTEND;TZID=Europe/Berlin:20170913T223000
SUMMARY:HE 3.Liga Gr.3 Kloten IV vs Uster (0)
UID:6010be51-491c-5356-e053-1fc7a80a74f7
STATUS:CONFIRMED
LAST-MODIFIED:20170914T083900Z
DESCRIPTION:3. Liga Herren Gruppe 3\nBegegnungs-Nr: 0\nHeim: Kloten IV\nGast: Uster\n\nAdresse: Schluefweg 10\, 8302 Kloten\n
LOCATION:Schluefweg 10\, 8302 Kloten
CATEGORIES:Saison 2017/18
END:VEVENT
BEGIN:VEVENT
DTSTAMP:20260424T193418Z
DTSTART;TZID=Europe/Berlin:20180109T201500
DTEND;TZID=Europe/Berlin:20180109T231500
SUMMARY:HE 3.Liga Gr.3 Dübendorf-Volketswil vs Uster (0)
UID:6010be51-51a4-5356-e053-1fc7a80a74f7
STATUS:CONFIRMED
LAST-MODIFIED:20180110T111500Z
DESCRIPTION:3. Liga Herren Gruppe 3\nBegegnungs-Nr: 0\nHeim: Dübendorf-Volketswil\nGast: Uster\n\nAdresse: Dübendorfstrasse 46\, 8602 Wangen ZH\n
LOCATION:Dübendorfstrasse 46\, 8602 Wangen ZH
CATEGORIES:Saison 2017/18
END:VEVENT
BEGIN:VEVENT
DTSTAMP:20260424T193418Z
DTSTART;TZID=Europe/Berlin:20180205T194500
DTEND;TZID=Europe/Berlin:20180205T224500
SUMMARY:HE 3.Liga Gr.3 Wetzikon V vs Uster (0)
UID:6010be51-5167-5356-e053-1fc7a80a74f7
STATUS:CONFIRMED
LAST-MODIFIED:20180207T063241Z
DESCRIPTION:3. Liga Herren Gruppe 3\nBegegnungs-Nr: 0\nHeim: Wetzikon V\nGast: Uster\n\nAdresse: Usterstrasse 37\, 8620 Wetzikon\n
LOCATION:Usterstrasse 37\, 8620 Wetzikon
CATEGORIES:Saison 2017/18
END:VEVENT
BEGIN:VEVENT
DTSTAMP:20260424T193418Z
DTSTART;TZID=Europe/Berlin:20180320T200000
DTEND;TZID=Europe/Berlin:20180320T230000
SUMMARY:HE 3.Liga Gr.3 Zürich-Affoltern III vs Uster (0)
UID:6010be51-515d-5356-e053-1fc7a80a74f7
STATUS:CONFIRMED
LAST-MODIFIED:20180321T160442Z
DESCRIPTION:3. Liga Herren Gruppe 3\nBegegnungs-Nr: 0\nHeim: Zürich-Affoltern III\nGast: Uster\n\nAdresse: Rümlangstr. 89\, 8052 Zürich\n
LOCATION:Rümlangstr. 89\, 8052 Zürich
CATEGORIES:Saison 2017/18
END:VEVENT
END:VCALENDAR
