BEGIN:VCALENDAR
PRODID:-//nuDatenautomaten//framework iCal4j //DE
VERSION:2.0
CALSCALE:GREGORIAN
BEGIN:VTIMEZONE
TZID:Europe/Berlin
LAST-MODIFIED:20260306T231828Z
TZURL:https://www.tzurl.org/zoneinfo/Europe/Berlin
X-LIC-LOCATION:Europe/Berlin
X-PROLEPTIC-TZNAME:LMT
BEGIN:STANDARD
TZNAME:CET
TZOFFSETFROM:+005328
TZOFFSETTO:+0100
DTSTART:18930401T000000
END:STANDARD
BEGIN:DAYLIGHT
TZNAME:CEST
TZOFFSETFROM:+0100
TZOFFSETTO:+0200
DTSTART:19160430T230000
RDATE:19400401T020000
RDATE:19430329T020000
RDATE:19460414T020000
RDATE:19470406T030000
RDATE:19480418T020000
RDATE:19490410T020000
RDATE:19800406T020000
END:DAYLIGHT
BEGIN:STANDARD
TZNAME:CET
TZOFFSETFROM:+0200
TZOFFSETTO:+0100
DTSTART:19161001T010000
RDATE:19421102T030000
RDATE:19431004T030000
RDATE:19441002T030000
RDATE:19451118T030000
RDATE:19461007T030000
END:STANDARD
BEGIN:DAYLIGHT
TZNAME:CEST
TZOFFSETFROM:+0100
TZOFFSETTO:+0200
DTSTART:19170416T020000
RRULE:FREQ=YEARLY;UNTIL=19180415T010000Z;BYMONTH=4;BYDAY=3MO
END:DAYLIGHT
BEGIN:STANDARD
TZNAME:CET
TZOFFSETFROM:+0200
TZOFFSETTO:+0100
DTSTART:19170917T030000
RRULE:FREQ=YEARLY;UNTIL=19180916T010000Z;BYMONTH=9;BYDAY=3MO
END:STANDARD
BEGIN:DAYLIGHT
TZNAME:CEST
TZOFFSETFROM:+0100
TZOFFSETTO:+0200
DTSTART:19440403T020000
RRULE:FREQ=YEARLY;UNTIL=19450402T010000Z;BYMONTH=4;BYDAY=1MO
END:DAYLIGHT
BEGIN:DAYLIGHT
TZNAME:CEMT
TZOFFSETFROM:+0200
TZOFFSETTO:+0300
DTSTART:19450524T020000
RDATE:19470511T030000
END:DAYLIGHT
BEGIN:DAYLIGHT
TZNAME:CEST
TZOFFSETFROM:+0300
TZOFFSETTO:+0200
DTSTART:19450924T030000
RDATE:19470629T030000
END:DAYLIGHT
BEGIN:STANDARD
TZNAME:CET
TZOFFSETFROM:+0100
TZOFFSETTO:+0100
DTSTART:19460101T000000
RDATE:19800101T000000
END:STANDARD
BEGIN:STANDARD
TZNAME:CET
TZOFFSETFROM:+0200
TZOFFSETTO:+0100
DTSTART:19471005T030000
RRULE:FREQ=YEARLY;UNTIL=19491002T010000Z;BYMONTH=10;BYDAY=1SU
END:STANDARD
BEGIN:STANDARD
TZNAME:CET
TZOFFSETFROM:+0200
TZOFFSETTO:+0100
DTSTART:19800928T030000
RRULE:FREQ=YEARLY;UNTIL=19950924T010000Z;BYMONTH=9;BYDAY=-1SU
END:STANDARD
BEGIN:DAYLIGHT
TZNAME:CEST
TZOFFSETFROM:+0100
TZOFFSETTO:+0200
DTSTART:19810329T020000
RRULE:FREQ=YEARLY;BYMONTH=3;BYDAY=-1SU
END:DAYLIGHT
BEGIN:STANDARD
TZNAME:CET
TZOFFSETFROM:+0200
TZOFFSETTO:+0100
DTSTART:19961027T030000
RRULE:FREQ=YEARLY;BYMONTH=10;BYDAY=-1SU
END:STANDARD
END:VTIMEZONE
BEGIN:VEVENT
DTSTAMP:20260424T181713Z
DTSTART;TZID=Europe/Berlin:20170911T194500
DTEND;TZID=Europe/Berlin:20170911T224500
SUMMARY:HE 2. Liga Gr. 1 Ittigen vs Heimberg (6)
UID:6010be51-3c4d-5356-e053-1fc7a80a74f7
STATUS:CONFIRMED
LAST-MODIFIED:20170912T170929Z
DESCRIPTION:2. Liga Herren Gruppe 1\nBegegnungs-Nr: 6\nHeim: Ittigen\nGast: Heimberg\n\nAdresse: Fischrainweg 17\, 3048 Worblaufen\n
LOCATION:Fischrainweg 17\, 3048 Worblaufen
CATEGORIES:Saison 2017/18
END:VEVENT
BEGIN:VEVENT
DTSTAMP:20260424T181713Z
DTSTART;TZID=Europe/Berlin:20170821T194500
DTEND;TZID=Europe/Berlin:20170821T224500
SUMMARY:HE 2. Liga Gr. 1 Ittigen vs Burgdorf II (5)
UID:6010be51-3c4e-5356-e053-1fc7a80a74f7
STATUS:CONFIRMED
LAST-MODIFIED:20170822T174515Z
DESCRIPTION:2. Liga Herren Gruppe 1\nBegegnungs-Nr: 5\nHeim: Ittigen\nGast: Burgdorf II\n\nAdresse: Fischrainweg 17\, 3048 Worblaufen\n
LOCATION:Fischrainweg 17\, 3048 Worblaufen
CATEGORIES:Saison 2017/18
END:VEVENT
BEGIN:VEVENT
DTSTAMP:20260424T181713Z
DTSTART;TZID=Europe/Berlin:20171120T194500
DTEND;TZID=Europe/Berlin:20171120T224500
SUMMARY:HE 2. Liga Gr. 1 Ittigen vs Köniz (38)
UID:6010be51-3c55-5356-e053-1fc7a80a74f7
STATUS:CONFIRMED
LAST-MODIFIED:20171122T151443Z
DESCRIPTION:2. Liga Herren Gruppe 1\nBegegnungs-Nr: 38\nHeim: Ittigen\nGast: Köniz\n\nAdresse: Fischrainweg 17\, 3048 Worblaufen\n
LOCATION:Fischrainweg 17\, 3048 Worblaufen
CATEGORIES:Saison 2017/18
END:VEVENT
BEGIN:VEVENT
DTSTAMP:20260424T181713Z
DTSTART;TZID=Europe/Berlin:20171113T194500
DTEND;TZID=Europe/Berlin:20171113T224500
SUMMARY:HE 2. Liga Gr. 1 Ittigen vs Solothurn III (35)
UID:6010be51-3c81-5356-e053-1fc7a80a74f7
STATUS:CONFIRMED
LAST-MODIFIED:20171114T030147Z
DESCRIPTION:2. Liga Herren Gruppe 1\nBegegnungs-Nr: 35\nHeim: Ittigen\nGast: Solothurn III\n\nAdresse: Fischrainweg 17\, 3048 Worblaufen\n
LOCATION:Fischrainweg 17\, 3048 Worblaufen
CATEGORIES:Saison 2017/18
END:VEVENT
BEGIN:VEVENT
DTSTAMP:20260424T181713Z
DTSTART;TZID=Europe/Berlin:20171030T194500
DTEND;TZID=Europe/Berlin:20171030T224500
SUMMARY:HE 2. Liga Gr. 1 Ittigen vs Düdingen (30)
UID:6010be51-3c84-5356-e053-1fc7a80a74f7
STATUS:CONFIRMED
LAST-MODIFIED:20171031T175620Z
DESCRIPTION:2. Liga Herren Gruppe 1\nBegegnungs-Nr: 30\nHeim: Ittigen\nGast: Düdingen\n\nAdresse: Fischrainweg 17\, 3048 Worblaufen\n
LOCATION:Fischrainweg 17\, 3048 Worblaufen
CATEGORIES:Saison 2017/18
END:VEVENT
BEGIN:VEVENT
DTSTAMP:20260424T181713Z
DTSTART;TZID=Europe/Berlin:20180326T000000
DTEND;TZID=Europe/Berlin:20180326T030000
SUMMARY:HE 2. Liga Gr. 1 Ittigen vs Thun III (44)
UID:6010be51-3cc4-5356-e053-1fc7a80a74f7
STATUS:CONFIRMED
LAST-MODIFIED:20170830T200331Z
DESCRIPTION:2. Liga Herren Gruppe 1\nBegegnungs-Nr: 44\nHeim: Ittigen\nGast: Thun III\n
LOCATION:
CATEGORIES:Saison 2017/18
END:VEVENT
BEGIN:VEVENT
DTSTAMP:20260424T181713Z
DTSTART;TZID=Europe/Berlin:20180226T194500
DTEND;TZID=Europe/Berlin:20180226T224500
SUMMARY:HE 2. Liga Gr. 1 Ittigen vs Münsingen (24)
UID:6010be51-3d03-5356-e053-1fc7a80a74f7
STATUS:CONFIRMED
LAST-MODIFIED:20180228T162411Z
DESCRIPTION:2. Liga Herren Gruppe 1\nBegegnungs-Nr: 24\nHeim: Ittigen\nGast: Münsingen\n\nAdresse: Fischrainweg 17\, 3048 Worblaufen\n
LOCATION:Fischrainweg 17\, 3048 Worblaufen
CATEGORIES:Saison 2017/18
END:VEVENT
BEGIN:VEVENT
DTSTAMP:20260424T181713Z
DTSTART;TZID=Europe/Berlin:20180122T194500
DTEND;TZID=Europe/Berlin:20180122T224500
SUMMARY:HE 2. Liga Gr. 1 Ittigen vs Belp II (12)
UID:6010be51-3d3a-5356-e053-1fc7a80a74f7
STATUS:CONFIRMED
LAST-MODIFIED:20180124T174333Z
DESCRIPTION:2. Liga Herren Gruppe 1\nBegegnungs-Nr: 12\nHeim: Ittigen\nGast: Belp II\n\nAdresse: Fischrainweg 17\, 3048 Worblaufen\n
LOCATION:Fischrainweg 17\, 3048 Worblaufen
CATEGORIES:Saison 2017/18
END:VEVENT
BEGIN:VEVENT
DTSTAMP:20260424T181713Z
DTSTART;TZID=Europe/Berlin:20171023T194500
DTEND;TZID=Europe/Berlin:20171023T224500
SUMMARY:HE 2. Liga Gr. 1 Ittigen vs Steffisburg (18)
UID:6010be51-3cbe-5356-e053-1fc7a80a74f7
STATUS:CONFIRMED
LAST-MODIFIED:20171024T153850Z
DESCRIPTION:2. Liga Herren Gruppe 1\nBegegnungs-Nr: 18\nHeim: Ittigen\nGast: Steffisburg\n\nAdresse: Fischrainweg 17\, 3048 Worblaufen\n
LOCATION:Fischrainweg 17\, 3048 Worblaufen
CATEGORIES:Saison 2017/18
END:VEVENT
BEGIN:VEVENT
DTSTAMP:20260424T181713Z
DTSTART;TZID=Europe/Berlin:20170922T193000
DTEND;TZID=Europe/Berlin:20170922T223000
SUMMARY:HE 2. Liga Gr. 1 Belp II vs Ittigen (12)
UID:6010be51-3c49-5356-e053-1fc7a80a74f7
STATUS:CONFIRMED
LAST-MODIFIED:20170925T154930Z
DESCRIPTION:2. Liga Herren Gruppe 1\nBegegnungs-Nr: 12\nHeim: Belp II\nGast: Ittigen\n\nAdresse: Neumattstrasse 39\, 3123 Belp\n
LOCATION:Neumattstrasse 39\, 3123 Belp
CATEGORIES:Saison 2017/18
END:VEVENT
BEGIN:VEVENT
DTSTAMP:20260424T181713Z
DTSTART;TZID=Europe/Berlin:20171130T000000
DTEND;TZID=Europe/Berlin:20171130T030000
SUMMARY:HE 2. Liga Gr. 1 Thun III vs Ittigen (44)
UID:6010be51-3c50-5356-e053-1fc7a80a74f7
STATUS:CONFIRMED
LAST-MODIFIED:20170830T195957Z
DESCRIPTION:2. Liga Herren Gruppe 1\nBegegnungs-Nr: 44\nHeim: Thun III\nGast: Ittigen\n
LOCATION:
CATEGORIES:Saison 2017/18
END:VEVENT
BEGIN:VEVENT
DTSTAMP:20260424T181713Z
DTSTART;TZID=Europe/Berlin:20171018T200000
DTEND;TZID=Europe/Berlin:20171018T230000
SUMMARY:HE 2. Liga Gr. 1 Münsingen vs Ittigen (24)
UID:6010be51-3c8a-5356-e053-1fc7a80a74f7
STATUS:CONFIRMED
LAST-MODIFIED:20171019T153457Z
DESCRIPTION:2. Liga Herren Gruppe 1\nBegegnungs-Nr: 24\nHeim: Münsingen\nGast: Ittigen\n\nAdresse: Turnhallenweg 8\, 3110 Münsingen\n
LOCATION:Turnhallenweg 8\, 3110 Münsingen
CATEGORIES:Saison 2017/18
END:VEVENT
BEGIN:VEVENT
DTSTAMP:20260424T181713Z
DTSTART;TZID=Europe/Berlin:20180202T200000
DTEND;TZID=Europe/Berlin:20180202T230000
SUMMARY:HE 2. Liga Gr. 1 Steffisburg vs Ittigen (18)
UID:6010be51-3d0a-5356-e053-1fc7a80a74f7
STATUS:CONFIRMED
LAST-MODIFIED:20180204T180144Z
DESCRIPTION:2. Liga Herren Gruppe 1\nBegegnungs-Nr: 18\nHeim: Steffisburg\nGast: Ittigen\n\nAdresse: Sonnenfeldstrasse 10\, 3613 Steffisburg\n
LOCATION:Sonnenfeldstrasse 10\, 3613 Steffisburg
CATEGORIES:Saison 2017/18
END:VEVENT
BEGIN:VEVENT
DTSTAMP:20260424T181713Z
DTSTART;TZID=Europe/Berlin:20180120T153000
DTEND;TZID=Europe/Berlin:20180120T183000
SUMMARY:HE 2. Liga Gr. 1 Heimberg vs Ittigen (6)
UID:6010be51-3d40-5356-e053-1fc7a80a74f7
STATUS:CONFIRMED
LAST-MODIFIED:20180121T173846Z
DESCRIPTION:2. Liga Herren Gruppe 1\nBegegnungs-Nr: 6\nHeim: Heimberg\nGast: Ittigen\n\nAdresse: Niesenstrasse 38\, 3627 Heimberg\n
LOCATION:Niesenstrasse 38\, 3627 Heimberg
CATEGORIES:Saison 2017/18
END:VEVENT
BEGIN:VEVENT
DTSTAMP:20260424T181713Z
DTSTART;TZID=Europe/Berlin:20180307T194500
DTEND;TZID=Europe/Berlin:20180307T224500
SUMMARY:HE 2. Liga Gr. 1 Solothurn III vs Ittigen (35)
UID:6010be51-53c4-5356-e053-1fc7a80a74f7
STATUS:CONFIRMED
LAST-MODIFIED:20180308T180426Z
DESCRIPTION:2. Liga Herren Gruppe 1\nBegegnungs-Nr: 35\nHeim: Solothurn III\nGast: Ittigen\n\nAdresse: Untere Sternengasse 24\, 4500 Solothurn\n
LOCATION:Untere Sternengasse 24\, 4500 Solothurn
CATEGORIES:Saison 2017/18
END:VEVENT
BEGIN:VEVENT
DTSTAMP:20260424T181713Z
DTSTART;TZID=Europe/Berlin:20180322T200000
DTEND;TZID=Europe/Berlin:20180322T230000
SUMMARY:HE 2. Liga Gr. 1 Köniz vs Ittigen (38)
UID:6010be51-3cc9-5356-e053-1fc7a80a74f7
STATUS:CONFIRMED
LAST-MODIFIED:20180323T171401Z
DESCRIPTION:2. Liga Herren Gruppe 1\nBegegnungs-Nr: 38\nHeim: Köniz\nGast: Ittigen\n\nAdresse: Kirchstrasse 72-76\, 3084 Wabern\n
LOCATION:Kirchstrasse 72-76\, 3084 Wabern
CATEGORIES:Saison 2017/18
END:VEVENT
BEGIN:VEVENT
DTSTAMP:20260424T181713Z
DTSTART;TZID=Europe/Berlin:20180301T194500
DTEND;TZID=Europe/Berlin:20180301T224500
SUMMARY:HE 2. Liga Gr. 1 Düdingen vs Ittigen (30)
UID:6010be51-3cfe-5356-e053-1fc7a80a74f7
STATUS:CONFIRMED
LAST-MODIFIED:20180302T201909Z
DESCRIPTION:2. Liga Herren Gruppe 1\nBegegnungs-Nr: 30\nHeim: Düdingen\nGast: Ittigen\n\nAdresse: Alfons-Aeby-Strasse\, 3186 Düdingen\n
LOCATION:Alfons-Aeby-Strasse\, 3186 Düdingen
CATEGORIES:Saison 2017/18
END:VEVENT
BEGIN:VEVENT
DTSTAMP:20260424T181713Z
DTSTART;TZID=Europe/Berlin:20180112T193000
DTEND;TZID=Europe/Berlin:20180112T223000
SUMMARY:HE 2. Liga Gr. 1 Burgdorf II vs Ittigen (5)
UID:6010be51-3d41-5356-e053-1fc7a80a74f7
STATUS:CONFIRMED
LAST-MODIFIED:20180113T110750Z
DESCRIPTION:2. Liga Herren Gruppe 1\nBegegnungs-Nr: 5\nHeim: Burgdorf II\nGast: Ittigen\n
LOCATION:
CATEGORIES:Saison 2017/18
END:VEVENT
END:VCALENDAR
