BEGIN:VCALENDAR
PRODID:-//nuDatenautomaten//framework iCal4j //DE
VERSION:2.0
CALSCALE:GREGORIAN
BEGIN:VTIMEZONE
TZID:Europe/Berlin
LAST-MODIFIED:20260306T231828Z
TZURL:https://www.tzurl.org/zoneinfo/Europe/Berlin
X-LIC-LOCATION:Europe/Berlin
X-PROLEPTIC-TZNAME:LMT
BEGIN:STANDARD
TZNAME:CET
TZOFFSETFROM:+005328
TZOFFSETTO:+0100
DTSTART:18930401T000000
END:STANDARD
BEGIN:DAYLIGHT
TZNAME:CEST
TZOFFSETFROM:+0100
TZOFFSETTO:+0200
DTSTART:19160430T230000
RDATE:19400401T020000
RDATE:19430329T020000
RDATE:19460414T020000
RDATE:19470406T030000
RDATE:19480418T020000
RDATE:19490410T020000
RDATE:19800406T020000
END:DAYLIGHT
BEGIN:STANDARD
TZNAME:CET
TZOFFSETFROM:+0200
TZOFFSETTO:+0100
DTSTART:19161001T010000
RDATE:19421102T030000
RDATE:19431004T030000
RDATE:19441002T030000
RDATE:19451118T030000
RDATE:19461007T030000
END:STANDARD
BEGIN:DAYLIGHT
TZNAME:CEST
TZOFFSETFROM:+0100
TZOFFSETTO:+0200
DTSTART:19170416T020000
RRULE:FREQ=YEARLY;UNTIL=19180415T010000Z;BYMONTH=4;BYDAY=3MO
END:DAYLIGHT
BEGIN:STANDARD
TZNAME:CET
TZOFFSETFROM:+0200
TZOFFSETTO:+0100
DTSTART:19170917T030000
RRULE:FREQ=YEARLY;UNTIL=19180916T010000Z;BYMONTH=9;BYDAY=3MO
END:STANDARD
BEGIN:DAYLIGHT
TZNAME:CEST
TZOFFSETFROM:+0100
TZOFFSETTO:+0200
DTSTART:19440403T020000
RRULE:FREQ=YEARLY;UNTIL=19450402T010000Z;BYMONTH=4;BYDAY=1MO
END:DAYLIGHT
BEGIN:DAYLIGHT
TZNAME:CEMT
TZOFFSETFROM:+0200
TZOFFSETTO:+0300
DTSTART:19450524T020000
RDATE:19470511T030000
END:DAYLIGHT
BEGIN:DAYLIGHT
TZNAME:CEST
TZOFFSETFROM:+0300
TZOFFSETTO:+0200
DTSTART:19450924T030000
RDATE:19470629T030000
END:DAYLIGHT
BEGIN:STANDARD
TZNAME:CET
TZOFFSETFROM:+0100
TZOFFSETTO:+0100
DTSTART:19460101T000000
RDATE:19800101T000000
END:STANDARD
BEGIN:STANDARD
TZNAME:CET
TZOFFSETFROM:+0200
TZOFFSETTO:+0100
DTSTART:19471005T030000
RRULE:FREQ=YEARLY;UNTIL=19491002T010000Z;BYMONTH=10;BYDAY=1SU
END:STANDARD
BEGIN:STANDARD
TZNAME:CET
TZOFFSETFROM:+0200
TZOFFSETTO:+0100
DTSTART:19800928T030000
RRULE:FREQ=YEARLY;UNTIL=19950924T010000Z;BYMONTH=9;BYDAY=-1SU
END:STANDARD
BEGIN:DAYLIGHT
TZNAME:CEST
TZOFFSETFROM:+0100
TZOFFSETTO:+0200
DTSTART:19810329T020000
RRULE:FREQ=YEARLY;BYMONTH=3;BYDAY=-1SU
END:DAYLIGHT
BEGIN:STANDARD
TZNAME:CET
TZOFFSETFROM:+0200
TZOFFSETTO:+0100
DTSTART:19961027T030000
RRULE:FREQ=YEARLY;BYMONTH=10;BYDAY=-1SU
END:STANDARD
END:VTIMEZONE
BEGIN:VEVENT
DTSTAMP:20260424T181548Z
DTSTART;TZID=Europe/Berlin:20170911T194500
DTEND;TZID=Europe/Berlin:20170911T224500
SUMMARY:HE 3.Liga Gr.5 Wetzikon IV vs Meilen-Männedorf (0)
UID:6010be51-486f-5356-e053-1fc7a80a74f7
STATUS:CONFIRMED
LAST-MODIFIED:20170912T152328Z
DESCRIPTION:3. Liga Herren Gruppe 5\nBegegnungs-Nr: 0\nHeim: Wetzikon IV\nGast: Meilen-Männedorf\n\nAdresse: Usterstrasse 37\, 8620 Wetzikon\n
LOCATION:Usterstrasse 37\, 8620 Wetzikon
CATEGORIES:Saison 2017/18
END:VEVENT
BEGIN:VEVENT
DTSTAMP:20260424T181548Z
DTSTART;TZID=Europe/Berlin:20171113T194500
DTEND;TZID=Europe/Berlin:20171113T224500
SUMMARY:HE 3.Liga Gr.5 Wetzikon IV vs Wädenswil V (0)
UID:6010be51-5785-5356-e053-1fc7a80a74f7
STATUS:CONFIRMED
LAST-MODIFIED:20171116T141635Z
DESCRIPTION:3. Liga Herren Gruppe 5\nBegegnungs-Nr: 0\nHeim: Wetzikon IV\nGast: Wädenswil V\n\nAdresse: Usterstrasse 37\, 8620 Wetzikon\n
LOCATION:Usterstrasse 37\, 8620 Wetzikon
CATEGORIES:Saison 2017/18
END:VEVENT
BEGIN:VEVENT
DTSTAMP:20260424T181548Z
DTSTART;TZID=Europe/Berlin:20180312T194500
DTEND;TZID=Europe/Berlin:20180312T224500
SUMMARY:HE 3.Liga Gr.5 Wetzikon IV vs Chur IV (0)
UID:6010be51-5113-5356-e053-1fc7a80a74f7
STATUS:CONFIRMED
LAST-MODIFIED:20180315T151534Z
DESCRIPTION:3. Liga Herren Gruppe 5\nBegegnungs-Nr: 0\nHeim: Wetzikon IV\nGast: Chur IV\n\nAdresse: Usterstrasse 37\, 8620 Wetzikon\n
LOCATION:Usterstrasse 37\, 8620 Wetzikon
CATEGORIES:Saison 2017/18
END:VEVENT
BEGIN:VEVENT
DTSTAMP:20260424T181548Z
DTSTART;TZID=Europe/Berlin:20180205T194500
DTEND;TZID=Europe/Berlin:20180205T224500
SUMMARY:HE 3.Liga Gr.5 Wetzikon IV vs Uster II (0)
UID:6010be51-5094-5356-e053-1fc7a80a74f7
STATUS:CONFIRMED
LAST-MODIFIED:20180207T063403Z
DESCRIPTION:3. Liga Herren Gruppe 5\nBegegnungs-Nr: 0\nHeim: Wetzikon IV\nGast: Uster II\n\nAdresse: Usterstrasse 37\, 8620 Wetzikon\n
LOCATION:Usterstrasse 37\, 8620 Wetzikon
CATEGORIES:Saison 2017/18
END:VEVENT
BEGIN:VEVENT
DTSTAMP:20260424T181548Z
DTSTART;TZID=Europe/Berlin:20180108T194500
DTEND;TZID=Europe/Berlin:20180108T224500
SUMMARY:HE 3.Liga Gr.5 Wetzikon IV vs Rüti (0)
UID:6010be51-50d5-5356-e053-1fc7a80a74f7
STATUS:CONFIRMED
LAST-MODIFIED:20180110T121310Z
DESCRIPTION:3. Liga Herren Gruppe 5\nBegegnungs-Nr: 0\nHeim: Wetzikon IV\nGast: Rüti\n\nAdresse: Usterstrasse 37\, 8620 Wetzikon\n
LOCATION:Usterstrasse 37\, 8620 Wetzikon
CATEGORIES:Saison 2017/18
END:VEVENT
BEGIN:VEVENT
DTSTAMP:20260424T181548Z
DTSTART;TZID=Europe/Berlin:20180409T194500
DTEND;TZID=Europe/Berlin:20180409T224500
SUMMARY:HE 3.Liga Gr.5 Wetzikon IV vs Flums II (0)
UID:6010be51-510b-5356-e053-1fc7a80a74f7
STATUS:CONFIRMED
LAST-MODIFIED:20180419T081258Z
DESCRIPTION:3. Liga Herren Gruppe 5\nBegegnungs-Nr: 0\nHeim: Wetzikon IV\nGast: Flums II\n\nAdresse: Usterstrasse 37\, 8620 Wetzikon\n
LOCATION:Usterstrasse 37\, 8620 Wetzikon
CATEGORIES:Saison 2017/18
END:VEVENT
BEGIN:VEVENT
DTSTAMP:20260424T181548Z
DTSTART;TZID=Europe/Berlin:20171030T194500
DTEND;TZID=Europe/Berlin:20171030T224500
SUMMARY:HE 3.Liga Gr.5 Wetzikon IV vs Affoltern A/A III (0)
UID:6010be51-5956-5356-e053-1fc7a80a74f7
STATUS:CONFIRMED
LAST-MODIFIED:20171031T133724Z
DESCRIPTION:3. Liga Herren Gruppe 5\nBegegnungs-Nr: 0\nHeim: Wetzikon IV\nGast: Affoltern A/A III\n\nAdresse: Usterstrasse 37\, 8620 Wetzikon\n
LOCATION:Usterstrasse 37\, 8620 Wetzikon
CATEGORIES:Saison 2017/18
END:VEVENT
BEGIN:VEVENT
DTSTAMP:20260424T181548Z
DTSTART;TZID=Europe/Berlin:20170925T201500
DTEND;TZID=Europe/Berlin:20170925T231500
SUMMARY:HE 3.Liga Gr.5 Flums II vs Wetzikon IV (0)
UID:6010be51-4832-5356-e053-1fc7a80a74f7
STATUS:CONFIRMED
LAST-MODIFIED:20170926T135721Z
DESCRIPTION:3. Liga Herren Gruppe 5\nBegegnungs-Nr: 0\nHeim: Flums II\nGast: Wetzikon IV\n\nAdresse: Bergstrasse\, 8890 Flums\n
LOCATION:Bergstrasse\, 8890 Flums
CATEGORIES:Saison 2017/18
END:VEVENT
BEGIN:VEVENT
DTSTAMP:20260424T181548Z
DTSTART;TZID=Europe/Berlin:20171109T200000
DTEND;TZID=Europe/Berlin:20171109T230000
SUMMARY:HE 3.Liga Gr.5 Chur IV vs Wetzikon IV (0)
UID:6010be51-4865-5356-e053-1fc7a80a74f7
STATUS:CONFIRMED
LAST-MODIFIED:20171113T132307Z
DESCRIPTION:3. Liga Herren Gruppe 5\nBegegnungs-Nr: 0\nHeim: Chur IV\nGast: Wetzikon IV\n\nAdresse: Sandstr. 35\, 7000 Chur\n
LOCATION:Sandstr. 35\, 7000 Chur
CATEGORIES:Saison 2017/18
END:VEVENT
BEGIN:VEVENT
DTSTAMP:20260424T181548Z
DTSTART;TZID=Europe/Berlin:20171009T201500
DTEND;TZID=Europe/Berlin:20171009T231500
SUMMARY:HE 3.Liga Gr.5 Uster II vs Wetzikon IV (0)
UID:6010be51-486b-5356-e053-1fc7a80a74f7
STATUS:CONFIRMED
LAST-MODIFIED:20171010T144258Z
DESCRIPTION:3. Liga Herren Gruppe 5\nBegegnungs-Nr: 0\nHeim: Uster II\nGast: Wetzikon IV\n\nAdresse: Wilstrasse 30 / Zürcherstrasse\, 8610 Uster\n
LOCATION:Wilstrasse 30 / Zürcherstrasse\, 8610 Uster
CATEGORIES:Saison 2017/18
END:VEVENT
BEGIN:VEVENT
DTSTAMP:20260424T181548Z
DTSTART;TZID=Europe/Berlin:20170829T200000
DTEND;TZID=Europe/Berlin:20170829T230000
SUMMARY:HE 3.Liga Gr.5 Rüti vs Wetzikon IV (0)
UID:6010be51-489f-5356-e053-1fc7a80a74f7
STATUS:CONFIRMED
LAST-MODIFIED:20170902T083723Z
DESCRIPTION:3. Liga Herren Gruppe 5\nBegegnungs-Nr: 0\nHeim: Rüti\nGast: Wetzikon IV\n\nAdresse: Spitalstrasse 20\, 8630 Rüti\n
LOCATION:Spitalstrasse 20\, 8630 Rüti
CATEGORIES:Saison 2017/18
END:VEVENT
BEGIN:VEVENT
DTSTAMP:20260424T181548Z
DTSTART;TZID=Europe/Berlin:20180322T201500
DTEND;TZID=Europe/Berlin:20180322T231500
SUMMARY:HE 3.Liga Gr.5 Wädenswil V vs Wetzikon IV (0)
UID:6010be51-5110-5356-e053-1fc7a80a74f7
STATUS:CONFIRMED
LAST-MODIFIED:20180324T132135Z
DESCRIPTION:3. Liga Herren Gruppe 5\nBegegnungs-Nr: 0\nHeim: Wädenswil V\nGast: Wetzikon IV\n\nAdresse: Speerstrasse 95\, 8820 Wädenswil\n
LOCATION:Speerstrasse 95\, 8820 Wädenswil
CATEGORIES:Saison 2017/18
END:VEVENT
BEGIN:VEVENT
DTSTAMP:20260424T181548Z
DTSTART;TZID=Europe/Berlin:20180309T194500
DTEND;TZID=Europe/Berlin:20180309T224500
SUMMARY:HE 3.Liga Gr.5 Affoltern A/A III vs Wetzikon IV (0)
UID:6010be51-5148-5356-e053-1fc7a80a74f7
STATUS:CONFIRMED
LAST-MODIFIED:20180315T144324Z
DESCRIPTION:3. Liga Herren Gruppe 5\nBegegnungs-Nr: 0\nHeim: Affoltern A/A III\nGast: Wetzikon IV\n\nAdresse: Butzenstr. 2\, 8910 Affoltern am Albis\n
LOCATION:Butzenstr. 2\, 8910 Affoltern am Albis
CATEGORIES:Saison 2017/18
END:VEVENT
BEGIN:VEVENT
DTSTAMP:20260424T181548Z
DTSTART;TZID=Europe/Berlin:20180125T194500
DTEND;TZID=Europe/Berlin:20180125T224500
SUMMARY:HE 3.Liga Gr.5 Meilen-Männedorf vs Wetzikon IV (0)
UID:6010be51-50d0-5356-e053-1fc7a80a74f7
STATUS:CONFIRMED
LAST-MODIFIED:20180129T110325Z
DESCRIPTION:3. Liga Herren Gruppe 5\nBegegnungs-Nr: 0\nHeim: Meilen-Männedorf\nGast: Wetzikon IV\n\nAdresse: Schulhausstr. 27\, 8706 Meilen\n
LOCATION:Schulhausstr. 27\, 8706 Meilen
CATEGORIES:Saison 2017/18
END:VEVENT
END:VCALENDAR
