BEGIN:VCALENDAR
PRODID:-//nuDatenautomaten//framework iCal4j //DE
VERSION:2.0
CALSCALE:GREGORIAN
BEGIN:VTIMEZONE
TZID:Europe/Berlin
LAST-MODIFIED:20260306T231828Z
TZURL:https://www.tzurl.org/zoneinfo/Europe/Berlin
X-LIC-LOCATION:Europe/Berlin
X-PROLEPTIC-TZNAME:LMT
BEGIN:STANDARD
TZNAME:CET
TZOFFSETFROM:+005328
TZOFFSETTO:+0100
DTSTART:18930401T000000
END:STANDARD
BEGIN:DAYLIGHT
TZNAME:CEST
TZOFFSETFROM:+0100
TZOFFSETTO:+0200
DTSTART:19160430T230000
RDATE:19400401T020000
RDATE:19430329T020000
RDATE:19460414T020000
RDATE:19470406T030000
RDATE:19480418T020000
RDATE:19490410T020000
RDATE:19800406T020000
END:DAYLIGHT
BEGIN:STANDARD
TZNAME:CET
TZOFFSETFROM:+0200
TZOFFSETTO:+0100
DTSTART:19161001T010000
RDATE:19421102T030000
RDATE:19431004T030000
RDATE:19441002T030000
RDATE:19451118T030000
RDATE:19461007T030000
END:STANDARD
BEGIN:DAYLIGHT
TZNAME:CEST
TZOFFSETFROM:+0100
TZOFFSETTO:+0200
DTSTART:19170416T020000
RRULE:FREQ=YEARLY;UNTIL=19180415T010000Z;BYMONTH=4;BYDAY=3MO
END:DAYLIGHT
BEGIN:STANDARD
TZNAME:CET
TZOFFSETFROM:+0200
TZOFFSETTO:+0100
DTSTART:19170917T030000
RRULE:FREQ=YEARLY;UNTIL=19180916T010000Z;BYMONTH=9;BYDAY=3MO
END:STANDARD
BEGIN:DAYLIGHT
TZNAME:CEST
TZOFFSETFROM:+0100
TZOFFSETTO:+0200
DTSTART:19440403T020000
RRULE:FREQ=YEARLY;UNTIL=19450402T010000Z;BYMONTH=4;BYDAY=1MO
END:DAYLIGHT
BEGIN:DAYLIGHT
TZNAME:CEMT
TZOFFSETFROM:+0200
TZOFFSETTO:+0300
DTSTART:19450524T020000
RDATE:19470511T030000
END:DAYLIGHT
BEGIN:DAYLIGHT
TZNAME:CEST
TZOFFSETFROM:+0300
TZOFFSETTO:+0200
DTSTART:19450924T030000
RDATE:19470629T030000
END:DAYLIGHT
BEGIN:STANDARD
TZNAME:CET
TZOFFSETFROM:+0100
TZOFFSETTO:+0100
DTSTART:19460101T000000
RDATE:19800101T000000
END:STANDARD
BEGIN:STANDARD
TZNAME:CET
TZOFFSETFROM:+0200
TZOFFSETTO:+0100
DTSTART:19471005T030000
RRULE:FREQ=YEARLY;UNTIL=19491002T010000Z;BYMONTH=10;BYDAY=1SU
END:STANDARD
BEGIN:STANDARD
TZNAME:CET
TZOFFSETFROM:+0200
TZOFFSETTO:+0100
DTSTART:19800928T030000
RRULE:FREQ=YEARLY;UNTIL=19950924T010000Z;BYMONTH=9;BYDAY=-1SU
END:STANDARD
BEGIN:DAYLIGHT
TZNAME:CEST
TZOFFSETFROM:+0100
TZOFFSETTO:+0200
DTSTART:19810329T020000
RRULE:FREQ=YEARLY;BYMONTH=3;BYDAY=-1SU
END:DAYLIGHT
BEGIN:STANDARD
TZNAME:CET
TZOFFSETFROM:+0200
TZOFFSETTO:+0100
DTSTART:19961027T030000
RRULE:FREQ=YEARLY;BYMONTH=10;BYDAY=-1SU
END:STANDARD
END:VTIMEZONE
BEGIN:VEVENT
DTSTAMP:20260424T163258Z
DTSTART;TZID=Europe/Berlin:20170922T194500
DTEND;TZID=Europe/Berlin:20170922T224500
SUMMARY:2. Divisione Tenero IV vs Tenero V (3)
UID:6010be51-532c-5356-e053-1fc7a80a74f7
STATUS:CONFIRMED
LAST-MODIFIED:20170922T221049Z
DESCRIPTION:2. Divisione\nBegegnungs-Nr: 3\nHeim: Tenero IV\nGast: Tenero V\n
LOCATION:
CATEGORIES:Saison 2017/18
END:VEVENT
BEGIN:VEVENT
DTSTAMP:20260424T163258Z
DTSTART;TZID=Europe/Berlin:20171124T194500
DTEND;TZID=Europe/Berlin:20171124T224500
SUMMARY:2. Divisione Tenero IV vs Lugano IV (11)
UID:6010be51-5332-5356-e053-1fc7a80a74f7
STATUS:CONFIRMED
LAST-MODIFIED:20171125T063127Z
DESCRIPTION:2. Divisione\nBegegnungs-Nr: 11\nHeim: Tenero IV\nGast: Lugano IV\n
LOCATION:
CATEGORIES:Saison 2017/18
END:VEVENT
BEGIN:VEVENT
DTSTAMP:20260424T163258Z
DTSTART;TZID=Europe/Berlin:20180126T194500
DTEND;TZID=Europe/Berlin:20180126T224500
SUMMARY:2. Divisione Tenero IV vs Locarno IV (21)
UID:6010be51-536a-5356-e053-1fc7a80a74f7
STATUS:CONFIRMED
LAST-MODIFIED:20180127T073816Z
DESCRIPTION:2. Divisione\nBegegnungs-Nr: 21\nHeim: Tenero IV\nGast: Locarno IV\n
LOCATION:
CATEGORIES:Saison 2017/18
END:VEVENT
BEGIN:VEVENT
DTSTAMP:20260424T163258Z
DTSTART;TZID=Europe/Berlin:20180223T194500
DTEND;TZID=Europe/Berlin:20180223T224500
SUMMARY:2. Divisione Tenero IV vs Locarno III (22)
UID:6010be51-536b-5356-e053-1fc7a80a74f7
STATUS:CONFIRMED
LAST-MODIFIED:20180224T075019Z
DESCRIPTION:2. Divisione\nBegegnungs-Nr: 22\nHeim: Tenero IV\nGast: Locarno III\n
LOCATION:
CATEGORIES:Saison 2017/18
END:VEVENT
BEGIN:VEVENT
DTSTAMP:20260424T163258Z
DTSTART;TZID=Europe/Berlin:20171219T194500
DTEND;TZID=Europe/Berlin:20171219T224500
SUMMARY:2. Divisione Tenero IV vs Riva S.Vitale II (14)
UID:6010be51-5336-5356-e053-1fc7a80a74f7
STATUS:CONFIRMED
LAST-MODIFIED:20171218T095656Z
DESCRIPTION:2. Divisione\nBegegnungs-Nr: 14\nHeim: Tenero IV\nGast: Riva S.Vitale II\n
LOCATION:
CATEGORIES:Saison 2017/18
END:VEVENT
BEGIN:VEVENT
DTSTAMP:20260424T163258Z
DTSTART;TZID=Europe/Berlin:20180309T201500
DTEND;TZID=Europe/Berlin:20180309T231500
SUMMARY:2. Divisione Lugano IV vs Tenero IV (26)
UID:6010be51-52fb-5356-e053-1fc7a80a74f7
STATUS:CONFIRMED
LAST-MODIFIED:20180314T130155Z
DESCRIPTION:2. Divisione\nBegegnungs-Nr: 26\nHeim: Lugano IV\nGast: Tenero IV\n
LOCATION:
CATEGORIES:Saison 2017/18
END:VEVENT
BEGIN:VEVENT
DTSTAMP:20260424T163258Z
DTSTART;TZID=Europe/Berlin:20171013T201500
DTEND;TZID=Europe/Berlin:20171013T231500
SUMMARY:2. Divisione Locarno IV vs Tenero IV (6)
UID:6010be51-532e-5356-e053-1fc7a80a74f7
STATUS:CONFIRMED
LAST-MODIFIED:20171014T131314Z
DESCRIPTION:2. Divisione\nBegegnungs-Nr: 6\nHeim: Locarno IV\nGast: Tenero IV\n
LOCATION:
CATEGORIES:Saison 2017/18
END:VEVENT
BEGIN:VEVENT
DTSTAMP:20260424T163258Z
DTSTART;TZID=Europe/Berlin:20171110T201500
DTEND;TZID=Europe/Berlin:20171110T231500
SUMMARY:2. Divisione Locarno III vs Tenero IV (7)
UID:6010be51-532f-5356-e053-1fc7a80a74f7
STATUS:CONFIRMED
LAST-MODIFIED:20171113T080320Z
DESCRIPTION:2. Divisione\nBegegnungs-Nr: 7\nHeim: Locarno III\nGast: Tenero IV\n
LOCATION:
CATEGORIES:Saison 2017/18
END:VEVENT
BEGIN:VEVENT
DTSTAMP:20260424T163258Z
DTSTART;TZID=Europe/Berlin:20180323T203000
DTEND;TZID=Europe/Berlin:20180323T233000
SUMMARY:2. Divisione Riva S.Vitale II vs Tenero IV (29)
UID:6010be51-5333-5356-e053-1fc7a80a74f7
STATUS:CONFIRMED
LAST-MODIFIED:20180326T094216Z
DESCRIPTION:2. Divisione\nBegegnungs-Nr: 29\nHeim: Riva S.Vitale II\nGast: Tenero IV\n
LOCATION:
CATEGORIES:Saison 2017/18
END:VEVENT
BEGIN:VEVENT
DTSTAMP:20260424T163258Z
DTSTART;TZID=Europe/Berlin:20180112T194500
DTEND;TZID=Europe/Berlin:20180112T224500
SUMMARY:2. Divisione Tenero V vs Tenero IV (18)
UID:6010be51-5367-5356-e053-1fc7a80a74f7
STATUS:CONFIRMED
LAST-MODIFIED:20180113T081335Z
DESCRIPTION:2. Divisione\nBegegnungs-Nr: 18\nHeim: Tenero V\nGast: Tenero IV\n
LOCATION:
CATEGORIES:Saison 2017/18
END:VEVENT
END:VCALENDAR
