BEGIN:VCALENDAR
PRODID:-//nuDatenautomaten//framework iCal4j //DE
VERSION:2.0
CALSCALE:GREGORIAN
BEGIN:VTIMEZONE
TZID:Europe/Berlin
LAST-MODIFIED:20260306T231828Z
TZURL:https://www.tzurl.org/zoneinfo/Europe/Berlin
X-LIC-LOCATION:Europe/Berlin
X-PROLEPTIC-TZNAME:LMT
BEGIN:STANDARD
TZNAME:CET
TZOFFSETFROM:+005328
TZOFFSETTO:+0100
DTSTART:18930401T000000
END:STANDARD
BEGIN:DAYLIGHT
TZNAME:CEST
TZOFFSETFROM:+0100
TZOFFSETTO:+0200
DTSTART:19160430T230000
RDATE:19400401T020000
RDATE:19430329T020000
RDATE:19460414T020000
RDATE:19470406T030000
RDATE:19480418T020000
RDATE:19490410T020000
RDATE:19800406T020000
END:DAYLIGHT
BEGIN:STANDARD
TZNAME:CET
TZOFFSETFROM:+0200
TZOFFSETTO:+0100
DTSTART:19161001T010000
RDATE:19421102T030000
RDATE:19431004T030000
RDATE:19441002T030000
RDATE:19451118T030000
RDATE:19461007T030000
END:STANDARD
BEGIN:DAYLIGHT
TZNAME:CEST
TZOFFSETFROM:+0100
TZOFFSETTO:+0200
DTSTART:19170416T020000
RRULE:FREQ=YEARLY;UNTIL=19180415T010000Z;BYMONTH=4;BYDAY=3MO
END:DAYLIGHT
BEGIN:STANDARD
TZNAME:CET
TZOFFSETFROM:+0200
TZOFFSETTO:+0100
DTSTART:19170917T030000
RRULE:FREQ=YEARLY;UNTIL=19180916T010000Z;BYMONTH=9;BYDAY=3MO
END:STANDARD
BEGIN:DAYLIGHT
TZNAME:CEST
TZOFFSETFROM:+0100
TZOFFSETTO:+0200
DTSTART:19440403T020000
RRULE:FREQ=YEARLY;UNTIL=19450402T010000Z;BYMONTH=4;BYDAY=1MO
END:DAYLIGHT
BEGIN:DAYLIGHT
TZNAME:CEMT
TZOFFSETFROM:+0200
TZOFFSETTO:+0300
DTSTART:19450524T020000
RDATE:19470511T030000
END:DAYLIGHT
BEGIN:DAYLIGHT
TZNAME:CEST
TZOFFSETFROM:+0300
TZOFFSETTO:+0200
DTSTART:19450924T030000
RDATE:19470629T030000
END:DAYLIGHT
BEGIN:STANDARD
TZNAME:CET
TZOFFSETFROM:+0100
TZOFFSETTO:+0100
DTSTART:19460101T000000
RDATE:19800101T000000
END:STANDARD
BEGIN:STANDARD
TZNAME:CET
TZOFFSETFROM:+0200
TZOFFSETTO:+0100
DTSTART:19471005T030000
RRULE:FREQ=YEARLY;UNTIL=19491002T010000Z;BYMONTH=10;BYDAY=1SU
END:STANDARD
BEGIN:STANDARD
TZNAME:CET
TZOFFSETFROM:+0200
TZOFFSETTO:+0100
DTSTART:19800928T030000
RRULE:FREQ=YEARLY;UNTIL=19950924T010000Z;BYMONTH=9;BYDAY=-1SU
END:STANDARD
BEGIN:DAYLIGHT
TZNAME:CEST
TZOFFSETFROM:+0100
TZOFFSETTO:+0200
DTSTART:19810329T020000
RRULE:FREQ=YEARLY;BYMONTH=3;BYDAY=-1SU
END:DAYLIGHT
BEGIN:STANDARD
TZNAME:CET
TZOFFSETFROM:+0200
TZOFFSETTO:+0100
DTSTART:19961027T030000
RRULE:FREQ=YEARLY;BYMONTH=10;BYDAY=-1SU
END:STANDARD
END:VTIMEZONE
BEGIN:VEVENT
DTSTAMP:20260419T211420Z
DTSTART;TZID=Europe/Berlin:20170920T201500
DTEND;TZID=Europe/Berlin:20170920T231500
SUMMARY:S L3 Gr 3 Yverdon vs Nyon II (0)
UID:6010be51-4eaf-5356-e053-1fc7a80a74f7
STATUS:CONFIRMED
LAST-MODIFIED:20170926T132133Z
DESCRIPTION:3ème ligue Seniors Groupe 3\nBegegnungs-Nr: 0\nHeim: Yverdon\nGast: Nyon II\n\nAdresse: Avenue des Quatre Marroniers 1\, 1400 Yverdon-les-Bains\n
LOCATION:Avenue des Quatre Marroniers 1\, 1400 Yverdon-les-Bains
CATEGORIES:Saison 2017/18
END:VEVENT
BEGIN:VEVENT
DTSTAMP:20260419T211420Z
DTSTART;TZID=Europe/Berlin:20171122T201500
DTEND;TZID=Europe/Berlin:20171122T231500
SUMMARY:S L3 Gr 3 Yverdon vs Montriond III (0)
UID:6010be51-4eec-5356-e053-1fc7a80a74f7
STATUS:CONFIRMED
LAST-MODIFIED:20171128T155307Z
DESCRIPTION:3ème ligue Seniors Groupe 3\nBegegnungs-Nr: 0\nHeim: Yverdon\nGast: Montriond III\n\nAdresse: Avenue des Quatre Marroniers 1\, 1400 Yverdon-les-Bains\n
LOCATION:Avenue des Quatre Marroniers 1\, 1400 Yverdon-les-Bains
CATEGORIES:Saison 2017/18
END:VEVENT
BEGIN:VEVENT
DTSTAMP:20260419T211420Z
DTSTART;TZID=Europe/Berlin:20171206T201500
DTEND;TZID=Europe/Berlin:20171206T231500
SUMMARY:S L3 Gr 3 Yverdon vs Penthalaz (0)
UID:6010be51-4eee-5356-e053-1fc7a80a74f7
STATUS:CONFIRMED
LAST-MODIFIED:20171214T152826Z
DESCRIPTION:3ème ligue Seniors Groupe 3\nBegegnungs-Nr: 0\nHeim: Yverdon\nGast: Penthalaz\n\nAdresse: Avenue des Quatre Marroniers 1\, 1400 Yverdon-les-Bains\n
LOCATION:Avenue des Quatre Marroniers 1\, 1400 Yverdon-les-Bains
CATEGORIES:Saison 2017/18
END:VEVENT
BEGIN:VEVENT
DTSTAMP:20260419T211420Z
DTSTART;TZID=Europe/Berlin:20180110T201500
DTEND;TZID=Europe/Berlin:20180110T231500
SUMMARY:S L3 Gr 3 Yverdon vs Lausanne (0)
UID:6010be51-4fc9-5356-e053-1fc7a80a74f7
STATUS:CONFIRMED
LAST-MODIFIED:20180116T164454Z
DESCRIPTION:3ème ligue Seniors Groupe 3\nBegegnungs-Nr: 0\nHeim: Yverdon\nGast: Lausanne\n\nAdresse: Avenue des Quatre Marroniers 1\, 1400 Yverdon-les-Bains\n
LOCATION:Avenue des Quatre Marroniers 1\, 1400 Yverdon-les-Bains
CATEGORIES:Saison 2017/18
END:VEVENT
BEGIN:VEVENT
DTSTAMP:20260419T211420Z
DTSTART;TZID=Europe/Berlin:20180207T201500
DTEND;TZID=Europe/Berlin:20180207T231500
SUMMARY:S L3 Gr 3 Yverdon vs Bougy II (0)
UID:6010be51-4fca-5356-e053-1fc7a80a74f7
STATUS:CONFIRMED
LAST-MODIFIED:20180213T155436Z
DESCRIPTION:3ème ligue Seniors Groupe 3\nBegegnungs-Nr: 0\nHeim: Yverdon\nGast: Bougy II\n\nAdresse: Avenue des Quatre Marroniers 1\, 1400 Yverdon-les-Bains\n
LOCATION:Avenue des Quatre Marroniers 1\, 1400 Yverdon-les-Bains
CATEGORIES:Saison 2017/18
END:VEVENT
BEGIN:VEVENT
DTSTAMP:20260419T211420Z
DTSTART;TZID=Europe/Berlin:20171010T200000
DTEND;TZID=Europe/Berlin:20171010T230000
SUMMARY:S L3 Gr 3 Lausanne vs Yverdon (0)
UID:6010be51-4eb1-5356-e053-1fc7a80a74f7
STATUS:CONFIRMED
LAST-MODIFIED:20171016T115825Z
DESCRIPTION:3ème ligue Seniors Groupe 3\nBegegnungs-Nr: 0\nHeim: Lausanne\nGast: Yverdon\n\nAdresse: Vaudoise Aréna\, Ch. du Viaduc 14\, 1008 Prilly\n
LOCATION:Vaudoise Aréna\, Ch. du Viaduc 14\, 1008 Prilly
CATEGORIES:Saison 2017/18
END:VEVENT
BEGIN:VEVENT
DTSTAMP:20260419T211420Z
DTSTART;TZID=Europe/Berlin:20171106T193000
DTEND;TZID=Europe/Berlin:20171106T223000
SUMMARY:S L3 Gr 3 Bougy II vs Yverdon (0)
UID:6010be51-4ee8-5356-e053-1fc7a80a74f7
STATUS:CONFIRMED
LAST-MODIFIED:20171113T165641Z
DESCRIPTION:3ème ligue Seniors Groupe 3\nBegegnungs-Nr: 0\nHeim: Bougy II\nGast: Yverdon\n\nAdresse: Grand-Rue 11\, 1172 Bougy-Villars\n
LOCATION:Grand-Rue 11\, 1172 Bougy-Villars
CATEGORIES:Saison 2017/18
END:VEVENT
BEGIN:VEVENT
DTSTAMP:20260419T211420Z
DTSTART;TZID=Europe/Berlin:20180228T193000
DTEND;TZID=Europe/Berlin:20180228T223000
SUMMARY:S L3 Gr 3 Montriond III vs Yverdon (0)
UID:6010be51-4fce-5356-e053-1fc7a80a74f7
STATUS:CONFIRMED
LAST-MODIFIED:20180306T171512Z
DESCRIPTION:3ème ligue Seniors Groupe 3\nBegegnungs-Nr: 0\nHeim: Montriond III\nGast: Yverdon\n\nAdresse: Avenue d'Ouchy 45\, 1006 Lausanne\n
LOCATION:Avenue d'Ouchy 45\, 1006 Lausanne
CATEGORIES:Saison 2017/18
END:VEVENT
BEGIN:VEVENT
DTSTAMP:20260419T211420Z
DTSTART;TZID=Europe/Berlin:20180323T200000
DTEND;TZID=Europe/Berlin:20180323T230000
SUMMARY:S L3 Gr 3 Penthalaz vs Yverdon (0)
UID:6010be51-4fd1-5356-e053-1fc7a80a74f7
STATUS:CONFIRMED
LAST-MODIFIED:20180329T163831Z
DESCRIPTION:3ème ligue Seniors Groupe 3\nBegegnungs-Nr: 0\nHeim: Penthalaz\nGast: Yverdon\n\nAdresse: Chemin du Collège 1\, 1305 Penthalaz\n
LOCATION:Chemin du Collège 1\, 1305 Penthalaz
CATEGORIES:Saison 2017/18
END:VEVENT
BEGIN:VEVENT
DTSTAMP:20260419T211420Z
DTSTART;TZID=Europe/Berlin:20171213T194500
DTEND;TZID=Europe/Berlin:20171213T224500
SUMMARY:S L3 Gr 3 Nyon II vs Yverdon (0)
UID:6010be51-4fc6-5356-e053-1fc7a80a74f7
STATUS:CONFIRMED
LAST-MODIFIED:20171220T101744Z
DESCRIPTION:3ème ligue Seniors Groupe 3\nBegegnungs-Nr: 0\nHeim: Nyon II\nGast: Yverdon\n\nAdresse: Rte des Tattes-d'Oie 97\, 1260 Nyon\n
LOCATION:Rte des Tattes-d'Oie 97\, 1260 Nyon
CATEGORIES:Saison 2017/18
END:VEVENT
END:VCALENDAR
