BEGIN:VCALENDAR
PRODID:-//nuDatenautomaten//framework iCal4j //DE
VERSION:2.0
CALSCALE:GREGORIAN
BEGIN:VTIMEZONE
TZID:Europe/Berlin
LAST-MODIFIED:20260306T231828Z
TZURL:https://www.tzurl.org/zoneinfo/Europe/Berlin
X-LIC-LOCATION:Europe/Berlin
X-PROLEPTIC-TZNAME:LMT
BEGIN:STANDARD
TZNAME:CET
TZOFFSETFROM:+005328
TZOFFSETTO:+0100
DTSTART:18930401T000000
END:STANDARD
BEGIN:DAYLIGHT
TZNAME:CEST
TZOFFSETFROM:+0100
TZOFFSETTO:+0200
DTSTART:19160430T230000
RDATE:19400401T020000
RDATE:19430329T020000
RDATE:19460414T020000
RDATE:19470406T030000
RDATE:19480418T020000
RDATE:19490410T020000
RDATE:19800406T020000
END:DAYLIGHT
BEGIN:STANDARD
TZNAME:CET
TZOFFSETFROM:+0200
TZOFFSETTO:+0100
DTSTART:19161001T010000
RDATE:19421102T030000
RDATE:19431004T030000
RDATE:19441002T030000
RDATE:19451118T030000
RDATE:19461007T030000
END:STANDARD
BEGIN:DAYLIGHT
TZNAME:CEST
TZOFFSETFROM:+0100
TZOFFSETTO:+0200
DTSTART:19170416T020000
RRULE:FREQ=YEARLY;UNTIL=19180415T010000Z;BYMONTH=4;BYDAY=3MO
END:DAYLIGHT
BEGIN:STANDARD
TZNAME:CET
TZOFFSETFROM:+0200
TZOFFSETTO:+0100
DTSTART:19170917T030000
RRULE:FREQ=YEARLY;UNTIL=19180916T010000Z;BYMONTH=9;BYDAY=3MO
END:STANDARD
BEGIN:DAYLIGHT
TZNAME:CEST
TZOFFSETFROM:+0100
TZOFFSETTO:+0200
DTSTART:19440403T020000
RRULE:FREQ=YEARLY;UNTIL=19450402T010000Z;BYMONTH=4;BYDAY=1MO
END:DAYLIGHT
BEGIN:DAYLIGHT
TZNAME:CEMT
TZOFFSETFROM:+0200
TZOFFSETTO:+0300
DTSTART:19450524T020000
RDATE:19470511T030000
END:DAYLIGHT
BEGIN:DAYLIGHT
TZNAME:CEST
TZOFFSETFROM:+0300
TZOFFSETTO:+0200
DTSTART:19450924T030000
RDATE:19470629T030000
END:DAYLIGHT
BEGIN:STANDARD
TZNAME:CET
TZOFFSETFROM:+0100
TZOFFSETTO:+0100
DTSTART:19460101T000000
RDATE:19800101T000000
END:STANDARD
BEGIN:STANDARD
TZNAME:CET
TZOFFSETFROM:+0200
TZOFFSETTO:+0100
DTSTART:19471005T030000
RRULE:FREQ=YEARLY;UNTIL=19491002T010000Z;BYMONTH=10;BYDAY=1SU
END:STANDARD
BEGIN:STANDARD
TZNAME:CET
TZOFFSETFROM:+0200
TZOFFSETTO:+0100
DTSTART:19800928T030000
RRULE:FREQ=YEARLY;UNTIL=19950924T010000Z;BYMONTH=9;BYDAY=-1SU
END:STANDARD
BEGIN:DAYLIGHT
TZNAME:CEST
TZOFFSETFROM:+0100
TZOFFSETTO:+0200
DTSTART:19810329T020000
RRULE:FREQ=YEARLY;BYMONTH=3;BYDAY=-1SU
END:DAYLIGHT
BEGIN:STANDARD
TZNAME:CET
TZOFFSETFROM:+0200
TZOFFSETTO:+0100
DTSTART:19961027T030000
RRULE:FREQ=YEARLY;BYMONTH=10;BYDAY=-1SU
END:STANDARD
END:VTIMEZONE
BEGIN:VEVENT
DTSTAMP:20260424T152345Z
DTSTART;TZID=Europe/Berlin:20170919T194500
DTEND;TZID=Europe/Berlin:20170919T224500
SUMMARY:Ligue 2 Gr.1\, Ph.A Mandement III vs UGS-Chênois V (5)
UID:6010be51-5327-5356-e053-1fc7a80a74f7
STATUS:CONFIRMED
LAST-MODIFIED:20170920T180059Z
DESCRIPTION:2ème ligue Hommes Gr. 1 Phase A\nBegegnungs-Nr: 5\nHeim: Mandement III\nGast: UGS-Chênois V\n
LOCATION:
CATEGORIES:Saison 2017/18
END:VEVENT
BEGIN:VEVENT
DTSTAMP:20260424T152345Z
DTSTART;TZID=Europe/Berlin:20171205T194500
DTEND;TZID=Europe/Berlin:20171205T224500
SUMMARY:Ligue 2 Gr.1\, Ph.A Mandement III vs Châtelaine V (25)
UID:6010be51-535c-5356-e053-1fc7a80a74f7
STATUS:CONFIRMED
LAST-MODIFIED:20171206T203716Z
DESCRIPTION:2ème ligue Hommes Gr. 1 Phase A\nBegegnungs-Nr: 25\nHeim: Mandement III\nGast: Châtelaine V\n
LOCATION:
CATEGORIES:Saison 2017/18
END:VEVENT
BEGIN:VEVENT
DTSTAMP:20260424T152345Z
DTSTART;TZID=Europe/Berlin:20171128T194500
DTEND;TZID=Europe/Berlin:20171128T224500
SUMMARY:Ligue 2 Gr.1\, Ph.A Mandement III vs ZZ-Lancy VII (22)
UID:6010be51-535e-5356-e053-1fc7a80a74f7
STATUS:CONFIRMED
LAST-MODIFIED:20171129T133014Z
DESCRIPTION:2ème ligue Hommes Gr. 1 Phase A\nBegegnungs-Nr: 22\nHeim: Mandement III\nGast: ZZ-Lancy VII\n
LOCATION:
CATEGORIES:Saison 2017/18
END:VEVENT
BEGIN:VEVENT
DTSTAMP:20260424T152345Z
DTSTART;TZID=Europe/Berlin:20171017T194500
DTEND;TZID=Europe/Berlin:20171017T224500
SUMMARY:Ligue 2 Gr.1\, Ph.A Mandement III vs UGS-Chênois VIII (15)
UID:6010be51-5365-5356-e053-1fc7a80a74f7
STATUS:CONFIRMED
LAST-MODIFIED:20171018T193833Z
DESCRIPTION:2ème ligue Hommes Gr. 1 Phase A\nBegegnungs-Nr: 15\nHeim: Mandement III\nGast: UGS-Chênois VIII\n
LOCATION:
CATEGORIES:Saison 2017/18
END:VEVENT
BEGIN:VEVENT
DTSTAMP:20260424T152345Z
DTSTART;TZID=Europe/Berlin:20180207T194500
DTEND;TZID=Europe/Berlin:20180207T224500
SUMMARY:Ligue 3 Gr.2\, Ph.B Mandement III vs Onex (12)
UID:a7cde66d-dcf7-4ee0-8e75-8373f7d708ac
STATUS:CONFIRMED
LAST-MODIFIED:20180207T230941Z
DESCRIPTION:3ème ligue Hommes Gr. 2 Phase B\nBegegnungs-Nr: 12\nHeim: Mandement III\nGast: Onex\n
LOCATION:
CATEGORIES:Saison 2017/18
END:VEVENT
BEGIN:VEVENT
DTSTAMP:20260424T152345Z
DTSTART;TZID=Europe/Berlin:20180314T194500
DTEND;TZID=Europe/Berlin:20180314T224500
SUMMARY:Ligue 3 Gr.2\, Ph.B Mandement III vs Puplinge (20)
UID:d7c6a91b-5168-4f5f-8bc3-7dbb3d337ab5
STATUS:CONFIRMED
LAST-MODIFIED:20180315T125416Z
DESCRIPTION:3ème ligue Hommes Gr. 2 Phase B\nBegegnungs-Nr: 20\nHeim: Mandement III\nGast: Puplinge\n
LOCATION:
CATEGORIES:Saison 2017/18
END:VEVENT
BEGIN:VEVENT
DTSTAMP:20260424T152345Z
DTSTART;TZID=Europe/Berlin:20171107T194500
DTEND;TZID=Europe/Berlin:20171107T224500
SUMMARY:Ligue 2 Gr.1\, Ph.A Mandement III vs Meyrin IV (16)
UID:6010be51-5a3f-5356-e053-1fc7a80a74f7
STATUS:CONFIRMED
LAST-MODIFIED:20171108T130951Z
DESCRIPTION:2ème ligue Hommes Gr. 1 Phase A\nBegegnungs-Nr: 16\nHeim: Mandement III\nGast: Meyrin IV\n
LOCATION:
CATEGORIES:Saison 2017/18
END:VEVENT
BEGIN:VEVENT
DTSTAMP:20260424T152345Z
DTSTART;TZID=Europe/Berlin:20180131T194500
DTEND;TZID=Europe/Berlin:20180131T224500
SUMMARY:Ligue 3 Gr.2\, Ph.B Mandement III vs Migros (8)
UID:b629beee-ca4f-4814-bee7-fdda05396cf6
STATUS:CONFIRMED
LAST-MODIFIED:20180201T132515Z
DESCRIPTION:3ème ligue Hommes Gr. 2 Phase B\nBegegnungs-Nr: 8\nHeim: Mandement III\nGast: Migros\n
LOCATION:
CATEGORIES:Saison 2017/18
END:VEVENT
BEGIN:VEVENT
DTSTAMP:20260424T152345Z
DTSTART;TZID=Europe/Berlin:20180418T194500
DTEND;TZID=Europe/Berlin:20180418T224500
SUMMARY:Ligue 3 Gr.2\, Ph.B Mandement III vs Carouge VII (28)
UID:b2c65828-2b60-4a8a-b2f9-bb94c19c7791
STATUS:CONFIRMED
LAST-MODIFIED:20180420T081246Z
DESCRIPTION:3ème ligue Hommes Gr. 2 Phase B\nBegegnungs-Nr: 28\nHeim: Mandement III\nGast: Carouge VII\n
LOCATION:
CATEGORIES:Saison 2017/18
END:VEVENT
BEGIN:VEVENT
DTSTAMP:20260424T152345Z
DTSTART;TZID=Europe/Berlin:20180110T194500
DTEND;TZID=Europe/Berlin:20180110T224500
SUMMARY:Ligue 3 Gr.2\, Ph.B Mandement III vs UGS-Chênois X (2)
UID:f3160d6f-e259-4f1f-b274-3c6ae8fa8943
STATUS:CONFIRMED
LAST-MODIFIED:20180111T172512Z
DESCRIPTION:3ème ligue Hommes Gr. 2 Phase B\nBegegnungs-Nr: 2\nHeim: Mandement III\nGast: UGS-Chênois X\n
LOCATION:
CATEGORIES:Saison 2017/18
END:VEVENT
BEGIN:VEVENT
DTSTAMP:20260424T152345Z
DTSTART;TZID=Europe/Berlin:20180523T194500
DTEND;TZID=Europe/Berlin:20180523T224500
SUMMARY:Ligue 3 Titre demi\, Ph.B Mandement III vs Silver Star III (2)
UID:9abf9f06-49e7-4e6b-acd1-af15100c68a5
STATUS:CONFIRMED
LAST-MODIFIED:20180524T113922Z
DESCRIPTION:3ème ligue Hommes Titre demi Phase B\nBegegnungs-Nr: 2\nHeim: Mandement III\nGast: Silver Star III\n
LOCATION:
CATEGORIES:Saison 2017/18
END:VEVENT
BEGIN:VEVENT
DTSTAMP:20260424T152345Z
DTSTART;TZID=Europe/Berlin:20170926T194500
DTEND;TZID=Europe/Berlin:20170926T224500
SUMMARY:Ligue 2 Gr.1\, Ph.A ZZ-Lancy VII vs Mandement III (8)
UID:6010be51-5324-5356-e053-1fc7a80a74f7
STATUS:CONFIRMED
LAST-MODIFIED:20170927T155438Z
DESCRIPTION:2ème ligue Hommes Gr. 1 Phase A\nBegegnungs-Nr: 8\nHeim: ZZ-Lancy VII\nGast: Mandement III\n\nAdresse: Avenue du Curé-Baud 40\, 1212 Grand-Lancy\n
LOCATION:Avenue du Curé-Baud 40\, 1212 Grand-Lancy
CATEGORIES:Saison 2017/18
END:VEVENT
BEGIN:VEVENT
DTSTAMP:20260424T152345Z
DTSTART;TZID=Europe/Berlin:20171212T194500
DTEND;TZID=Europe/Berlin:20171212T224500
SUMMARY:Ligue 2 Gr.1\, Ph.A UGS-Chênois VIII vs Mandement III (30)
UID:6010be51-5358-5356-e053-1fc7a80a74f7
STATUS:CONFIRMED
LAST-MODIFIED:20171213T194152Z
DESCRIPTION:2ème ligue Hommes Gr. 1 Phase A\nBegegnungs-Nr: 30\nHeim: UGS-Chênois VIII\nGast: Mandement III\n
LOCATION:
CATEGORIES:Saison 2017/18
END:VEVENT
BEGIN:VEVENT
DTSTAMP:20260424T152345Z
DTSTART;TZID=Europe/Berlin:20170912T194500
DTEND;TZID=Europe/Berlin:20170912T224500
SUMMARY:Ligue 2 Gr.1\, Ph.A Meyrin IV vs Mandement III (2)
UID:6010be51-5361-5356-e053-1fc7a80a74f7
STATUS:CONFIRMED
LAST-MODIFIED:20170913T154601Z
DESCRIPTION:2ème ligue Hommes Gr. 1 Phase A\nBegegnungs-Nr: 2\nHeim: Meyrin IV\nGast: Mandement III\n
LOCATION:
CATEGORIES:Saison 2017/18
END:VEVENT
BEGIN:VEVENT
DTSTAMP:20260424T152345Z
DTSTART;TZID=Europe/Berlin:20171010T194500
DTEND;TZID=Europe/Berlin:20171010T224500
SUMMARY:Ligue 2 Gr.1\, Ph.A Châtelaine V vs Mandement III (11)
UID:6010be51-5397-5356-e053-1fc7a80a74f7
STATUS:CONFIRMED
LAST-MODIFIED:20171011T124456Z
DESCRIPTION:2ème ligue Hommes Gr. 1 Phase A\nBegegnungs-Nr: 11\nHeim: Châtelaine V\nGast: Mandement III\n
LOCATION:
CATEGORIES:Saison 2017/18
END:VEVENT
BEGIN:VEVENT
DTSTAMP:20260424T152345Z
DTSTART;TZID=Europe/Berlin:20180411T194500
DTEND;TZID=Europe/Berlin:20180411T224500
SUMMARY:Ligue 3 Gr.2\, Ph.B Onex vs Mandement III (27)
UID:ae941df1-d876-4cce-83aa-a8e325d8de58
STATUS:CONFIRMED
LAST-MODIFIED:20180412T190652Z
DESCRIPTION:3ème ligue Hommes Gr. 2 Phase B\nBegegnungs-Nr: 27\nHeim: Onex\nGast: Mandement III\n
LOCATION:
CATEGORIES:Saison 2017/18
END:VEVENT
BEGIN:VEVENT
DTSTAMP:20260424T152345Z
DTSTART;TZID=Europe/Berlin:20171114T194500
DTEND;TZID=Europe/Berlin:20171114T224500
SUMMARY:Ligue 2 Gr.1\, Ph.A UGS-Chênois V vs Mandement III (19)
UID:6010be51-5cbb-5356-e053-1fc7a80a74f7
STATUS:CONFIRMED
LAST-MODIFIED:20171116T214658Z
DESCRIPTION:2ème ligue Hommes Gr. 1 Phase A\nBegegnungs-Nr: 19\nHeim: UGS-Chênois V\nGast: Mandement III\n
LOCATION:
CATEGORIES:Saison 2017/18
END:VEVENT
BEGIN:VEVENT
DTSTAMP:20260424T152345Z
DTSTART;TZID=Europe/Berlin:20180228T194500
DTEND;TZID=Europe/Berlin:20180228T224500
SUMMARY:Ligue 3 Gr.2\, Ph.B Carouge VII vs Mandement III (13)
UID:9052eee1-8ef5-4141-9ee5-d36b8425e880
STATUS:CONFIRMED
LAST-MODIFIED:20180228T214352Z
DESCRIPTION:3ème ligue Hommes Gr. 2 Phase B\nBegegnungs-Nr: 13\nHeim: Carouge VII\nGast: Mandement III\n
LOCATION:
CATEGORIES:Saison 2017/18
END:VEVENT
BEGIN:VEVENT
DTSTAMP:20260424T152345Z
DTSTART;TZID=Europe/Berlin:20180116T194500
DTEND;TZID=Europe/Berlin:20180116T224500
SUMMARY:Ligue 3 Gr.2\, Ph.B Puplinge vs Mandement III (5)
UID:4e8b00ba-1a2d-4a8c-a7e0-06437039b3e3
STATUS:CONFIRMED
LAST-MODIFIED:20180117T163424Z
DESCRIPTION:3ème ligue Hommes Gr. 2 Phase B\nBegegnungs-Nr: 5\nHeim: Puplinge\nGast: Mandement III\n
LOCATION:
CATEGORIES:Saison 2017/18
END:VEVENT
BEGIN:VEVENT
DTSTAMP:20260424T152345Z
DTSTART;TZID=Europe/Berlin:20180321T194500
DTEND;TZID=Europe/Berlin:20180321T224500
SUMMARY:Ligue 3 Gr.2\, Ph.B Migros vs Mandement III (23)
UID:157e495f-67db-49ac-8dcb-6dce7b58cbb8
STATUS:CONFIRMED
LAST-MODIFIED:20180322T210908Z
DESCRIPTION:3ème ligue Hommes Gr. 2 Phase B\nBegegnungs-Nr: 23\nHeim: Migros\nGast: Mandement III\n
LOCATION:
CATEGORIES:Saison 2017/18
END:VEVENT
BEGIN:VEVENT
DTSTAMP:20260424T152345Z
DTSTART;TZID=Europe/Berlin:20180307T194500
DTEND;TZID=Europe/Berlin:20180307T224500
SUMMARY:Ligue 3 Gr.2\, Ph.B UGS-Chênois X vs Mandement III (17)
UID:354105b4-a369-4675-9fe4-528b394c292d
STATUS:CONFIRMED
LAST-MODIFIED:20180308T203342Z
DESCRIPTION:3ème ligue Hommes Gr. 2 Phase B\nBegegnungs-Nr: 17\nHeim: UGS-Chênois X\nGast: Mandement III\n
LOCATION:
CATEGORIES:Saison 2017/18
END:VEVENT
END:VCALENDAR
