BEGIN:VCALENDAR
PRODID:-//nuDatenautomaten//framework iCal4j //DE
VERSION:2.0
CALSCALE:GREGORIAN
BEGIN:VTIMEZONE
TZID:Europe/Berlin
LAST-MODIFIED:20260306T231828Z
TZURL:https://www.tzurl.org/zoneinfo/Europe/Berlin
X-LIC-LOCATION:Europe/Berlin
X-PROLEPTIC-TZNAME:LMT
BEGIN:STANDARD
TZNAME:CET
TZOFFSETFROM:+005328
TZOFFSETTO:+0100
DTSTART:18930401T000000
END:STANDARD
BEGIN:DAYLIGHT
TZNAME:CEST
TZOFFSETFROM:+0100
TZOFFSETTO:+0200
DTSTART:19160430T230000
RDATE:19400401T020000
RDATE:19430329T020000
RDATE:19460414T020000
RDATE:19470406T030000
RDATE:19480418T020000
RDATE:19490410T020000
RDATE:19800406T020000
END:DAYLIGHT
BEGIN:STANDARD
TZNAME:CET
TZOFFSETFROM:+0200
TZOFFSETTO:+0100
DTSTART:19161001T010000
RDATE:19421102T030000
RDATE:19431004T030000
RDATE:19441002T030000
RDATE:19451118T030000
RDATE:19461007T030000
END:STANDARD
BEGIN:DAYLIGHT
TZNAME:CEST
TZOFFSETFROM:+0100
TZOFFSETTO:+0200
DTSTART:19170416T020000
RRULE:FREQ=YEARLY;UNTIL=19180415T010000Z;BYMONTH=4;BYDAY=3MO
END:DAYLIGHT
BEGIN:STANDARD
TZNAME:CET
TZOFFSETFROM:+0200
TZOFFSETTO:+0100
DTSTART:19170917T030000
RRULE:FREQ=YEARLY;UNTIL=19180916T010000Z;BYMONTH=9;BYDAY=3MO
END:STANDARD
BEGIN:DAYLIGHT
TZNAME:CEST
TZOFFSETFROM:+0100
TZOFFSETTO:+0200
DTSTART:19440403T020000
RRULE:FREQ=YEARLY;UNTIL=19450402T010000Z;BYMONTH=4;BYDAY=1MO
END:DAYLIGHT
BEGIN:DAYLIGHT
TZNAME:CEMT
TZOFFSETFROM:+0200
TZOFFSETTO:+0300
DTSTART:19450524T020000
RDATE:19470511T030000
END:DAYLIGHT
BEGIN:DAYLIGHT
TZNAME:CEST
TZOFFSETFROM:+0300
TZOFFSETTO:+0200
DTSTART:19450924T030000
RDATE:19470629T030000
END:DAYLIGHT
BEGIN:STANDARD
TZNAME:CET
TZOFFSETFROM:+0100
TZOFFSETTO:+0100
DTSTART:19460101T000000
RDATE:19800101T000000
END:STANDARD
BEGIN:STANDARD
TZNAME:CET
TZOFFSETFROM:+0200
TZOFFSETTO:+0100
DTSTART:19471005T030000
RRULE:FREQ=YEARLY;UNTIL=19491002T010000Z;BYMONTH=10;BYDAY=1SU
END:STANDARD
BEGIN:STANDARD
TZNAME:CET
TZOFFSETFROM:+0200
TZOFFSETTO:+0100
DTSTART:19800928T030000
RRULE:FREQ=YEARLY;UNTIL=19950924T010000Z;BYMONTH=9;BYDAY=-1SU
END:STANDARD
BEGIN:DAYLIGHT
TZNAME:CEST
TZOFFSETFROM:+0100
TZOFFSETTO:+0200
DTSTART:19810329T020000
RRULE:FREQ=YEARLY;BYMONTH=3;BYDAY=-1SU
END:DAYLIGHT
BEGIN:STANDARD
TZNAME:CET
TZOFFSETFROM:+0200
TZOFFSETTO:+0100
DTSTART:19961027T030000
RRULE:FREQ=YEARLY;BYMONTH=10;BYDAY=-1SU
END:STANDARD
END:VTIMEZONE
BEGIN:VEVENT
DTSTAMP:20260424T151032Z
DTSTART;TZID=Europe/Berlin:20171108T194500
DTEND;TZID=Europe/Berlin:20171108T224500
SUMMARY:Ligue 3 Gr.1\, Ph.A UGS-Chênois X vs Rapid-Genève IV (16)
UID:6010be51-544b-5356-e053-1fc7a80a74f7
STATUS:CONFIRMED
LAST-MODIFIED:20171112T121934Z
DESCRIPTION:3ème ligue Hommes Gr. 1 Phase A\nBegegnungs-Nr: 16\nHeim: UGS-Chênois X\nGast: Rapid-Genève IV\n
LOCATION:
CATEGORIES:Saison 2017/18
END:VEVENT
BEGIN:VEVENT
DTSTAMP:20260424T151032Z
DTSTART;TZID=Europe/Berlin:20170920T194500
DTEND;TZID=Europe/Berlin:20170920T224500
SUMMARY:Ligue 3 Gr.1\, Ph.A UGS-Chênois X vs Silver Star III (5)
UID:6010be51-5455-5356-e053-1fc7a80a74f7
STATUS:CONFIRMED
LAST-MODIFIED:20170921T130249Z
DESCRIPTION:3ème ligue Hommes Gr. 1 Phase A\nBegegnungs-Nr: 5\nHeim: UGS-Chênois X\nGast: Silver Star III\n
LOCATION:
CATEGORIES:Saison 2017/18
END:VEVENT
BEGIN:VEVENT
DTSTAMP:20260424T151032Z
DTSTART;TZID=Europe/Berlin:20171206T194500
DTEND;TZID=Europe/Berlin:20171206T224500
SUMMARY:Ligue 3 Gr.1\, Ph.A UGS-Chênois X vs Veyrier VII (25)
UID:6010be51-5581-5356-e053-1fc7a80a74f7
STATUS:CONFIRMED
LAST-MODIFIED:20171207T191740Z
DESCRIPTION:3ème ligue Hommes Gr. 1 Phase A\nBegegnungs-Nr: 25\nHeim: UGS-Chênois X\nGast: Veyrier VII\n
LOCATION:
CATEGORIES:Saison 2017/18
END:VEVENT
BEGIN:VEVENT
DTSTAMP:20260424T151032Z
DTSTART;TZID=Europe/Berlin:20171129T194500
DTEND;TZID=Europe/Berlin:20171129T224500
SUMMARY:Ligue 3 Gr.1\, Ph.A UGS-Chênois X vs Vernier III (22)
UID:6010be51-5584-5356-e053-1fc7a80a74f7
STATUS:CONFIRMED
LAST-MODIFIED:20171130T193153Z
DESCRIPTION:3ème ligue Hommes Gr. 1 Phase A\nBegegnungs-Nr: 22\nHeim: UGS-Chênois X\nGast: Vernier III\n
LOCATION:
CATEGORIES:Saison 2017/18
END:VEVENT
BEGIN:VEVENT
DTSTAMP:20260424T151032Z
DTSTART;TZID=Europe/Berlin:20171018T194500
DTEND;TZID=Europe/Berlin:20171018T224500
SUMMARY:Ligue 3 Gr.1\, Ph.A UGS-Chênois X vs Migros (15)
UID:6010be51-58f1-5356-e053-1fc7a80a74f7
STATUS:CONFIRMED
LAST-MODIFIED:20171019T114717Z
DESCRIPTION:3ème ligue Hommes Gr. 1 Phase A\nBegegnungs-Nr: 15\nHeim: UGS-Chênois X\nGast: Migros\n
LOCATION:
CATEGORIES:Saison 2017/18
END:VEVENT
BEGIN:VEVENT
DTSTAMP:20260424T151032Z
DTSTART;TZID=Europe/Berlin:20180117T194500
DTEND;TZID=Europe/Berlin:20180117T224500
SUMMARY:Ligue 3 Gr.2\, Ph.B UGS-Chênois X vs Migros (4)
UID:933de8e2-3c1f-498d-a193-93037db77342
STATUS:CONFIRMED
LAST-MODIFIED:20180119T084423Z
DESCRIPTION:3ème ligue Hommes Gr. 2 Phase B\nBegegnungs-Nr: 4\nHeim: UGS-Chênois X\nGast: Migros\n
LOCATION:
CATEGORIES:Saison 2017/18
END:VEVENT
BEGIN:VEVENT
DTSTAMP:20260424T151032Z
DTSTART;TZID=Europe/Berlin:20180411T194500
DTEND;TZID=Europe/Berlin:20180411T224500
SUMMARY:Ligue 3 Gr.2\, Ph.B UGS-Chênois X vs Puplinge (26)
UID:c2e6a79c-b733-4fc7-977c-8b42ce098c96
STATUS:CONFIRMED
LAST-MODIFIED:20180412T120925Z
DESCRIPTION:3ème ligue Hommes Gr. 2 Phase B\nBegegnungs-Nr: 26\nHeim: UGS-Chênois X\nGast: Puplinge\n
LOCATION:
CATEGORIES:Saison 2017/18
END:VEVENT
BEGIN:VEVENT
DTSTAMP:20260424T151032Z
DTSTART;TZID=Europe/Berlin:20180321T194500
DTEND;TZID=Europe/Berlin:20180321T224500
SUMMARY:Ligue 3 Gr.2\, Ph.B UGS-Chênois X vs Carouge VII (22)
UID:392864d4-165b-4790-ac98-7d67577e0358
STATUS:CONFIRMED
LAST-MODIFIED:20180322T182335Z
DESCRIPTION:3ème ligue Hommes Gr. 2 Phase B\nBegegnungs-Nr: 22\nHeim: UGS-Chênois X\nGast: Carouge VII\n
LOCATION:
CATEGORIES:Saison 2017/18
END:VEVENT
BEGIN:VEVENT
DTSTAMP:20260424T151032Z
DTSTART;TZID=Europe/Berlin:20180307T194500
DTEND;TZID=Europe/Berlin:20180307T224500
SUMMARY:Ligue 3 Gr.2\, Ph.B UGS-Chênois X vs Mandement III (17)
UID:354105b4-a369-4675-9fe4-528b394c292d
STATUS:CONFIRMED
LAST-MODIFIED:20180308T203342Z
DESCRIPTION:3ème ligue Hommes Gr. 2 Phase B\nBegegnungs-Nr: 17\nHeim: UGS-Chênois X\nGast: Mandement III\n
LOCATION:
CATEGORIES:Saison 2017/18
END:VEVENT
BEGIN:VEVENT
DTSTAMP:20260424T151032Z
DTSTART;TZID=Europe/Berlin:20180228T194500
DTEND;TZID=Europe/Berlin:20180228T224500
SUMMARY:Ligue 3 Gr.2\, Ph.B UGS-Chênois X vs Onex (15)
UID:b63ca335-c9fe-460b-a4df-e8dbdf920a32
STATUS:CONFIRMED
LAST-MODIFIED:20180302T205025Z
DESCRIPTION:3ème ligue Hommes Gr. 2 Phase B\nBegegnungs-Nr: 15\nHeim: UGS-Chênois X\nGast: Onex\n
LOCATION:
CATEGORIES:Saison 2017/18
END:VEVENT
BEGIN:VEVENT
DTSTAMP:20260424T151032Z
DTSTART;TZID=Europe/Berlin:20171115T194500
DTEND;TZID=Europe/Berlin:20171115T224500
SUMMARY:Ligue 3 Gr.1\, Ph.A Silver Star III vs UGS-Chênois X (19)
UID:6010be51-5449-5356-e053-1fc7a80a74f7
STATUS:CONFIRMED
LAST-MODIFIED:20171116T125435Z
DESCRIPTION:3ème ligue Hommes Gr. 1 Phase A\nBegegnungs-Nr: 19\nHeim: Silver Star III\nGast: UGS-Chênois X\n\nAdresse: Rue de Vermont 33\, 1202 Genève\n
LOCATION:Rue de Vermont 33\, 1202 Genève
CATEGORIES:Saison 2017/18
END:VEVENT
BEGIN:VEVENT
DTSTAMP:20260424T151032Z
DTSTART;TZID=Europe/Berlin:20171213T194500
DTEND;TZID=Europe/Berlin:20171213T224500
SUMMARY:Ligue 3 Gr.1\, Ph.A Migros vs UGS-Chênois X (30)
UID:6010be51-544e-5356-e053-1fc7a80a74f7
STATUS:CONFIRMED
LAST-MODIFIED:20171214T142846Z
DESCRIPTION:3ème ligue Hommes Gr. 1 Phase A\nBegegnungs-Nr: 30\nHeim: Migros\nGast: UGS-Chênois X\n
LOCATION:
CATEGORIES:Saison 2017/18
END:VEVENT
BEGIN:VEVENT
DTSTAMP:20260424T151032Z
DTSTART;TZID=Europe/Berlin:20171011T194500
DTEND;TZID=Europe/Berlin:20171011T224500
SUMMARY:Ligue 3 Gr.1\, Ph.A Veyrier VII vs UGS-Chênois X (11)
UID:6010be51-5451-5356-e053-1fc7a80a74f7
STATUS:CONFIRMED
LAST-MODIFIED:20171012T113009Z
DESCRIPTION:3ème ligue Hommes Gr. 1 Phase A\nBegegnungs-Nr: 11\nHeim: Veyrier VII\nGast: UGS-Chênois X\n\nAdresse: -\, 1255 Veyrier\n
LOCATION:-\, 1255 Veyrier
CATEGORIES:Saison 2017/18
END:VEVENT
BEGIN:VEVENT
DTSTAMP:20260424T151032Z
DTSTART;TZID=Europe/Berlin:20170927T194500
DTEND;TZID=Europe/Berlin:20170927T224500
SUMMARY:Ligue 3 Gr.1\, Ph.A Vernier III vs UGS-Chênois X (8)
UID:6010be51-5453-5356-e053-1fc7a80a74f7
STATUS:CONFIRMED
LAST-MODIFIED:20170928T113354Z
DESCRIPTION:3ème ligue Hommes Gr. 1 Phase A\nBegegnungs-Nr: 8\nHeim: Vernier III\nGast: UGS-Chênois X\n\nAdresse: Rue du Village 6\, 1214 Vernier\n
LOCATION:Rue du Village 6\, 1214 Vernier
CATEGORIES:Saison 2017/18
END:VEVENT
BEGIN:VEVENT
DTSTAMP:20260424T151032Z
DTSTART;TZID=Europe/Berlin:20170913T194500
DTEND;TZID=Europe/Berlin:20170913T224500
SUMMARY:Ligue 3 Gr.1\, Ph.A Rapid-Genève IV vs UGS-Chênois X (2)
UID:6010be51-54ff-5356-e053-1fc7a80a74f7
STATUS:CONFIRMED
LAST-MODIFIED:20170926T173445Z
DESCRIPTION:3ème ligue Hommes Gr. 1 Phase A\nBegegnungs-Nr: 2\nHeim: Rapid-Genève IV\nGast: UGS-Chênois X\n
LOCATION:
CATEGORIES:Saison 2017/18
END:VEVENT
BEGIN:VEVENT
DTSTAMP:20260424T151032Z
DTSTART;TZID=Europe/Berlin:20180131T194500
DTEND;TZID=Europe/Berlin:20180131T224500
SUMMARY:Ligue 3 Gr.2\, Ph.B Carouge VII vs UGS-Chênois X (7)
UID:cf96af46-d49c-4a97-9944-b83dc6eeb2d5
STATUS:CONFIRMED
LAST-MODIFIED:20180201T132443Z
DESCRIPTION:3ème ligue Hommes Gr. 2 Phase B\nBegegnungs-Nr: 7\nHeim: Carouge VII\nGast: UGS-Chênois X\n
LOCATION:
CATEGORIES:Saison 2017/18
END:VEVENT
BEGIN:VEVENT
DTSTAMP:20260424T151032Z
DTSTART;TZID=Europe/Berlin:20180207T194500
DTEND;TZID=Europe/Berlin:20180207T224500
SUMMARY:Ligue 3 Gr.2\, Ph.B Puplinge vs UGS-Chênois X (11)
UID:e0cd799c-841b-400c-bcae-114c7bfe2ca7
STATUS:CONFIRMED
LAST-MODIFIED:20180207T230858Z
DESCRIPTION:3ème ligue Hommes Gr. 2 Phase B\nBegegnungs-Nr: 11\nHeim: Puplinge\nGast: UGS-Chênois X\n
LOCATION:
CATEGORIES:Saison 2017/18
END:VEVENT
BEGIN:VEVENT
DTSTAMP:20260424T151032Z
DTSTART;TZID=Europe/Berlin:20180418T194500
DTEND;TZID=Europe/Berlin:20180418T224500
SUMMARY:Ligue 3 Gr.2\, Ph.B Onex vs UGS-Chênois X (30)
UID:833a0f03-2209-425f-8151-ef17d935c351
STATUS:CONFIRMED
LAST-MODIFIED:20180419T120131Z
DESCRIPTION:3ème ligue Hommes Gr. 2 Phase B\nBegegnungs-Nr: 30\nHeim: Onex\nGast: UGS-Chênois X\n
LOCATION:
CATEGORIES:Saison 2017/18
END:VEVENT
BEGIN:VEVENT
DTSTAMP:20260424T151032Z
DTSTART;TZID=Europe/Berlin:20180110T194500
DTEND;TZID=Europe/Berlin:20180110T224500
SUMMARY:Ligue 3 Gr.2\, Ph.B Mandement III vs UGS-Chênois X (2)
UID:f3160d6f-e259-4f1f-b274-3c6ae8fa8943
STATUS:CONFIRMED
LAST-MODIFIED:20180111T172512Z
DESCRIPTION:3ème ligue Hommes Gr. 2 Phase B\nBegegnungs-Nr: 2\nHeim: Mandement III\nGast: UGS-Chênois X\n
LOCATION:
CATEGORIES:Saison 2017/18
END:VEVENT
BEGIN:VEVENT
DTSTAMP:20260424T151032Z
DTSTART;TZID=Europe/Berlin:20180314T194500
DTEND;TZID=Europe/Berlin:20180314T224500
SUMMARY:Ligue 3 Gr.2\, Ph.B Migros vs UGS-Chênois X (19)
UID:afb3c994-640f-4312-8935-a491913a227a
STATUS:CONFIRMED
LAST-MODIFIED:20180316T080838Z
DESCRIPTION:3ème ligue Hommes Gr. 2 Phase B\nBegegnungs-Nr: 19\nHeim: Migros\nGast: UGS-Chênois X\n
LOCATION:
CATEGORIES:Saison 2017/18
END:VEVENT
END:VCALENDAR
