BEGIN:VCALENDAR
PRODID:-//nuDatenautomaten//framework iCal4j //DE
VERSION:2.0
CALSCALE:GREGORIAN
BEGIN:VTIMEZONE
TZID:Europe/Berlin
LAST-MODIFIED:20260306T231828Z
TZURL:https://www.tzurl.org/zoneinfo/Europe/Berlin
X-LIC-LOCATION:Europe/Berlin
X-PROLEPTIC-TZNAME:LMT
BEGIN:STANDARD
TZNAME:CET
TZOFFSETFROM:+005328
TZOFFSETTO:+0100
DTSTART:18930401T000000
END:STANDARD
BEGIN:DAYLIGHT
TZNAME:CEST
TZOFFSETFROM:+0100
TZOFFSETTO:+0200
DTSTART:19160430T230000
RDATE:19400401T020000
RDATE:19430329T020000
RDATE:19460414T020000
RDATE:19470406T030000
RDATE:19480418T020000
RDATE:19490410T020000
RDATE:19800406T020000
END:DAYLIGHT
BEGIN:STANDARD
TZNAME:CET
TZOFFSETFROM:+0200
TZOFFSETTO:+0100
DTSTART:19161001T010000
RDATE:19421102T030000
RDATE:19431004T030000
RDATE:19441002T030000
RDATE:19451118T030000
RDATE:19461007T030000
END:STANDARD
BEGIN:DAYLIGHT
TZNAME:CEST
TZOFFSETFROM:+0100
TZOFFSETTO:+0200
DTSTART:19170416T020000
RRULE:FREQ=YEARLY;UNTIL=19180415T010000Z;BYMONTH=4;BYDAY=3MO
END:DAYLIGHT
BEGIN:STANDARD
TZNAME:CET
TZOFFSETFROM:+0200
TZOFFSETTO:+0100
DTSTART:19170917T030000
RRULE:FREQ=YEARLY;UNTIL=19180916T010000Z;BYMONTH=9;BYDAY=3MO
END:STANDARD
BEGIN:DAYLIGHT
TZNAME:CEST
TZOFFSETFROM:+0100
TZOFFSETTO:+0200
DTSTART:19440403T020000
RRULE:FREQ=YEARLY;UNTIL=19450402T010000Z;BYMONTH=4;BYDAY=1MO
END:DAYLIGHT
BEGIN:DAYLIGHT
TZNAME:CEMT
TZOFFSETFROM:+0200
TZOFFSETTO:+0300
DTSTART:19450524T020000
RDATE:19470511T030000
END:DAYLIGHT
BEGIN:DAYLIGHT
TZNAME:CEST
TZOFFSETFROM:+0300
TZOFFSETTO:+0200
DTSTART:19450924T030000
RDATE:19470629T030000
END:DAYLIGHT
BEGIN:STANDARD
TZNAME:CET
TZOFFSETFROM:+0100
TZOFFSETTO:+0100
DTSTART:19460101T000000
RDATE:19800101T000000
END:STANDARD
BEGIN:STANDARD
TZNAME:CET
TZOFFSETFROM:+0200
TZOFFSETTO:+0100
DTSTART:19471005T030000
RRULE:FREQ=YEARLY;UNTIL=19491002T010000Z;BYMONTH=10;BYDAY=1SU
END:STANDARD
BEGIN:STANDARD
TZNAME:CET
TZOFFSETFROM:+0200
TZOFFSETTO:+0100
DTSTART:19800928T030000
RRULE:FREQ=YEARLY;UNTIL=19950924T010000Z;BYMONTH=9;BYDAY=-1SU
END:STANDARD
BEGIN:DAYLIGHT
TZNAME:CEST
TZOFFSETFROM:+0100
TZOFFSETTO:+0200
DTSTART:19810329T020000
RRULE:FREQ=YEARLY;BYMONTH=3;BYDAY=-1SU
END:DAYLIGHT
BEGIN:STANDARD
TZNAME:CET
TZOFFSETFROM:+0200
TZOFFSETTO:+0100
DTSTART:19961027T030000
RRULE:FREQ=YEARLY;BYMONTH=10;BYDAY=-1SU
END:STANDARD
END:VTIMEZONE
BEGIN:VEVENT
DTSTAMP:20260424T204020Z
DTSTART;TZID=Europe/Berlin:20171127T193000
DTEND;TZID=Europe/Berlin:20171127T223000
SUMMARY:HE 2. Liga Gr. 2 Ostermundigen III vs Kirchberg (34)
UID:6010be51-3c48-5356-e053-1fc7a80a74f7
STATUS:CONFIRMED
LAST-MODIFIED:20171128T185631Z
DESCRIPTION:2. Liga Herren Gruppe 2\nBegegnungs-Nr: 34\nHeim: Ostermundigen III\nGast: Kirchberg\n\nAdresse: Dennigkofenweg 169\, 3072 Ostermundigen\n
LOCATION:Dennigkofenweg 169\, 3072 Ostermundigen
CATEGORIES:Saison 2017/18
END:VEVENT
BEGIN:VEVENT
DTSTAMP:20260424T204020Z
DTSTART;TZID=Europe/Berlin:20171013T193000
DTEND;TZID=Europe/Berlin:20171013T223000
SUMMARY:HE 2. Liga Gr. 2 Ostermundigen III vs Herzogenbuchsee (16)
UID:6010be51-3cb2-5356-e053-1fc7a80a74f7
STATUS:CONFIRMED
LAST-MODIFIED:20171014T130609Z
DESCRIPTION:2. Liga Herren Gruppe 2\nBegegnungs-Nr: 16\nHeim: Ostermundigen III\nGast: Herzogenbuchsee\n\nAdresse: Dennigkofenweg 169\, 3072 Ostermundigen\n
LOCATION:Dennigkofenweg 169\, 3072 Ostermundigen
CATEGORIES:Saison 2017/18
END:VEVENT
BEGIN:VEVENT
DTSTAMP:20260424T204020Z
DTSTART;TZID=Europe/Berlin:20170908T193000
DTEND;TZID=Europe/Berlin:20170908T223000
SUMMARY:HE 2. Liga Gr. 2 Ostermundigen III vs Solothurn II (9)
UID:6010be51-3cb7-5356-e053-1fc7a80a74f7
STATUS:CONFIRMED
LAST-MODIFIED:20170910T172931Z
DESCRIPTION:2. Liga Herren Gruppe 2\nBegegnungs-Nr: 9\nHeim: Ostermundigen III\nGast: Solothurn II\n\nAdresse: Dennigkofenweg 169\, 3072 Ostermundigen\n
LOCATION:Dennigkofenweg 169\, 3072 Ostermundigen
CATEGORIES:Saison 2017/18
END:VEVENT
BEGIN:VEVENT
DTSTAMP:20260424T204020Z
DTSTART;TZID=Europe/Berlin:20180326T193000
DTEND;TZID=Europe/Berlin:20180326T223000
SUMMARY:HE 2. Liga Gr. 2 Ostermundigen III vs Brügg (43)
UID:6010be51-3cf5-5356-e053-1fc7a80a74f7
STATUS:CONFIRMED
LAST-MODIFIED:20180327T152420Z
DESCRIPTION:2. Liga Herren Gruppe 2\nBegegnungs-Nr: 43\nHeim: Ostermundigen III\nGast: Brügg\n\nAdresse: Dennigkofenweg 169\, 3072 Ostermundigen\n
LOCATION:Dennigkofenweg 169\, 3072 Ostermundigen
CATEGORIES:Saison 2017/18
END:VEVENT
BEGIN:VEVENT
DTSTAMP:20260424T204020Z
DTSTART;TZID=Europe/Berlin:20180319T193000
DTEND;TZID=Europe/Berlin:20180319T223000
SUMMARY:HE 2. Liga Gr. 2 Ostermundigen III vs Lyss (40)
UID:6010be51-3cf8-5356-e053-1fc7a80a74f7
STATUS:CONFIRMED
LAST-MODIFIED:20180320T162520Z
DESCRIPTION:2. Liga Herren Gruppe 2\nBegegnungs-Nr: 40\nHeim: Ostermundigen III\nGast: Lyss\n\nAdresse: Dennigkofenweg 169\, 3072 Ostermundigen\n
LOCATION:Dennigkofenweg 169\, 3072 Ostermundigen
CATEGORIES:Saison 2017/18
END:VEVENT
BEGIN:VEVENT
DTSTAMP:20260424T204020Z
DTSTART;TZID=Europe/Berlin:20170901T193000
DTEND;TZID=Europe/Berlin:20170901T223000
SUMMARY:HE 2. Liga Gr. 2 Ostermundigen III vs Belp (3)
UID:6010be51-49a8-5356-e053-1fc7a80a74f7
STATUS:CONFIRMED
LAST-MODIFIED:20170903T115756Z
DESCRIPTION:2. Liga Herren Gruppe 2\nBegegnungs-Nr: 3\nHeim: Ostermundigen III\nGast: Belp\n\nAdresse: Dennigkofenweg 169\, 3072 Ostermundigen\n
LOCATION:Dennigkofenweg 169\, 3072 Ostermundigen
CATEGORIES:Saison 2017/18
END:VEVENT
BEGIN:VEVENT
DTSTAMP:20260424T204020Z
DTSTART;TZID=Europe/Berlin:20180122T193000
DTEND;TZID=Europe/Berlin:20180122T223000
SUMMARY:HE 2. Liga Gr. 2 Ostermundigen III vs Port II (15)
UID:6010be51-3e52-5356-e053-1fc7a80a74f7
STATUS:CONFIRMED
LAST-MODIFIED:20180124T174348Z
DESCRIPTION:2. Liga Herren Gruppe 2\nBegegnungs-Nr: 15\nHeim: Ostermundigen III\nGast: Port II\n\nAdresse: Dennigkofenweg 169\, 3072 Ostermundigen\n
LOCATION:Dennigkofenweg 169\, 3072 Ostermundigen
CATEGORIES:Saison 2017/18
END:VEVENT
BEGIN:VEVENT
DTSTAMP:20260424T204020Z
DTSTART;TZID=Europe/Berlin:20180226T193000
DTEND;TZID=Europe/Berlin:20180226T223000
SUMMARY:HE 2. Liga Gr. 2 Ostermundigen III vs Burgdorf III (30)
UID:6010be51-3d6e-5356-e053-1fc7a80a74f7
STATUS:CONFIRMED
LAST-MODIFIED:20180228T162423Z
DESCRIPTION:2. Liga Herren Gruppe 2\nBegegnungs-Nr: 30\nHeim: Ostermundigen III\nGast: Burgdorf III\n\nAdresse: Dennigkofenweg 169\, 3072 Ostermundigen\n
LOCATION:Dennigkofenweg 169\, 3072 Ostermundigen
CATEGORIES:Saison 2017/18
END:VEVENT
BEGIN:VEVENT
DTSTAMP:20260424T204020Z
DTSTART;TZID=Europe/Berlin:20180212T193000
DTEND;TZID=Europe/Berlin:20180212T223000
SUMMARY:HE 2. Liga Gr. 2 Ostermundigen III vs Aarberg III (22)
UID:6010be51-3e19-5356-e053-1fc7a80a74f7
STATUS:CONFIRMED
LAST-MODIFIED:20180213T182554Z
DESCRIPTION:2. Liga Herren Gruppe 2\nBegegnungs-Nr: 22\nHeim: Ostermundigen III\nGast: Aarberg III\n\nAdresse: Dennigkofenweg 169\, 3072 Ostermundigen\n
LOCATION:Dennigkofenweg 169\, 3072 Ostermundigen
CATEGORIES:Saison 2017/18
END:VEVENT
BEGIN:VEVENT
DTSTAMP:20260424T204020Z
DTSTART;TZID=Europe/Berlin:20171206T195500
DTEND;TZID=Europe/Berlin:20171206T225500
SUMMARY:HE 2. Liga Gr. 2 Brügg vs Ostermundigen III (43)
UID:6010be51-3c41-5356-e053-1fc7a80a74f7
STATUS:CONFIRMED
LAST-MODIFIED:20171208T161619Z
DESCRIPTION:2. Liga Herren Gruppe 2\nBegegnungs-Nr: 43\nHeim: Brügg\nGast: Ostermundigen III\n\nAdresse: Bärletweg 7\, 2555 Brügg\n
LOCATION:Bärletweg 7\, 2555 Brügg
CATEGORIES:Saison 2017/18
END:VEVENT
BEGIN:VEVENT
DTSTAMP:20260424T204020Z
DTSTART;TZID=Europe/Berlin:20171111T133000
DTEND;TZID=Europe/Berlin:20171111T163000
SUMMARY:HE 2. Liga Gr. 2 Burgdorf III vs Ostermundigen III (30)
UID:6010be51-3c75-5356-e053-1fc7a80a74f7
STATUS:CONFIRMED
LAST-MODIFIED:20171113T115645Z
DESCRIPTION:2. Liga Herren Gruppe 2\nBegegnungs-Nr: 30\nHeim: Burgdorf III\nGast: Ostermundigen III\n\nAdresse: Pestalozzistrasse 69\, 3400 Burgdorf\n
LOCATION:Pestalozzistrasse 69\, 3400 Burgdorf
CATEGORIES:Saison 2017/18
END:VEVENT
BEGIN:VEVENT
DTSTAMP:20260424T204020Z
DTSTART;TZID=Europe/Berlin:20171020T194500
DTEND;TZID=Europe/Berlin:20171020T224500
SUMMARY:HE 2. Liga Gr. 2 Aarberg III vs Ostermundigen III (22)
UID:6010be51-3c7c-5356-e053-1fc7a80a74f7
STATUS:CONFIRMED
LAST-MODIFIED:20171021T094222Z
DESCRIPTION:2. Liga Herren Gruppe 2\nBegegnungs-Nr: 22\nHeim: Aarberg III\nGast: Ostermundigen III\n\nAdresse: Nidaustrasse 7\, 3270 Aarberg\n
LOCATION:Nidaustrasse 7\, 3270 Aarberg
CATEGORIES:Saison 2017/18
END:VEVENT
BEGIN:VEVENT
DTSTAMP:20260424T204020Z
DTSTART;TZID=Europe/Berlin:20170922T194500
DTEND;TZID=Europe/Berlin:20170922T224500
SUMMARY:HE 2. Liga Gr. 2 Port II vs Ostermundigen III (15)
UID:6010be51-3cb3-5356-e053-1fc7a80a74f7
STATUS:CONFIRMED
LAST-MODIFIED:20170923T145422Z
DESCRIPTION:2. Liga Herren Gruppe 2\nBegegnungs-Nr: 15\nHeim: Port II\nGast: Ostermundigen III\n\nAdresse: Allmendstrasse 23\, 2562 Port\n
LOCATION:Allmendstrasse 23\, 2562 Port
CATEGORIES:Saison 2017/18
END:VEVENT
BEGIN:VEVENT
DTSTAMP:20260424T204020Z
DTSTART;TZID=Europe/Berlin:20180309T200000
DTEND;TZID=Europe/Berlin:20180309T230000
SUMMARY:HE 2. Liga Gr. 2 Kirchberg vs Ostermundigen III (34)
UID:6010be51-3d34-5356-e053-1fc7a80a74f7
STATUS:CONFIRMED
LAST-MODIFIED:20180310T184730Z
DESCRIPTION:2. Liga Herren Gruppe 2\nBegegnungs-Nr: 34\nHeim: Kirchberg\nGast: Ostermundigen III\n\nAdresse: Reinhardweg\, 3422 Kirchberg\n
LOCATION:Reinhardweg\, 3422 Kirchberg
CATEGORIES:Saison 2017/18
END:VEVENT
BEGIN:VEVENT
DTSTAMP:20260424T204020Z
DTSTART;TZID=Europe/Berlin:20171215T193000
DTEND;TZID=Europe/Berlin:20171215T223000
SUMMARY:HE 2. Liga Gr. 2 Belp vs Ostermundigen III (3)
UID:6010be51-3b64-5356-e053-1fc7a80a74f7
STATUS:CONFIRMED
LAST-MODIFIED:20171217T070755Z
DESCRIPTION:2. Liga Herren Gruppe 2\nBegegnungs-Nr: 3\nHeim: Belp\nGast: Ostermundigen III\n\nAdresse: Neumattstrasse 39\, 3123 Belp\n
LOCATION:Neumattstrasse 39\, 3123 Belp
CATEGORIES:Saison 2017/18
END:VEVENT
BEGIN:VEVENT
DTSTAMP:20260424T204020Z
DTSTART;TZID=Europe/Berlin:20180117T194500
DTEND;TZID=Europe/Berlin:20180117T224500
SUMMARY:HE 2. Liga Gr. 2 Solothurn II vs Ostermundigen III (9)
UID:6010be51-3e4d-5356-e053-1fc7a80a74f7
STATUS:CONFIRMED
LAST-MODIFIED:20180119T191147Z
DESCRIPTION:2. Liga Herren Gruppe 2\nBegegnungs-Nr: 9\nHeim: Solothurn II\nGast: Ostermundigen III\n\nAdresse: Untere Sternengasse 24\, 4500 Solothurn\n
LOCATION:Untere Sternengasse 24\, 4500 Solothurn
CATEGORIES:Saison 2017/18
END:VEVENT
BEGIN:VEVENT
DTSTAMP:20260424T204020Z
DTSTART;TZID=Europe/Berlin:20180130T201500
DTEND;TZID=Europe/Berlin:20180130T231500
SUMMARY:HE 2. Liga Gr. 2 Herzogenbuchsee vs Ostermundigen III (16)
UID:6010be51-3e51-5356-e053-1fc7a80a74f7
STATUS:CONFIRMED
LAST-MODIFIED:20180131T074851Z
DESCRIPTION:2. Liga Herren Gruppe 2\nBegegnungs-Nr: 16\nHeim: Herzogenbuchsee\nGast: Ostermundigen III\n\nAdresse: Ringstrasse 10\, 3360 Herzogenbuchsee\n
LOCATION:Ringstrasse 10\, 3360 Herzogenbuchsee
CATEGORIES:Saison 2017/18
END:VEVENT
BEGIN:VEVENT
DTSTAMP:20260424T204020Z
DTSTART;TZID=Europe/Berlin:20171123T201500
DTEND;TZID=Europe/Berlin:20171123T231500
SUMMARY:HE 2. Liga Gr. 2 Lyss vs Ostermundigen III (40)
UID:6010be51-5855-5356-e053-1fc7a80a74f7
STATUS:CONFIRMED
LAST-MODIFIED:20171125T062811Z
DESCRIPTION:2. Liga Herren Gruppe 2\nBegegnungs-Nr: 40\nHeim: Lyss\nGast: Ostermundigen III\n\nAdresse: Stegmattweg 15-17\, 3250 Lyss\n
LOCATION:Stegmattweg 15-17\, 3250 Lyss
CATEGORIES:Saison 2017/18
END:VEVENT
END:VCALENDAR
