BEGIN:VCALENDAR
PRODID:-//nuDatenautomaten//framework iCal4j //DE
VERSION:2.0
CALSCALE:GREGORIAN
BEGIN:VTIMEZONE
TZID:Europe/Berlin
LAST-MODIFIED:20260306T231828Z
TZURL:https://www.tzurl.org/zoneinfo/Europe/Berlin
X-LIC-LOCATION:Europe/Berlin
X-PROLEPTIC-TZNAME:LMT
BEGIN:STANDARD
TZNAME:CET
TZOFFSETFROM:+005328
TZOFFSETTO:+0100
DTSTART:18930401T000000
END:STANDARD
BEGIN:DAYLIGHT
TZNAME:CEST
TZOFFSETFROM:+0100
TZOFFSETTO:+0200
DTSTART:19160430T230000
RDATE:19400401T020000
RDATE:19430329T020000
RDATE:19460414T020000
RDATE:19470406T030000
RDATE:19480418T020000
RDATE:19490410T020000
RDATE:19800406T020000
END:DAYLIGHT
BEGIN:STANDARD
TZNAME:CET
TZOFFSETFROM:+0200
TZOFFSETTO:+0100
DTSTART:19161001T010000
RDATE:19421102T030000
RDATE:19431004T030000
RDATE:19441002T030000
RDATE:19451118T030000
RDATE:19461007T030000
END:STANDARD
BEGIN:DAYLIGHT
TZNAME:CEST
TZOFFSETFROM:+0100
TZOFFSETTO:+0200
DTSTART:19170416T020000
RRULE:FREQ=YEARLY;UNTIL=19180415T010000Z;BYMONTH=4;BYDAY=3MO
END:DAYLIGHT
BEGIN:STANDARD
TZNAME:CET
TZOFFSETFROM:+0200
TZOFFSETTO:+0100
DTSTART:19170917T030000
RRULE:FREQ=YEARLY;UNTIL=19180916T010000Z;BYMONTH=9;BYDAY=3MO
END:STANDARD
BEGIN:DAYLIGHT
TZNAME:CEST
TZOFFSETFROM:+0100
TZOFFSETTO:+0200
DTSTART:19440403T020000
RRULE:FREQ=YEARLY;UNTIL=19450402T010000Z;BYMONTH=4;BYDAY=1MO
END:DAYLIGHT
BEGIN:DAYLIGHT
TZNAME:CEMT
TZOFFSETFROM:+0200
TZOFFSETTO:+0300
DTSTART:19450524T020000
RDATE:19470511T030000
END:DAYLIGHT
BEGIN:DAYLIGHT
TZNAME:CEST
TZOFFSETFROM:+0300
TZOFFSETTO:+0200
DTSTART:19450924T030000
RDATE:19470629T030000
END:DAYLIGHT
BEGIN:STANDARD
TZNAME:CET
TZOFFSETFROM:+0100
TZOFFSETTO:+0100
DTSTART:19460101T000000
RDATE:19800101T000000
END:STANDARD
BEGIN:STANDARD
TZNAME:CET
TZOFFSETFROM:+0200
TZOFFSETTO:+0100
DTSTART:19471005T030000
RRULE:FREQ=YEARLY;UNTIL=19491002T010000Z;BYMONTH=10;BYDAY=1SU
END:STANDARD
BEGIN:STANDARD
TZNAME:CET
TZOFFSETFROM:+0200
TZOFFSETTO:+0100
DTSTART:19800928T030000
RRULE:FREQ=YEARLY;UNTIL=19950924T010000Z;BYMONTH=9;BYDAY=-1SU
END:STANDARD
BEGIN:DAYLIGHT
TZNAME:CEST
TZOFFSETFROM:+0100
TZOFFSETTO:+0200
DTSTART:19810329T020000
RRULE:FREQ=YEARLY;BYMONTH=3;BYDAY=-1SU
END:DAYLIGHT
BEGIN:STANDARD
TZNAME:CET
TZOFFSETFROM:+0200
TZOFFSETTO:+0100
DTSTART:19961027T030000
RRULE:FREQ=YEARLY;BYMONTH=10;BYDAY=-1SU
END:STANDARD
END:VTIMEZONE
BEGIN:VEVENT
DTSTAMP:20260419T224422Z
DTSTART;TZID=Europe/Berlin:20170921T194500
DTEND;TZID=Europe/Berlin:20170921T224500
SUMMARY:S L3 Gr 1 Chexbres vs Mézières II (0)
UID:6010be51-52ae-5356-e053-1fc7a80a74f7
STATUS:CONFIRMED
LAST-MODIFIED:20170927T122104Z
DESCRIPTION:3ème ligue Seniors Groupe 1\nBegegnungs-Nr: 0\nHeim: Chexbres\nGast: Mézières II\n\nAdresse: Collège de Praz Routoz\, 1071 Chexbres\n
LOCATION:Collège de Praz Routoz\, 1071 Chexbres
CATEGORIES:Saison 2017/18
END:VEVENT
BEGIN:VEVENT
DTSTAMP:20260419T224422Z
DTSTART;TZID=Europe/Berlin:20171123T194500
DTEND;TZID=Europe/Berlin:20171123T224500
SUMMARY:S L3 Gr 1 Chexbres vs Montriond IV (0)
UID:6010be51-52b7-5356-e053-1fc7a80a74f7
STATUS:CONFIRMED
LAST-MODIFIED:20171129T105048Z
DESCRIPTION:3ème ligue Seniors Groupe 1\nBegegnungs-Nr: 0\nHeim: Chexbres\nGast: Montriond IV\n\nAdresse: Collège de Praz Routoz\, 1071 Chexbres\n
LOCATION:Collège de Praz Routoz\, 1071 Chexbres
CATEGORIES:Saison 2017/18
END:VEVENT
BEGIN:VEVENT
DTSTAMP:20260419T224422Z
DTSTART;TZID=Europe/Berlin:20180531T194500
DTEND;TZID=Europe/Berlin:20180531T224500
SUMMARY:S L3 Finale Chexbres vs Lausanne (1)
UID:f35cff4c-710b-4058-9ac1-f691228a31e9
STATUS:CONFIRMED
LAST-MODIFIED:20180531T100443Z
DESCRIPTION:3ème ligue Seniors Finale\nBegegnungs-Nr: 1\nHeim: Chexbres\nGast: Lausanne\n
LOCATION:
CATEGORIES:Saison 2017/18
END:VEVENT
BEGIN:VEVENT
DTSTAMP:20260419T224422Z
DTSTART;TZID=Europe/Berlin:20171207T194500
DTEND;TZID=Europe/Berlin:20171207T224500
SUMMARY:S L3 Gr 1 Chexbres vs Montreux-Riviera (0)
UID:6010be51-4ea3-5356-e053-1fc7a80a74f7
STATUS:CONFIRMED
LAST-MODIFIED:20171214T152715Z
DESCRIPTION:3ème ligue Seniors Groupe 1\nBegegnungs-Nr: 0\nHeim: Chexbres\nGast: Montreux-Riviera\n\nAdresse: Collège de Praz Routoz\, 1071 Chexbres\n
LOCATION:Collège de Praz Routoz\, 1071 Chexbres
CATEGORIES:Saison 2017/18
END:VEVENT
BEGIN:VEVENT
DTSTAMP:20260419T224422Z
DTSTART;TZID=Europe/Berlin:20180208T194500
DTEND;TZID=Europe/Berlin:20180208T224500
SUMMARY:S L3 Gr 1 Chexbres vs Blonay II (0)
UID:6010be51-4f40-5356-e053-1fc7a80a74f7
STATUS:CONFIRMED
LAST-MODIFIED:20180214T172927Z
DESCRIPTION:3ème ligue Seniors Groupe 1\nBegegnungs-Nr: 0\nHeim: Chexbres\nGast: Blonay II\n\nAdresse: Collège de Praz Routoz\, 1071 Chexbres\n
LOCATION:Collège de Praz Routoz\, 1071 Chexbres
CATEGORIES:Saison 2017/18
END:VEVENT
BEGIN:VEVENT
DTSTAMP:20260419T224422Z
DTSTART;TZID=Europe/Berlin:20180115T200000
DTEND;TZID=Europe/Berlin:20180115T230000
SUMMARY:S L3 Gr 1 Chexbres vs Vevey II (0)
UID:6010be51-4f3f-5356-e053-1fc7a80a74f7
STATUS:CONFIRMED
LAST-MODIFIED:20180122T173018Z
DESCRIPTION:3ème ligue Seniors Groupe 1\nBegegnungs-Nr: 0\nHeim: Chexbres\nGast: Vevey II\n\nAdresse: Collège de Praz Routoz\, 1071 Chexbres\n
LOCATION:Collège de Praz Routoz\, 1071 Chexbres
CATEGORIES:Saison 2017/18
END:VEVENT
BEGIN:VEVENT
DTSTAMP:20260419T224422Z
DTSTART;TZID=Europe/Berlin:20171109T200000
DTEND;TZID=Europe/Berlin:20171109T230000
SUMMARY:S L3 Gr 1 Blonay II vs Chexbres (0)
UID:6010be51-52b3-5356-e053-1fc7a80a74f7
STATUS:CONFIRMED
LAST-MODIFIED:20171116T103420Z
DESCRIPTION:3ème ligue Seniors Groupe 1\nBegegnungs-Nr: 0\nHeim: Blonay II\nGast: Chexbres\n\nAdresse: Route de Prélaz 2\, 1807 Blonay\n
LOCATION:Route de Prélaz 2\, 1807 Blonay
CATEGORIES:Saison 2017/18
END:VEVENT
BEGIN:VEVENT
DTSTAMP:20260419T224422Z
DTSTART;TZID=Europe/Berlin:20171009T194500
DTEND;TZID=Europe/Berlin:20171009T224500
SUMMARY:S L3 Gr 1 Vevey II vs Chexbres (0)
UID:6010be51-573b-5356-e053-1fc7a80a74f7
STATUS:CONFIRMED
LAST-MODIFIED:20171016T115725Z
DESCRIPTION:3ème ligue Seniors Groupe 1\nBegegnungs-Nr: 0\nHeim: Vevey II\nGast: Chexbres\n\nAdresse: Rue Louis-Meyer\, 1800 Vevey\n
LOCATION:Rue Louis-Meyer\, 1800 Vevey
CATEGORIES:Saison 2017/18
END:VEVENT
BEGIN:VEVENT
DTSTAMP:20260419T224422Z
DTSTART;TZID=Europe/Berlin:20171212T200000
DTEND;TZID=Europe/Berlin:20171212T230000
SUMMARY:S L3 Gr 1 Mézières II vs Chexbres (0)
UID:6010be51-4f3c-5356-e053-1fc7a80a74f7
STATUS:CONFIRMED
LAST-MODIFIED:20171220T101649Z
DESCRIPTION:3ème ligue Seniors Groupe 1\nBegegnungs-Nr: 0\nHeim: Mézières II\nGast: Chexbres\n\nAdresse: -\, 1083 Mézières\n
LOCATION:-\, 1083 Mézières
CATEGORIES:Saison 2017/18
END:VEVENT
BEGIN:VEVENT
DTSTAMP:20260419T224422Z
DTSTART;TZID=Europe/Berlin:20180328T194500
DTEND;TZID=Europe/Berlin:20180328T224500
SUMMARY:S L3 Gr 1 Montriond IV vs Chexbres (0)
UID:6010be51-4f79-5356-e053-1fc7a80a74f7
STATUS:CONFIRMED
LAST-MODIFIED:20180403T094723Z
DESCRIPTION:3ème ligue Seniors Groupe 1\nBegegnungs-Nr: 0\nHeim: Montriond IV\nGast: Chexbres\n\nAdresse: Avenue d'Ouchy 45\, 1006 Lausanne\n
LOCATION:Avenue d'Ouchy 45\, 1006 Lausanne
CATEGORIES:Saison 2017/18
END:VEVENT
BEGIN:VEVENT
DTSTAMP:20260419T224422Z
DTSTART;TZID=Europe/Berlin:20180319T200000
DTEND;TZID=Europe/Berlin:20180319T230000
SUMMARY:S L3 Gr 1 Montreux-Riviera vs Chexbres (0)
UID:6010be51-4f7c-5356-e053-1fc7a80a74f7
STATUS:CONFIRMED
LAST-MODIFIED:20180326T162501Z
DESCRIPTION:3ème ligue Seniors Groupe 1\nBegegnungs-Nr: 0\nHeim: Montreux-Riviera\nGast: Chexbres\n\nAdresse: Rue de la Gare 33\, 1820 Montreux\n
LOCATION:Rue de la Gare 33\, 1820 Montreux
CATEGORIES:Saison 2017/18
END:VEVENT
END:VCALENDAR
