BEGIN:VCALENDAR
PRODID:-//nuDatenautomaten//framework iCal4j //DE
VERSION:2.0
CALSCALE:GREGORIAN
BEGIN:VTIMEZONE
TZID:Europe/Berlin
LAST-MODIFIED:20260306T231828Z
TZURL:https://www.tzurl.org/zoneinfo/Europe/Berlin
X-LIC-LOCATION:Europe/Berlin
X-PROLEPTIC-TZNAME:LMT
BEGIN:STANDARD
TZNAME:CET
TZOFFSETFROM:+005328
TZOFFSETTO:+0100
DTSTART:18930401T000000
END:STANDARD
BEGIN:DAYLIGHT
TZNAME:CEST
TZOFFSETFROM:+0100
TZOFFSETTO:+0200
DTSTART:19160430T230000
RDATE:19400401T020000
RDATE:19430329T020000
RDATE:19460414T020000
RDATE:19470406T030000
RDATE:19480418T020000
RDATE:19490410T020000
RDATE:19800406T020000
END:DAYLIGHT
BEGIN:STANDARD
TZNAME:CET
TZOFFSETFROM:+0200
TZOFFSETTO:+0100
DTSTART:19161001T010000
RDATE:19421102T030000
RDATE:19431004T030000
RDATE:19441002T030000
RDATE:19451118T030000
RDATE:19461007T030000
END:STANDARD
BEGIN:DAYLIGHT
TZNAME:CEST
TZOFFSETFROM:+0100
TZOFFSETTO:+0200
DTSTART:19170416T020000
RRULE:FREQ=YEARLY;UNTIL=19180415T010000Z;BYMONTH=4;BYDAY=3MO
END:DAYLIGHT
BEGIN:STANDARD
TZNAME:CET
TZOFFSETFROM:+0200
TZOFFSETTO:+0100
DTSTART:19170917T030000
RRULE:FREQ=YEARLY;UNTIL=19180916T010000Z;BYMONTH=9;BYDAY=3MO
END:STANDARD
BEGIN:DAYLIGHT
TZNAME:CEST
TZOFFSETFROM:+0100
TZOFFSETTO:+0200
DTSTART:19440403T020000
RRULE:FREQ=YEARLY;UNTIL=19450402T010000Z;BYMONTH=4;BYDAY=1MO
END:DAYLIGHT
BEGIN:DAYLIGHT
TZNAME:CEMT
TZOFFSETFROM:+0200
TZOFFSETTO:+0300
DTSTART:19450524T020000
RDATE:19470511T030000
END:DAYLIGHT
BEGIN:DAYLIGHT
TZNAME:CEST
TZOFFSETFROM:+0300
TZOFFSETTO:+0200
DTSTART:19450924T030000
RDATE:19470629T030000
END:DAYLIGHT
BEGIN:STANDARD
TZNAME:CET
TZOFFSETFROM:+0100
TZOFFSETTO:+0100
DTSTART:19460101T000000
RDATE:19800101T000000
END:STANDARD
BEGIN:STANDARD
TZNAME:CET
TZOFFSETFROM:+0200
TZOFFSETTO:+0100
DTSTART:19471005T030000
RRULE:FREQ=YEARLY;UNTIL=19491002T010000Z;BYMONTH=10;BYDAY=1SU
END:STANDARD
BEGIN:STANDARD
TZNAME:CET
TZOFFSETFROM:+0200
TZOFFSETTO:+0100
DTSTART:19800928T030000
RRULE:FREQ=YEARLY;UNTIL=19950924T010000Z;BYMONTH=9;BYDAY=-1SU
END:STANDARD
BEGIN:DAYLIGHT
TZNAME:CEST
TZOFFSETFROM:+0100
TZOFFSETTO:+0200
DTSTART:19810329T020000
RRULE:FREQ=YEARLY;BYMONTH=3;BYDAY=-1SU
END:DAYLIGHT
BEGIN:STANDARD
TZNAME:CET
TZOFFSETFROM:+0200
TZOFFSETTO:+0100
DTSTART:19961027T030000
RRULE:FREQ=YEARLY;BYMONTH=10;BYDAY=-1SU
END:STANDARD
END:VTIMEZONE
BEGIN:VEVENT
DTSTAMP:20260424T151712Z
DTSTART;TZID=Europe/Berlin:20170927T194500
DTEND;TZID=Europe/Berlin:20170927T224500
SUMMARY:Ligue 3 Gr.2\, Ph.A Carouge V vs Rapid-Genève II (7)
UID:6010be51-53d6-5356-e053-1fc7a80a74f7
STATUS:CONFIRMED
LAST-MODIFIED:20170928T113645Z
DESCRIPTION:3ème ligue Hommes Gr. 2 Phase A\nBegegnungs-Nr: 7\nHeim: Carouge V\nGast: Rapid-Genève II\n
LOCATION:
CATEGORIES:Saison 2017/18
END:VEVENT
BEGIN:VEVENT
DTSTAMP:20260424T151712Z
DTSTART;TZID=Europe/Berlin:20171206T194500
DTEND;TZID=Europe/Berlin:20171206T224500
SUMMARY:Ligue 3 Gr.2\, Ph.A Carouge V vs Châtelaine VI (25)
UID:6010be51-5503-5356-e053-1fc7a80a74f7
STATUS:CONFIRMED
LAST-MODIFIED:20171207T134002Z
DESCRIPTION:3ème ligue Hommes Gr. 2 Phase A\nBegegnungs-Nr: 25\nHeim: Carouge V\nGast: Châtelaine VI\n
LOCATION:
CATEGORIES:Saison 2017/18
END:VEVENT
BEGIN:VEVENT
DTSTAMP:20260424T151712Z
DTSTART;TZID=Europe/Berlin:20171018T194500
DTEND;TZID=Europe/Berlin:20171018T224500
SUMMARY:Ligue 3 Gr.2\, Ph.A Carouge V vs Versoix III (14)
UID:6010be51-550b-5356-e053-1fc7a80a74f7
STATUS:CONFIRMED
LAST-MODIFIED:20171019T114916Z
DESCRIPTION:3ème ligue Hommes Gr. 2 Phase A\nBegegnungs-Nr: 14\nHeim: Carouge V\nGast: Versoix III\n
LOCATION:
CATEGORIES:Saison 2017/18
END:VEVENT
BEGIN:VEVENT
DTSTAMP:20260424T151712Z
DTSTART;TZID=Europe/Berlin:20170913T194500
DTEND;TZID=Europe/Berlin:20170913T224500
SUMMARY:Ligue 3 Gr.2\, Ph.A Carouge V vs Onex (1)
UID:6010be51-53d2-5356-e053-1fc7a80a74f7
STATUS:CONFIRMED
LAST-MODIFIED:20170914T114130Z
DESCRIPTION:3ème ligue Hommes Gr. 2 Phase A\nBegegnungs-Nr: 1\nHeim: Carouge V\nGast: Onex\n
LOCATION:
CATEGORIES:Saison 2017/18
END:VEVENT
BEGIN:VEVENT
DTSTAMP:20260424T151712Z
DTSTART;TZID=Europe/Berlin:20171115T194500
DTEND;TZID=Europe/Berlin:20171115T224500
SUMMARY:Ligue 3 Gr.2\, Ph.A Carouge V vs ZZ-Lancy XI (21)
UID:6010be51-5506-5356-e053-1fc7a80a74f7
STATUS:CONFIRMED
LAST-MODIFIED:20171116T125627Z
DESCRIPTION:3ème ligue Hommes Gr. 2 Phase A\nBegegnungs-Nr: 21\nHeim: Carouge V\nGast: ZZ-Lancy XI\n
LOCATION:
CATEGORIES:Saison 2017/18
END:VEVENT
BEGIN:VEVENT
DTSTAMP:20260424T151712Z
DTSTART;TZID=Europe/Berlin:20180131T194500
DTEND;TZID=Europe/Berlin:20180131T224500
SUMMARY:Ligue 3 Gr.3\, Ph.B Carouge V vs Versoix VII (9)
UID:357a810b-58f7-44dd-9c3b-45b2cf47639a
STATUS:CONFIRMED
LAST-MODIFIED:20180201T132804Z
DESCRIPTION:3ème ligue Hommes Gr. 3 Phase B\nBegegnungs-Nr: 9\nHeim: Carouge V\nGast: Versoix VII\n
LOCATION:
CATEGORIES:Saison 2017/18
END:VEVENT
BEGIN:VEVENT
DTSTAMP:20260424T151712Z
DTSTART;TZID=Europe/Berlin:20180117T194500
DTEND;TZID=Europe/Berlin:20180117T224500
SUMMARY:Ligue 3 Gr.3\, Ph.B Carouge V vs Rapid-Genève III (6)
UID:e49f378b-21f7-4ad6-aed9-f1ab00b56cb9
STATUS:CONFIRMED
LAST-MODIFIED:20180118T165041Z
DESCRIPTION:3ème ligue Hommes Gr. 3 Phase B\nBegegnungs-Nr: 6\nHeim: Carouge V\nGast: Rapid-Genève III\n
LOCATION:
CATEGORIES:Saison 2017/18
END:VEVENT
BEGIN:VEVENT
DTSTAMP:20260424T151712Z
DTSTART;TZID=Europe/Berlin:20180418T194500
DTEND;TZID=Europe/Berlin:20180418T224500
SUMMARY:Ligue 3 Gr.3\, Ph.B Carouge V vs Bernex (30)
UID:b3b49a27-a87b-482b-ba6d-7345444f18a7
STATUS:CONFIRMED
LAST-MODIFIED:20180419T120957Z
DESCRIPTION:3ème ligue Hommes Gr. 3 Phase B\nBegegnungs-Nr: 30\nHeim: Carouge V\nGast: Bernex\n
LOCATION:
CATEGORIES:Saison 2017/18
END:VEVENT
BEGIN:VEVENT
DTSTAMP:20260424T151712Z
DTSTART;TZID=Europe/Berlin:20180411T194500
DTEND;TZID=Europe/Berlin:20180411T224500
SUMMARY:Ligue 3 Gr.3\, Ph.B Carouge V vs Meyrin IX (27)
UID:134acb60-ac61-45f8-bbfa-18fe199e82b6
STATUS:CONFIRMED
LAST-MODIFIED:20180412T121155Z
DESCRIPTION:3ème ligue Hommes Gr. 3 Phase B\nBegegnungs-Nr: 27\nHeim: Carouge V\nGast: Meyrin IX\n
LOCATION:
CATEGORIES:Saison 2017/18
END:VEVENT
BEGIN:VEVENT
DTSTAMP:20260424T151712Z
DTSTART;TZID=Europe/Berlin:20180307T194500
DTEND;TZID=Europe/Berlin:20180307T224500
SUMMARY:Ligue 3 Gr.3\, Ph.B Carouge V vs ZZ-Lancy X (18)
UID:dc760af1-42f1-4995-85f7-9809418f7d77
STATUS:CONFIRMED
LAST-MODIFIED:20180308T155331Z
DESCRIPTION:3ème ligue Hommes Gr. 3 Phase B\nBegegnungs-Nr: 18\nHeim: Carouge V\nGast: ZZ-Lancy X\n
LOCATION:
CATEGORIES:Saison 2017/18
END:VEVENT
BEGIN:VEVENT
DTSTAMP:20260424T151712Z
DTSTART;TZID=Europe/Berlin:20171011T194500
DTEND;TZID=Europe/Berlin:20171011T224500
SUMMARY:Ligue 3 Gr.2\, Ph.A Châtelaine VI vs Carouge V (10)
UID:6010be51-53d4-5356-e053-1fc7a80a74f7
STATUS:CONFIRMED
LAST-MODIFIED:20171012T113219Z
DESCRIPTION:3ème ligue Hommes Gr. 2 Phase A\nBegegnungs-Nr: 10\nHeim: Châtelaine VI\nGast: Carouge V\n
LOCATION:
CATEGORIES:Saison 2017/18
END:VEVENT
BEGIN:VEVENT
DTSTAMP:20260424T151712Z
DTSTART;TZID=Europe/Berlin:20170920T201500
DTEND;TZID=Europe/Berlin:20170920T231500
SUMMARY:Ligue 3 Gr.2\, Ph.A ZZ-Lancy XI vs Carouge V (6)
UID:6010be51-53d7-5356-e053-1fc7a80a74f7
STATUS:CONFIRMED
LAST-MODIFIED:20170921T131306Z
DESCRIPTION:3ème ligue Hommes Gr. 2 Phase A\nBegegnungs-Nr: 6\nHeim: ZZ-Lancy XI\nGast: Carouge V\n\nAdresse: Avenue du Curé-Baud 40\, 1212 Grand-Lancy\n
LOCATION:Avenue du Curé-Baud 40\, 1212 Grand-Lancy
CATEGORIES:Saison 2017/18
END:VEVENT
BEGIN:VEVENT
DTSTAMP:20260424T151712Z
DTSTART;TZID=Europe/Berlin:20171213T194500
DTEND;TZID=Europe/Berlin:20171213T224500
SUMMARY:Ligue 3 Gr.2\, Ph.A Versoix III vs Carouge V (28)
UID:6010be51-5501-5356-e053-1fc7a80a74f7
STATUS:CONFIRMED
LAST-MODIFIED:20171214T143554Z
DESCRIPTION:3ème ligue Hommes Gr. 2 Phase A\nBegegnungs-Nr: 28\nHeim: Versoix III\nGast: Carouge V\n
LOCATION:
CATEGORIES:Saison 2017/18
END:VEVENT
BEGIN:VEVENT
DTSTAMP:20260424T151712Z
DTSTART;TZID=Europe/Berlin:20171108T194500
DTEND;TZID=Europe/Berlin:20171108T224500
SUMMARY:Ligue 3 Gr.2\, Ph.A Onex vs Carouge V (16)
UID:6010be51-550a-5356-e053-1fc7a80a74f7
STATUS:CONFIRMED
LAST-MODIFIED:20171109T123205Z
DESCRIPTION:3ème ligue Hommes Gr. 2 Phase A\nBegegnungs-Nr: 16\nHeim: Onex\nGast: Carouge V\n
LOCATION:
CATEGORIES:Saison 2017/18
END:VEVENT
BEGIN:VEVENT
DTSTAMP:20260424T151712Z
DTSTART;TZID=Europe/Berlin:20171129T194500
DTEND;TZID=Europe/Berlin:20171129T224500
SUMMARY:Ligue 3 Gr.2\, Ph.A Rapid-Genève II vs Carouge V (22)
UID:6010be51-5a82-5356-e053-1fc7a80a74f7
STATUS:CONFIRMED
LAST-MODIFIED:20171130T152844Z
DESCRIPTION:3ème ligue Hommes Gr. 2 Phase A\nBegegnungs-Nr: 22\nHeim: Rapid-Genève II\nGast: Carouge V\n
LOCATION:
CATEGORIES:Saison 2017/18
END:VEVENT
BEGIN:VEVENT
DTSTAMP:20260424T151712Z
DTSTART;TZID=Europe/Berlin:20180110T201500
DTEND;TZID=Europe/Berlin:20180110T231500
SUMMARY:Ligue 3 Gr.3\, Ph.B ZZ-Lancy X vs Carouge V (3)
UID:60f4c7b7-e7ce-47a8-b23a-f86a35adf559
STATUS:CONFIRMED
LAST-MODIFIED:20180111T174208Z
DESCRIPTION:3ème ligue Hommes Gr. 3 Phase B\nBegegnungs-Nr: 3\nHeim: ZZ-Lancy X\nGast: Carouge V\n\nAdresse: Avenue du Curé-Baud 40\, 1212 Grand-Lancy\n
LOCATION:Avenue du Curé-Baud 40\, 1212 Grand-Lancy
CATEGORIES:Saison 2017/18
END:VEVENT
BEGIN:VEVENT
DTSTAMP:20260424T151712Z
DTSTART;TZID=Europe/Berlin:20180321T194500
DTEND;TZID=Europe/Berlin:20180321T224500
SUMMARY:Ligue 3 Gr.3\, Ph.B Versoix VII vs Carouge V (24)
UID:c08635b2-f6a0-47c6-a7e5-5484a8544c7a
STATUS:CONFIRMED
LAST-MODIFIED:20180322T183217Z
DESCRIPTION:3ème ligue Hommes Gr. 3 Phase B\nBegegnungs-Nr: 24\nHeim: Versoix VII\nGast: Carouge V\n
LOCATION:
CATEGORIES:Saison 2017/18
END:VEVENT
BEGIN:VEVENT
DTSTAMP:20260424T151712Z
DTSTART;TZID=Europe/Berlin:20180314T194500
DTEND;TZID=Europe/Berlin:20180314T224500
SUMMARY:Ligue 3 Gr.3\, Ph.B Rapid-Genève III vs Carouge V (21)
UID:bacc209d-484f-4a96-971c-24d0d108689d
STATUS:CONFIRMED
LAST-MODIFIED:20180315T125549Z
DESCRIPTION:3ème ligue Hommes Gr. 3 Phase B\nBegegnungs-Nr: 21\nHeim: Rapid-Genève III\nGast: Carouge V\n
LOCATION:
CATEGORIES:Saison 2017/18
END:VEVENT
BEGIN:VEVENT
DTSTAMP:20260424T151712Z
DTSTART;TZID=Europe/Berlin:20180228T194500
DTEND;TZID=Europe/Berlin:20180228T224500
SUMMARY:Ligue 3 Gr.3\, Ph.B Bernex vs Carouge V (15)
UID:1abce9c3-8950-4797-886a-63a12db2275a
STATUS:CONFIRMED
LAST-MODIFIED:20180301T195842Z
DESCRIPTION:3ème ligue Hommes Gr. 3 Phase B\nBegegnungs-Nr: 15\nHeim: Bernex\nGast: Carouge V\n\nAdresse: Chemin de Saule 120\, 1233 Bernex\n
LOCATION:Chemin de Saule 120\, 1233 Bernex
CATEGORIES:Saison 2017/18
END:VEVENT
BEGIN:VEVENT
DTSTAMP:20260424T151712Z
DTSTART;TZID=Europe/Berlin:20180207T194500
DTEND;TZID=Europe/Berlin:20180207T224500
SUMMARY:Ligue 3 Gr.3\, Ph.B Meyrin IX vs Carouge V (12)
UID:2056ff01-09f1-4b2b-9cd6-037479b00690
STATUS:CONFIRMED
LAST-MODIFIED:20180208T135422Z
DESCRIPTION:3ème ligue Hommes Gr. 3 Phase B\nBegegnungs-Nr: 12\nHeim: Meyrin IX\nGast: Carouge V\n
LOCATION:
CATEGORIES:Saison 2017/18
END:VEVENT
END:VCALENDAR
