BEGIN:VCALENDAR
PRODID:-//nuDatenautomaten//framework iCal4j //DE
VERSION:2.0
CALSCALE:GREGORIAN
BEGIN:VTIMEZONE
TZID:Europe/Berlin
LAST-MODIFIED:20260306T231828Z
TZURL:https://www.tzurl.org/zoneinfo/Europe/Berlin
X-LIC-LOCATION:Europe/Berlin
X-PROLEPTIC-TZNAME:LMT
BEGIN:STANDARD
TZNAME:CET
TZOFFSETFROM:+005328
TZOFFSETTO:+0100
DTSTART:18930401T000000
END:STANDARD
BEGIN:DAYLIGHT
TZNAME:CEST
TZOFFSETFROM:+0100
TZOFFSETTO:+0200
DTSTART:19160430T230000
RDATE:19400401T020000
RDATE:19430329T020000
RDATE:19460414T020000
RDATE:19470406T030000
RDATE:19480418T020000
RDATE:19490410T020000
RDATE:19800406T020000
END:DAYLIGHT
BEGIN:STANDARD
TZNAME:CET
TZOFFSETFROM:+0200
TZOFFSETTO:+0100
DTSTART:19161001T010000
RDATE:19421102T030000
RDATE:19431004T030000
RDATE:19441002T030000
RDATE:19451118T030000
RDATE:19461007T030000
END:STANDARD
BEGIN:DAYLIGHT
TZNAME:CEST
TZOFFSETFROM:+0100
TZOFFSETTO:+0200
DTSTART:19170416T020000
RRULE:FREQ=YEARLY;UNTIL=19180415T010000Z;BYMONTH=4;BYDAY=3MO
END:DAYLIGHT
BEGIN:STANDARD
TZNAME:CET
TZOFFSETFROM:+0200
TZOFFSETTO:+0100
DTSTART:19170917T030000
RRULE:FREQ=YEARLY;UNTIL=19180916T010000Z;BYMONTH=9;BYDAY=3MO
END:STANDARD
BEGIN:DAYLIGHT
TZNAME:CEST
TZOFFSETFROM:+0100
TZOFFSETTO:+0200
DTSTART:19440403T020000
RRULE:FREQ=YEARLY;UNTIL=19450402T010000Z;BYMONTH=4;BYDAY=1MO
END:DAYLIGHT
BEGIN:DAYLIGHT
TZNAME:CEMT
TZOFFSETFROM:+0200
TZOFFSETTO:+0300
DTSTART:19450524T020000
RDATE:19470511T030000
END:DAYLIGHT
BEGIN:DAYLIGHT
TZNAME:CEST
TZOFFSETFROM:+0300
TZOFFSETTO:+0200
DTSTART:19450924T030000
RDATE:19470629T030000
END:DAYLIGHT
BEGIN:STANDARD
TZNAME:CET
TZOFFSETFROM:+0100
TZOFFSETTO:+0100
DTSTART:19460101T000000
RDATE:19800101T000000
END:STANDARD
BEGIN:STANDARD
TZNAME:CET
TZOFFSETFROM:+0200
TZOFFSETTO:+0100
DTSTART:19471005T030000
RRULE:FREQ=YEARLY;UNTIL=19491002T010000Z;BYMONTH=10;BYDAY=1SU
END:STANDARD
BEGIN:STANDARD
TZNAME:CET
TZOFFSETFROM:+0200
TZOFFSETTO:+0100
DTSTART:19800928T030000
RRULE:FREQ=YEARLY;UNTIL=19950924T010000Z;BYMONTH=9;BYDAY=-1SU
END:STANDARD
BEGIN:DAYLIGHT
TZNAME:CEST
TZOFFSETFROM:+0100
TZOFFSETTO:+0200
DTSTART:19810329T020000
RRULE:FREQ=YEARLY;BYMONTH=3;BYDAY=-1SU
END:DAYLIGHT
BEGIN:STANDARD
TZNAME:CET
TZOFFSETFROM:+0200
TZOFFSETTO:+0100
DTSTART:19961027T030000
RRULE:FREQ=YEARLY;BYMONTH=10;BYDAY=-1SU
END:STANDARD
END:VTIMEZONE
BEGIN:VEVENT
DTSTAMP:20260424T181612Z
DTSTART;TZID=Europe/Berlin:20171222T201500
DTEND;TZID=Europe/Berlin:20171222T231500
SUMMARY:O40 3.Liga Gr.3 Rüti vs Zürich-Affoltern III (0)
UID:6010be51-4a10-5356-e053-1fc7a80a74f7
STATUS:CONFIRMED
LAST-MODIFIED:20180110T132004Z
DESCRIPTION:3. Liga O40 Gruppe 3\nBegegnungs-Nr: 0\nHeim: Rüti\nGast: Zürich-Affoltern III\n\nAdresse: Spitalstrasse 20\, 8630 Rüti\n
LOCATION:Spitalstrasse 20\, 8630 Rüti
CATEGORIES:Saison 2017/18
END:VEVENT
BEGIN:VEVENT
DTSTAMP:20260424T181612Z
DTSTART;TZID=Europe/Berlin:20171201T201500
DTEND;TZID=Europe/Berlin:20171201T231500
SUMMARY:O40 3.Liga Gr.3 Rüti vs Wolfhausen (0)
UID:6010be51-4a16-5356-e053-1fc7a80a74f7
STATUS:CONFIRMED
LAST-MODIFIED:20171204T132008Z
DESCRIPTION:3. Liga O40 Gruppe 3\nBegegnungs-Nr: 0\nHeim: Rüti\nGast: Wolfhausen\n\nAdresse: Spitalstrasse 20\, 8630 Rüti\n
LOCATION:Spitalstrasse 20\, 8630 Rüti
CATEGORIES:Saison 2017/18
END:VEVENT
BEGIN:VEVENT
DTSTAMP:20260424T181612Z
DTSTART;TZID=Europe/Berlin:20170922T201500
DTEND;TZID=Europe/Berlin:20170922T231500
SUMMARY:O40 3.Liga Gr.3 Rüti vs Toggenburg (0)
UID:6010be51-4a48-5356-e053-1fc7a80a74f7
STATUS:CONFIRMED
LAST-MODIFIED:20170926T141356Z
DESCRIPTION:3. Liga O40 Gruppe 3\nBegegnungs-Nr: 0\nHeim: Rüti\nGast: Toggenburg\n\nAdresse: Spitalstrasse 20\, 8630 Rüti\n
LOCATION:Spitalstrasse 20\, 8630 Rüti
CATEGORIES:Saison 2017/18
END:VEVENT
BEGIN:VEVENT
DTSTAMP:20260424T181612Z
DTSTART;TZID=Europe/Berlin:20180406T201500
DTEND;TZID=Europe/Berlin:20180406T231500
SUMMARY:O40 3.Liga Gr.3 Rüti vs Rapperswil-Jona (0)
UID:6010be51-4a82-5356-e053-1fc7a80a74f7
STATUS:CONFIRMED
LAST-MODIFIED:20180419T085427Z
DESCRIPTION:3. Liga O40 Gruppe 3\nBegegnungs-Nr: 0\nHeim: Rüti\nGast: Rapperswil-Jona\n\nAdresse: Spitalstrasse 20\, 8630 Rüti\n
LOCATION:Spitalstrasse 20\, 8630 Rüti
CATEGORIES:Saison 2017/18
END:VEVENT
BEGIN:VEVENT
DTSTAMP:20260424T181612Z
DTSTART;TZID=Europe/Berlin:20180302T201500
DTEND;TZID=Europe/Berlin:20180302T231500
SUMMARY:O40 3.Liga Gr.3 Rüti vs Chur II (0)
UID:6010be51-4a8a-5356-e053-1fc7a80a74f7
STATUS:CONFIRMED
LAST-MODIFIED:20180309T150434Z
DESCRIPTION:3. Liga O40 Gruppe 3\nBegegnungs-Nr: 0\nHeim: Rüti\nGast: Chur II\n\nAdresse: Spitalstrasse 20\, 8630 Rüti\n
LOCATION:Spitalstrasse 20\, 8630 Rüti
CATEGORIES:Saison 2017/18
END:VEVENT
BEGIN:VEVENT
DTSTAMP:20260424T181612Z
DTSTART;TZID=Europe/Berlin:20180116T200000
DTEND;TZID=Europe/Berlin:20180116T230000
SUMMARY:O40 3.Liga Gr.3 Rüti vs BW-Wollishofen (0)
UID:6010be51-4a8f-5356-e053-1fc7a80a74f7
STATUS:CONFIRMED
LAST-MODIFIED:20180118T110332Z
DESCRIPTION:3. Liga O40 Gruppe 3\nBegegnungs-Nr: 0\nHeim: Rüti\nGast: BW-Wollishofen\n\nAdresse: Spitalstrasse 20\, 8630 Rüti\n
LOCATION:Spitalstrasse 20\, 8630 Rüti
CATEGORIES:Saison 2017/18
END:VEVENT
BEGIN:VEVENT
DTSTAMP:20260424T181612Z
DTSTART;TZID=Europe/Berlin:20171215T200000
DTEND;TZID=Europe/Berlin:20171215T230000
SUMMARY:O40 3.Liga Gr.3 Rapperswil-Jona vs Rüti (0)
UID:6010be51-4a13-5356-e053-1fc7a80a74f7
STATUS:CONFIRMED
LAST-MODIFIED:20171219T154446Z
DESCRIPTION:3. Liga O40 Gruppe 3\nBegegnungs-Nr: 0\nHeim: Rapperswil-Jona\nGast: Rüti\n\nAdresse: Kreuzstrasse 43\, 8640 Rapperswil\n
LOCATION:Kreuzstrasse 43\, 8640 Rapperswil
CATEGORIES:Saison 2017/18
END:VEVENT
BEGIN:VEVENT
DTSTAMP:20260424T181612Z
DTSTART;TZID=Europe/Berlin:20171026T200000
DTEND;TZID=Europe/Berlin:20171026T230000
SUMMARY:O40 3.Liga Gr.3 Chur II vs Rüti (0)
UID:6010be51-4a19-5356-e053-1fc7a80a74f7
STATUS:CONFIRMED
LAST-MODIFIED:20171027T095237Z
DESCRIPTION:3. Liga O40 Gruppe 3\nBegegnungs-Nr: 0\nHeim: Chur II\nGast: Rüti\n\nAdresse: Sandstr. 35\, 7000 Chur\n
LOCATION:Sandstr. 35\, 7000 Chur
CATEGORIES:Saison 2017/18
END:VEVENT
BEGIN:VEVENT
DTSTAMP:20260424T181612Z
DTSTART;TZID=Europe/Berlin:20171122T200000
DTEND;TZID=Europe/Berlin:20171122T230000
SUMMARY:O40 3.Liga Gr.3 BW-Wollishofen vs Rüti (0)
UID:6010be51-4a4c-5356-e053-1fc7a80a74f7
STATUS:CONFIRMED
LAST-MODIFIED:20171127T140654Z
DESCRIPTION:3. Liga O40 Gruppe 3\nBegegnungs-Nr: 0\nHeim: BW-Wollishofen\nGast: Rüti\n\nAdresse: Kilchbergstr. 28\, 8038 Zürich\n
LOCATION:Kilchbergstr. 28\, 8038 Zürich
CATEGORIES:Saison 2017/18
END:VEVENT
BEGIN:VEVENT
DTSTAMP:20260424T181612Z
DTSTART;TZID=Europe/Berlin:20180326T200000
DTEND;TZID=Europe/Berlin:20180326T230000
SUMMARY:O40 3.Liga Gr.3 Wolfhausen vs Rüti (0)
UID:6010be51-4a86-5356-e053-1fc7a80a74f7
STATUS:CONFIRMED
LAST-MODIFIED:20180327T075830Z
DESCRIPTION:3. Liga O40 Gruppe 3\nBegegnungs-Nr: 0\nHeim: Wolfhausen\nGast: Rüti\n\nAdresse: Schulstrasse 9\, 8633 Wolfhausen\n
LOCATION:Schulstrasse 9\, 8633 Wolfhausen
CATEGORIES:Saison 2017/18
END:VEVENT
BEGIN:VEVENT
DTSTAMP:20260424T181612Z
DTSTART;TZID=Europe/Berlin:20180223T200000
DTEND;TZID=Europe/Berlin:20180223T230000
SUMMARY:O40 3.Liga Gr.3 Toggenburg vs Rüti (0)
UID:6010be51-4a8c-5356-e053-1fc7a80a74f7
STATUS:CONFIRMED
LAST-MODIFIED:20180227T102355Z
DESCRIPTION:3. Liga O40 Gruppe 3\nBegegnungs-Nr: 0\nHeim: Toggenburg\nGast: Rüti\n\nAdresse: Frohmaderweg\, 9630 Wattwil\n
LOCATION:Frohmaderweg\, 9630 Wattwil
CATEGORIES:Saison 2017/18
END:VEVENT
BEGIN:VEVENT
DTSTAMP:20260424T181612Z
DTSTART;TZID=Europe/Berlin:20180420T200000
DTEND;TZID=Europe/Berlin:20180420T230000
SUMMARY:O40 3.Liga Gr.3 Zürich-Affoltern III vs Rüti (0)
UID:6010be51-4e72-5356-e053-1fc7a80a74f7
STATUS:CONFIRMED
LAST-MODIFIED:20180427T132720Z
DESCRIPTION:3. Liga O40 Gruppe 3\nBegegnungs-Nr: 0\nHeim: Zürich-Affoltern III\nGast: Rüti\n\nAdresse: Rümlangstr. 89\, 8052 Zürich\n
LOCATION:Rümlangstr. 89\, 8052 Zürich
CATEGORIES:Saison 2017/18
END:VEVENT
END:VCALENDAR
