BEGIN:VCALENDAR
PRODID:-//nuDatenautomaten//framework iCal4j //DE
VERSION:2.0
CALSCALE:GREGORIAN
BEGIN:VTIMEZONE
TZID:Europe/Berlin
LAST-MODIFIED:20260306T231828Z
TZURL:https://www.tzurl.org/zoneinfo/Europe/Berlin
X-LIC-LOCATION:Europe/Berlin
X-PROLEPTIC-TZNAME:LMT
BEGIN:STANDARD
TZNAME:CET
TZOFFSETFROM:+005328
TZOFFSETTO:+0100
DTSTART:18930401T000000
END:STANDARD
BEGIN:DAYLIGHT
TZNAME:CEST
TZOFFSETFROM:+0100
TZOFFSETTO:+0200
DTSTART:19160430T230000
RDATE:19400401T020000
RDATE:19430329T020000
RDATE:19460414T020000
RDATE:19470406T030000
RDATE:19480418T020000
RDATE:19490410T020000
RDATE:19800406T020000
END:DAYLIGHT
BEGIN:STANDARD
TZNAME:CET
TZOFFSETFROM:+0200
TZOFFSETTO:+0100
DTSTART:19161001T010000
RDATE:19421102T030000
RDATE:19431004T030000
RDATE:19441002T030000
RDATE:19451118T030000
RDATE:19461007T030000
END:STANDARD
BEGIN:DAYLIGHT
TZNAME:CEST
TZOFFSETFROM:+0100
TZOFFSETTO:+0200
DTSTART:19170416T020000
RRULE:FREQ=YEARLY;UNTIL=19180415T010000Z;BYMONTH=4;BYDAY=3MO
END:DAYLIGHT
BEGIN:STANDARD
TZNAME:CET
TZOFFSETFROM:+0200
TZOFFSETTO:+0100
DTSTART:19170917T030000
RRULE:FREQ=YEARLY;UNTIL=19180916T010000Z;BYMONTH=9;BYDAY=3MO
END:STANDARD
BEGIN:DAYLIGHT
TZNAME:CEST
TZOFFSETFROM:+0100
TZOFFSETTO:+0200
DTSTART:19440403T020000
RRULE:FREQ=YEARLY;UNTIL=19450402T010000Z;BYMONTH=4;BYDAY=1MO
END:DAYLIGHT
BEGIN:DAYLIGHT
TZNAME:CEMT
TZOFFSETFROM:+0200
TZOFFSETTO:+0300
DTSTART:19450524T020000
RDATE:19470511T030000
END:DAYLIGHT
BEGIN:DAYLIGHT
TZNAME:CEST
TZOFFSETFROM:+0300
TZOFFSETTO:+0200
DTSTART:19450924T030000
RDATE:19470629T030000
END:DAYLIGHT
BEGIN:STANDARD
TZNAME:CET
TZOFFSETFROM:+0100
TZOFFSETTO:+0100
DTSTART:19460101T000000
RDATE:19800101T000000
END:STANDARD
BEGIN:STANDARD
TZNAME:CET
TZOFFSETFROM:+0200
TZOFFSETTO:+0100
DTSTART:19471005T030000
RRULE:FREQ=YEARLY;UNTIL=19491002T010000Z;BYMONTH=10;BYDAY=1SU
END:STANDARD
BEGIN:STANDARD
TZNAME:CET
TZOFFSETFROM:+0200
TZOFFSETTO:+0100
DTSTART:19800928T030000
RRULE:FREQ=YEARLY;UNTIL=19950924T010000Z;BYMONTH=9;BYDAY=-1SU
END:STANDARD
BEGIN:DAYLIGHT
TZNAME:CEST
TZOFFSETFROM:+0100
TZOFFSETTO:+0200
DTSTART:19810329T020000
RRULE:FREQ=YEARLY;BYMONTH=3;BYDAY=-1SU
END:DAYLIGHT
BEGIN:STANDARD
TZNAME:CET
TZOFFSETFROM:+0200
TZOFFSETTO:+0100
DTSTART:19961027T030000
RRULE:FREQ=YEARLY;BYMONTH=10;BYDAY=-1SU
END:STANDARD
END:VTIMEZONE
BEGIN:VEVENT
DTSTAMP:20260424T165458Z
DTSTART;TZID=Europe/Berlin:20180324T133000
DTEND;TZID=Europe/Berlin:20180324T163000
SUMMARY:JUG 2.Liga Gr.1A Final Uster vs Wädenswil III (3)
UID:aed60c31-feff-40f9-9aff-e6ef90bc9bb8
STATUS:CONFIRMED
LAST-MODIFIED:20180327T080257Z
DESCRIPTION:2. Liga Jugend Gruppe 1A Final\nBegegnungs-Nr: 3\nHeim: Uster\nGast: Wädenswil III\nHalle: Poule im TT-Zentrum Ebnat\, Schaffhausen\nAdresse: Wilstrasse 30 / Zürcherstrasse\, 8610 Uster\n
LOCATION:Poule im TT-Zentrum Ebnat\, Schaffhausen Wilstrasse 30 / Zürcherstrasse\, 8610 Uster
CATEGORIES:Saison 2017/18
END:VEVENT
BEGIN:VEVENT
DTSTAMP:20260424T165458Z
DTSTART;TZID=Europe/Berlin:20171202T130000
DTEND;TZID=Europe/Berlin:20171202T160000
SUMMARY:JUG 2.Liga Gr.2B Zw-Rde. Uster vs Young Stars ZH II (1)
UID:6010be51-5972-5356-e053-1fc7a80a74f7
STATUS:CONFIRMED
LAST-MODIFIED:20171204T140832Z
DESCRIPTION:2. Liga Jugend Gruppe 2B Zw.-Runde\nBegegnungs-Nr: 1\nHeim: Uster\nGast: Young Stars ZH II\nHalle: Poule in Winterthur Schachen\nAdresse: Wilstrasse 30 / Zürcherstrasse\, 8610 Uster\n
LOCATION:Poule in Winterthur Schachen Wilstrasse 30 / Zürcherstrasse\, 8610 Uster
CATEGORIES:Saison 2017/18
END:VEVENT
BEGIN:VEVENT
DTSTAMP:20260424T165458Z
DTSTART;TZID=Europe/Berlin:20171202T160000
DTEND;TZID=Europe/Berlin:20171202T190000
SUMMARY:JUG 2.Liga Gr.2B Zw-Rde. Uster vs St. Gallen II (3)
UID:6010be51-5973-5356-e053-1fc7a80a74f7
STATUS:CONFIRMED
LAST-MODIFIED:20171204T140916Z
DESCRIPTION:2. Liga Jugend Gruppe 2B Zw.-Runde\nBegegnungs-Nr: 3\nHeim: Uster\nGast: St. Gallen II\nHalle: Poule in Winterthur Schachen\nAdresse: Wilstrasse 30 / Zürcherstrasse\, 8610 Uster\n
LOCATION:Poule in Winterthur Schachen Wilstrasse 30 / Zürcherstrasse\, 8610 Uster
CATEGORIES:Saison 2017/18
END:VEVENT
BEGIN:VEVENT
DTSTAMP:20260424T165458Z
DTSTART;TZID=Europe/Berlin:20170909T130000
DTEND;TZID=Europe/Berlin:20170909T160000
SUMMARY:JUG 2.Liga Gr.2B Vorrunde Winterthur vs Uster (1)
UID:6010be51-55eb-5356-e053-1fc7a80a74f7
STATUS:CONFIRMED
LAST-MODIFIED:20170909T132951Z
DESCRIPTION:2. Liga Jugend Gruppe 2B Vorrunde\nBegegnungs-Nr: 1\nHeim: Winterthur\nGast: Uster\nHalle: Poule in Winterthur Schachen\nAdresse: Buchackerstrasse 54\, 8400 Winterthur\n
LOCATION:Poule in Winterthur Schachen Buchackerstrasse 54\, 8400 Winterthur
CATEGORIES:Saison 2017/18
END:VEVENT
BEGIN:VEVENT
DTSTAMP:20260424T165458Z
DTSTART;TZID=Europe/Berlin:20170909T143000
DTEND;TZID=Europe/Berlin:20170909T173000
SUMMARY:JUG 2.Liga Gr.2B Vorrunde Bassersdorf vs Uster (2)
UID:6010be51-5619-5356-e053-1fc7a80a74f7
STATUS:CONFIRMED
LAST-MODIFIED:20170910T085617Z
DESCRIPTION:2. Liga Jugend Gruppe 2B Vorrunde\nBegegnungs-Nr: 2\nHeim: Bassersdorf\nGast: Uster\nHalle: Poule in Winterthur Schachen\nAdresse: Grindelstrasse 20\, 8303 Bassersdorf\n
LOCATION:Poule in Winterthur Schachen Grindelstrasse 20\, 8303 Bassersdorf
CATEGORIES:Saison 2017/18
END:VEVENT
BEGIN:VEVENT
DTSTAMP:20260424T165458Z
DTSTART;TZID=Europe/Berlin:20180324T120000
DTEND;TZID=Europe/Berlin:20180324T150000
SUMMARY:JUG 2.Liga Gr.1A Final Neuhausen III vs Uster (1)
UID:385a01e5-2988-4189-a5c0-c39960210b41
STATUS:CONFIRMED
LAST-MODIFIED:20180324T133234Z
DESCRIPTION:2. Liga Jugend Gruppe 1A Final\nBegegnungs-Nr: 1\nHeim: Neuhausen III\nGast: Uster\nHalle: Poule im TT-Zentrum Ebnat\, Schaffhausen\nAdresse: Ebnatstrasse 35\, 8200 Schaffhausen\n
LOCATION:Poule im TT-Zentrum Ebnat\, Schaffhausen Ebnatstrasse 35\, 8200 Schaffhausen
CATEGORIES:Saison 2017/18
END:VEVENT
BEGIN:VEVENT
DTSTAMP:20260424T165458Z
DTSTART;TZID=Europe/Berlin:20180324T150000
DTEND;TZID=Europe/Berlin:20180324T180000
SUMMARY:JUG 2.Liga Gr.1A Final Rapperswil-Jona vs Uster (5)
UID:ed443618-5ffb-4f35-99f3-5691b0ea9d53
STATUS:CONFIRMED
LAST-MODIFIED:20180327T080417Z
DESCRIPTION:2. Liga Jugend Gruppe 1A Final\nBegegnungs-Nr: 5\nHeim: Rapperswil-Jona\nGast: Uster\nHalle: Poule im TT-Zentrum Ebnat\, Schaffhausen\nAdresse: Kreuzstrasse 43\, 8640 Rapperswil\n
LOCATION:Poule im TT-Zentrum Ebnat\, Schaffhausen Kreuzstrasse 43\, 8640 Rapperswil
CATEGORIES:Saison 2017/18
END:VEVENT
END:VCALENDAR
