BEGIN:VCALENDAR
PRODID:-//nuDatenautomaten//framework iCal4j //DE
VERSION:2.0
CALSCALE:GREGORIAN
BEGIN:VTIMEZONE
TZID:Europe/Berlin
LAST-MODIFIED:20260306T231828Z
TZURL:https://www.tzurl.org/zoneinfo/Europe/Berlin
X-LIC-LOCATION:Europe/Berlin
X-PROLEPTIC-TZNAME:LMT
BEGIN:STANDARD
TZNAME:CET
TZOFFSETFROM:+005328
TZOFFSETTO:+0100
DTSTART:18930401T000000
END:STANDARD
BEGIN:DAYLIGHT
TZNAME:CEST
TZOFFSETFROM:+0100
TZOFFSETTO:+0200
DTSTART:19160430T230000
RDATE:19400401T020000
RDATE:19430329T020000
RDATE:19460414T020000
RDATE:19470406T030000
RDATE:19480418T020000
RDATE:19490410T020000
RDATE:19800406T020000
END:DAYLIGHT
BEGIN:STANDARD
TZNAME:CET
TZOFFSETFROM:+0200
TZOFFSETTO:+0100
DTSTART:19161001T010000
RDATE:19421102T030000
RDATE:19431004T030000
RDATE:19441002T030000
RDATE:19451118T030000
RDATE:19461007T030000
END:STANDARD
BEGIN:DAYLIGHT
TZNAME:CEST
TZOFFSETFROM:+0100
TZOFFSETTO:+0200
DTSTART:19170416T020000
RRULE:FREQ=YEARLY;UNTIL=19180415T010000Z;BYMONTH=4;BYDAY=3MO
END:DAYLIGHT
BEGIN:STANDARD
TZNAME:CET
TZOFFSETFROM:+0200
TZOFFSETTO:+0100
DTSTART:19170917T030000
RRULE:FREQ=YEARLY;UNTIL=19180916T010000Z;BYMONTH=9;BYDAY=3MO
END:STANDARD
BEGIN:DAYLIGHT
TZNAME:CEST
TZOFFSETFROM:+0100
TZOFFSETTO:+0200
DTSTART:19440403T020000
RRULE:FREQ=YEARLY;UNTIL=19450402T010000Z;BYMONTH=4;BYDAY=1MO
END:DAYLIGHT
BEGIN:DAYLIGHT
TZNAME:CEMT
TZOFFSETFROM:+0200
TZOFFSETTO:+0300
DTSTART:19450524T020000
RDATE:19470511T030000
END:DAYLIGHT
BEGIN:DAYLIGHT
TZNAME:CEST
TZOFFSETFROM:+0300
TZOFFSETTO:+0200
DTSTART:19450924T030000
RDATE:19470629T030000
END:DAYLIGHT
BEGIN:STANDARD
TZNAME:CET
TZOFFSETFROM:+0100
TZOFFSETTO:+0100
DTSTART:19460101T000000
RDATE:19800101T000000
END:STANDARD
BEGIN:STANDARD
TZNAME:CET
TZOFFSETFROM:+0200
TZOFFSETTO:+0100
DTSTART:19471005T030000
RRULE:FREQ=YEARLY;UNTIL=19491002T010000Z;BYMONTH=10;BYDAY=1SU
END:STANDARD
BEGIN:STANDARD
TZNAME:CET
TZOFFSETFROM:+0200
TZOFFSETTO:+0100
DTSTART:19800928T030000
RRULE:FREQ=YEARLY;UNTIL=19950924T010000Z;BYMONTH=9;BYDAY=-1SU
END:STANDARD
BEGIN:DAYLIGHT
TZNAME:CEST
TZOFFSETFROM:+0100
TZOFFSETTO:+0200
DTSTART:19810329T020000
RRULE:FREQ=YEARLY;BYMONTH=3;BYDAY=-1SU
END:DAYLIGHT
BEGIN:STANDARD
TZNAME:CET
TZOFFSETFROM:+0200
TZOFFSETTO:+0100
DTSTART:19961027T030000
RRULE:FREQ=YEARLY;BYMONTH=10;BYDAY=-1SU
END:STANDARD
END:VTIMEZONE
BEGIN:VEVENT
DTSTAMP:20260424T151020Z
DTSTART;TZID=Europe/Berlin:20170913T194500
DTEND;TZID=Europe/Berlin:20170913T224500
SUMMARY:Ligue 3 Gr.3\, Ph.A Grand-Saconnex vs ZZ-Lancy X (3)
UID:6010be51-5487-5356-e053-1fc7a80a74f7
STATUS:CONFIRMED
LAST-MODIFIED:20170914T114655Z
DESCRIPTION:3ème ligue Hommes Gr. 3 Phase A\nBegegnungs-Nr: 3\nHeim: Grand-Saconnex\nGast: ZZ-Lancy X\n
LOCATION:
CATEGORIES:Saison 2017/18
END:VEVENT
BEGIN:VEVENT
DTSTAMP:20260424T151020Z
DTSTART;TZID=Europe/Berlin:20171115T194500
DTEND;TZID=Europe/Berlin:20171115T224500
SUMMARY:Ligue 3 Gr.3\, Ph.A Grand-Saconnex vs Meyrin V (19)
UID:6010be51-553a-5356-e053-1fc7a80a74f7
STATUS:CONFIRMED
LAST-MODIFIED:20171118T175410Z
DESCRIPTION:3ème ligue Hommes Gr. 3 Phase A\nBegegnungs-Nr: 19\nHeim: Grand-Saconnex\nGast: Meyrin V\n
LOCATION:
CATEGORIES:Saison 2017/18
END:VEVENT
BEGIN:VEVENT
DTSTAMP:20260424T151020Z
DTSTART;TZID=Europe/Berlin:20171018T194500
DTEND;TZID=Europe/Berlin:20171018T224500
SUMMARY:Ligue 3 Gr.3\, Ph.A Grand-Saconnex vs Bernex (13)
UID:6010be51-553f-5356-e053-1fc7a80a74f7
STATUS:CONFIRMED
LAST-MODIFIED:20171019T115103Z
DESCRIPTION:3ème ligue Hommes Gr. 3 Phase A\nBegegnungs-Nr: 13\nHeim: Grand-Saconnex\nGast: Bernex\n
LOCATION:
CATEGORIES:Saison 2017/18
END:VEVENT
BEGIN:VEVENT
DTSTAMP:20260424T151020Z
DTSTART;TZID=Europe/Berlin:20171011T194500
DTEND;TZID=Europe/Berlin:20171011T224500
SUMMARY:Ligue 3 Gr.3\, Ph.A Grand-Saconnex vs Veyrier VI (10)
UID:6010be51-5541-5356-e053-1fc7a80a74f7
STATUS:CONFIRMED
LAST-MODIFIED:20171012T113548Z
DESCRIPTION:3ème ligue Hommes Gr. 3 Phase A\nBegegnungs-Nr: 10\nHeim: Grand-Saconnex\nGast: Veyrier VI\n
LOCATION:
CATEGORIES:Saison 2017/18
END:VEVENT
BEGIN:VEVENT
DTSTAMP:20260424T151020Z
DTSTART;TZID=Europe/Berlin:20180531T194500
DTEND;TZID=Europe/Berlin:20180531T224500
SUMMARY:Ligue 4 Titre finale\, Ph.B Grand-Saconnex vs Silver Star VII (1)
UID:d29ee735-ca24-439e-9888-437304817f38
STATUS:CONFIRMED
LAST-MODIFIED:20180601T155211Z
DESCRIPTION:4ème ligue Hommes Titre finale Phase B\nBegegnungs-Nr: 1\nHeim: Grand-Saconnex\nGast: Silver Star VII\n
LOCATION:
CATEGORIES:Saison 2017/18
END:VEVENT
BEGIN:VEVENT
DTSTAMP:20260424T151020Z
DTSTART;TZID=Europe/Berlin:20171129T194500
DTEND;TZID=Europe/Berlin:20171129T224500
SUMMARY:Ligue 3 Gr.3\, Ph.A Grand-Saconnex vs Silver Star IV (23)
UID:6010be51-58ae-5356-e053-1fc7a80a74f7
STATUS:CONFIRMED
LAST-MODIFIED:20171130T153353Z
DESCRIPTION:3ème ligue Hommes Gr. 3 Phase A\nBegegnungs-Nr: 23\nHeim: Grand-Saconnex\nGast: Silver Star IV\n
LOCATION:
CATEGORIES:Saison 2017/18
END:VEVENT
BEGIN:VEVENT
DTSTAMP:20260424T151020Z
DTSTART;TZID=Europe/Berlin:20180411T194500
DTEND;TZID=Europe/Berlin:20180411T224500
SUMMARY:Ligue 4 Gr.5\, Ph. B Grand-Saconnex vs Mandement VII (25)
UID:e6730889-6894-4623-aaa2-4d37e546d9ed
STATUS:CONFIRMED
LAST-MODIFIED:20180412T121702Z
DESCRIPTION:4ème ligue Hommes Gr. 5 Phase B\nBegegnungs-Nr: 25\nHeim: Grand-Saconnex\nGast: Mandement VII\n
LOCATION:
CATEGORIES:Saison 2017/18
END:VEVENT
BEGIN:VEVENT
DTSTAMP:20260424T151020Z
DTSTART;TZID=Europe/Berlin:20180314T194500
DTEND;TZID=Europe/Berlin:20180314T224500
SUMMARY:Ligue 4 Gr.5\, Ph. B Grand-Saconnex vs Meyrin VIII (21)
UID:3e02bcc4-1926-4fd9-8734-1c601832af55
STATUS:CONFIRMED
LAST-MODIFIED:20180315T130448Z
DESCRIPTION:4ème ligue Hommes Gr. 5 Phase B\nBegegnungs-Nr: 21\nHeim: Grand-Saconnex\nGast: Meyrin VIII\n
LOCATION:
CATEGORIES:Saison 2017/18
END:VEVENT
BEGIN:VEVENT
DTSTAMP:20260424T151020Z
DTSTART;TZID=Europe/Berlin:20180228T194500
DTEND;TZID=Europe/Berlin:20180228T224500
SUMMARY:Ligue 4 Gr.5\, Ph. B Grand-Saconnex vs Onex V (13)
UID:f531386f-0005-4ce3-986d-116afa727c7d
STATUS:CONFIRMED
LAST-MODIFIED:20180301T200424Z
DESCRIPTION:4ème ligue Hommes Gr. 5 Phase B\nBegegnungs-Nr: 13\nHeim: Grand-Saconnex\nGast: Onex V\n
LOCATION:
CATEGORIES:Saison 2017/18
END:VEVENT
BEGIN:VEVENT
DTSTAMP:20260424T151020Z
DTSTART;TZID=Europe/Berlin:20180110T194500
DTEND;TZID=Europe/Berlin:20180110T224500
SUMMARY:Ligue 4 Gr.5\, Ph. B Grand-Saconnex vs Bernex II (1)
UID:9ce64373-1754-4475-a26c-da95e2595956
STATUS:CONFIRMED
LAST-MODIFIED:20180112T183513Z
DESCRIPTION:4ème ligue Hommes Gr. 5 Phase B\nBegegnungs-Nr: 1\nHeim: Grand-Saconnex\nGast: Bernex II\n
LOCATION:
CATEGORIES:Saison 2017/18
END:VEVENT
BEGIN:VEVENT
DTSTAMP:20260424T151020Z
DTSTART;TZID=Europe/Berlin:20180524T194500
DTEND;TZID=Europe/Berlin:20180524T224500
SUMMARY:Ligue 4 Titre demi\, Ph.B Grand-Saconnex vs Châtelaine VI (1)
UID:99a441a3-4c94-4ff8-adb8-1813e544a7b0
STATUS:CONFIRMED
LAST-MODIFIED:20180525T075537Z
DESCRIPTION:4ème ligue Hommes Titre demi Phase B\nBegegnungs-Nr: 1\nHeim: Grand-Saconnex\nGast: Châtelaine VI\n
LOCATION:
CATEGORIES:Saison 2017/18
END:VEVENT
BEGIN:VEVENT
DTSTAMP:20260424T151020Z
DTSTART;TZID=Europe/Berlin:20171206T194500
DTEND;TZID=Europe/Berlin:20171206T224500
SUMMARY:Ligue 3 Gr.3\, Ph.A Veyrier VI vs Grand-Saconnex (25)
UID:6010be51-53dc-5356-e053-1fc7a80a74f7
STATUS:CONFIRMED
LAST-MODIFIED:20171207T134215Z
DESCRIPTION:3ème ligue Hommes Gr. 3 Phase A\nBegegnungs-Nr: 25\nHeim: Veyrier VI\nGast: Grand-Saconnex\n\nAdresse: -\, 1255 Veyrier\n
LOCATION:-\, 1255 Veyrier
CATEGORIES:Saison 2017/18
END:VEVENT
BEGIN:VEVENT
DTSTAMP:20260424T151020Z
DTSTART;TZID=Europe/Berlin:20170920T194500
DTEND;TZID=Europe/Berlin:20170920T224500
SUMMARY:Ligue 3 Gr.3\, Ph.A Meyrin V vs Grand-Saconnex (4)
UID:6010be51-5486-5356-e053-1fc7a80a74f7
STATUS:CONFIRMED
LAST-MODIFIED:20170921T131442Z
DESCRIPTION:3ème ligue Hommes Gr. 3 Phase A\nBegegnungs-Nr: 4\nHeim: Meyrin V\nGast: Grand-Saconnex\n
LOCATION:
CATEGORIES:Saison 2017/18
END:VEVENT
BEGIN:VEVENT
DTSTAMP:20260424T151020Z
DTSTART;TZID=Europe/Berlin:20171108T201500
DTEND;TZID=Europe/Berlin:20171108T231500
SUMMARY:Ligue 3 Gr.3\, Ph.A ZZ-Lancy X vs Grand-Saconnex (18)
UID:6010be51-553b-5356-e053-1fc7a80a74f7
STATUS:CONFIRMED
LAST-MODIFIED:20171109T123649Z
DESCRIPTION:3ème ligue Hommes Gr. 3 Phase A\nBegegnungs-Nr: 18\nHeim: ZZ-Lancy X\nGast: Grand-Saconnex\n\nAdresse: Avenue du Curé-Baud 40\, 1212 Grand-Lancy\n
LOCATION:Avenue du Curé-Baud 40\, 1212 Grand-Lancy
CATEGORIES:Saison 2017/18
END:VEVENT
BEGIN:VEVENT
DTSTAMP:20260424T151020Z
DTSTART;TZID=Europe/Berlin:20170927T194500
DTEND;TZID=Europe/Berlin:20170927T224500
SUMMARY:Ligue 3 Gr.3\, Ph.A Silver Star IV vs Grand-Saconnex (8)
UID:6010be51-5545-5356-e053-1fc7a80a74f7
STATUS:CONFIRMED
LAST-MODIFIED:20170928T114049Z
DESCRIPTION:3ème ligue Hommes Gr. 3 Phase A\nBegegnungs-Nr: 8\nHeim: Silver Star IV\nGast: Grand-Saconnex\n\nAdresse: Rue de Vermont 33\, 1202 Genève\n
LOCATION:Rue de Vermont 33\, 1202 Genève
CATEGORIES:Saison 2017/18
END:VEVENT
BEGIN:VEVENT
DTSTAMP:20260424T151020Z
DTSTART;TZID=Europe/Berlin:20180419T194500
DTEND;TZID=Europe/Berlin:20180419T224500
SUMMARY:Ligue 4 Gr.5\, Ph. B Onex V vs Grand-Saconnex (28)
UID:783777fb-7df9-46fe-85fd-5fe7720bf4d3
STATUS:CONFIRMED
LAST-MODIFIED:20180420T074750Z
DESCRIPTION:4ème ligue Hommes Gr. 5 Phase B\nBegegnungs-Nr: 28\nHeim: Onex V\nGast: Grand-Saconnex\n
LOCATION:
CATEGORIES:Saison 2017/18
END:VEVENT
BEGIN:VEVENT
DTSTAMP:20260424T151020Z
DTSTART;TZID=Europe/Berlin:20180208T194500
DTEND;TZID=Europe/Berlin:20180208T224500
SUMMARY:Ligue 4 Gr.5\, Ph. B Mandement VII vs Grand-Saconnex (10)
UID:39cfcc3c-a750-42dc-9695-4d7995e0c3e3
STATUS:CONFIRMED
LAST-MODIFIED:20180212T171639Z
DESCRIPTION:4ème ligue Hommes Gr. 5 Phase B\nBegegnungs-Nr: 10\nHeim: Mandement VII\nGast: Grand-Saconnex\n
LOCATION:
CATEGORIES:Saison 2017/18
END:VEVENT
BEGIN:VEVENT
DTSTAMP:20260424T151020Z
DTSTART;TZID=Europe/Berlin:20180308T194500
DTEND;TZID=Europe/Berlin:20180308T224500
SUMMARY:Ligue 4 Gr.5\, Ph. B Bernex II vs Grand-Saconnex (16)
UID:7ef8eae1-180d-4c15-a864-5e4a18e3fc0b
STATUS:CONFIRMED
LAST-MODIFIED:20180309T092141Z
DESCRIPTION:4ème ligue Hommes Gr. 5 Phase B\nBegegnungs-Nr: 16\nHeim: Bernex II\nGast: Grand-Saconnex\n\nAdresse: Chemin de Saule 120\, 1233 Bernex\n
LOCATION:Chemin de Saule 120\, 1233 Bernex
CATEGORIES:Saison 2017/18
END:VEVENT
BEGIN:VEVENT
DTSTAMP:20260424T151020Z
DTSTART;TZID=Europe/Berlin:20180118T194500
DTEND;TZID=Europe/Berlin:20180118T224500
SUMMARY:Ligue 4 Gr.5\, Ph. B Meyrin VIII vs Grand-Saconnex (6)
UID:f89be5d6-7de8-4469-aafa-e2b4b960d908
STATUS:CONFIRMED
LAST-MODIFIED:20180119T090314Z
DESCRIPTION:4ème ligue Hommes Gr. 5 Phase B\nBegegnungs-Nr: 6\nHeim: Meyrin VIII\nGast: Grand-Saconnex\n
LOCATION:
CATEGORIES:Saison 2017/18
END:VEVENT
BEGIN:VEVENT
DTSTAMP:20260424T151020Z
DTSTART;TZID=Europe/Berlin:20171213T194500
DTEND;TZID=Europe/Berlin:20171213T224500
SUMMARY:Ligue 3 Gr.3\, Ph.A Bernex vs Grand-Saconnex (29)
UID:6010be51-548a-5356-e053-1fc7a80a74f7
STATUS:CONFIRMED
LAST-MODIFIED:20171214T144144Z
DESCRIPTION:3ème ligue Hommes Gr. 3 Phase A\nBegegnungs-Nr: 29\nHeim: Bernex\nGast: Grand-Saconnex\n\nAdresse: Chemin de Saule 120\, 1233 Bernex\n
LOCATION:Chemin de Saule 120\, 1233 Bernex
CATEGORIES:Saison 2017/18
END:VEVENT
END:VCALENDAR
