BEGIN:VCALENDAR
PRODID:-//nuDatenautomaten//framework iCal4j //DE
VERSION:2.0
CALSCALE:GREGORIAN
BEGIN:VTIMEZONE
TZID:Europe/Berlin
LAST-MODIFIED:20260306T231828Z
TZURL:https://www.tzurl.org/zoneinfo/Europe/Berlin
X-LIC-LOCATION:Europe/Berlin
X-PROLEPTIC-TZNAME:LMT
BEGIN:STANDARD
TZNAME:CET
TZOFFSETFROM:+005328
TZOFFSETTO:+0100
DTSTART:18930401T000000
END:STANDARD
BEGIN:DAYLIGHT
TZNAME:CEST
TZOFFSETFROM:+0100
TZOFFSETTO:+0200
DTSTART:19160430T230000
RDATE:19400401T020000
RDATE:19430329T020000
RDATE:19460414T020000
RDATE:19470406T030000
RDATE:19480418T020000
RDATE:19490410T020000
RDATE:19800406T020000
END:DAYLIGHT
BEGIN:STANDARD
TZNAME:CET
TZOFFSETFROM:+0200
TZOFFSETTO:+0100
DTSTART:19161001T010000
RDATE:19421102T030000
RDATE:19431004T030000
RDATE:19441002T030000
RDATE:19451118T030000
RDATE:19461007T030000
END:STANDARD
BEGIN:DAYLIGHT
TZNAME:CEST
TZOFFSETFROM:+0100
TZOFFSETTO:+0200
DTSTART:19170416T020000
RRULE:FREQ=YEARLY;UNTIL=19180415T010000Z;BYMONTH=4;BYDAY=3MO
END:DAYLIGHT
BEGIN:STANDARD
TZNAME:CET
TZOFFSETFROM:+0200
TZOFFSETTO:+0100
DTSTART:19170917T030000
RRULE:FREQ=YEARLY;UNTIL=19180916T010000Z;BYMONTH=9;BYDAY=3MO
END:STANDARD
BEGIN:DAYLIGHT
TZNAME:CEST
TZOFFSETFROM:+0100
TZOFFSETTO:+0200
DTSTART:19440403T020000
RRULE:FREQ=YEARLY;UNTIL=19450402T010000Z;BYMONTH=4;BYDAY=1MO
END:DAYLIGHT
BEGIN:DAYLIGHT
TZNAME:CEMT
TZOFFSETFROM:+0200
TZOFFSETTO:+0300
DTSTART:19450524T020000
RDATE:19470511T030000
END:DAYLIGHT
BEGIN:DAYLIGHT
TZNAME:CEST
TZOFFSETFROM:+0300
TZOFFSETTO:+0200
DTSTART:19450924T030000
RDATE:19470629T030000
END:DAYLIGHT
BEGIN:STANDARD
TZNAME:CET
TZOFFSETFROM:+0100
TZOFFSETTO:+0100
DTSTART:19460101T000000
RDATE:19800101T000000
END:STANDARD
BEGIN:STANDARD
TZNAME:CET
TZOFFSETFROM:+0200
TZOFFSETTO:+0100
DTSTART:19471005T030000
RRULE:FREQ=YEARLY;UNTIL=19491002T010000Z;BYMONTH=10;BYDAY=1SU
END:STANDARD
BEGIN:STANDARD
TZNAME:CET
TZOFFSETFROM:+0200
TZOFFSETTO:+0100
DTSTART:19800928T030000
RRULE:FREQ=YEARLY;UNTIL=19950924T010000Z;BYMONTH=9;BYDAY=-1SU
END:STANDARD
BEGIN:DAYLIGHT
TZNAME:CEST
TZOFFSETFROM:+0100
TZOFFSETTO:+0200
DTSTART:19810329T020000
RRULE:FREQ=YEARLY;BYMONTH=3;BYDAY=-1SU
END:DAYLIGHT
BEGIN:STANDARD
TZNAME:CET
TZOFFSETFROM:+0200
TZOFFSETTO:+0100
DTSTART:19961027T030000
RRULE:FREQ=YEARLY;BYMONTH=10;BYDAY=-1SU
END:STANDARD
END:VTIMEZONE
BEGIN:VEVENT
DTSTAMP:20260424T163225Z
DTSTART;TZID=Europe/Berlin:20180118T194500
DTEND;TZID=Europe/Berlin:20180118T224500
SUMMARY:Ligue 4 Gr.2\, Ph. B Rapid-Genève V vs Onex III (4)
UID:2bb0b113-94b6-4dff-9ab9-85ad8e1351ad
STATUS:CONFIRMED
LAST-MODIFIED:20180119T200915Z
DESCRIPTION:4ème ligue Hommes Gr. 2 Phase B\nBegegnungs-Nr: 4\nHeim: Rapid-Genève V\nGast: Onex III\n
LOCATION:
CATEGORIES:Saison 2017/18
END:VEVENT
BEGIN:VEVENT
DTSTAMP:20260424T163225Z
DTSTART;TZID=Europe/Berlin:20180322T194500
DTEND;TZID=Europe/Berlin:20180322T224500
SUMMARY:Ligue 4 Gr.2\, Ph. B Rapid-Genève V vs Meyrin V (22)
UID:11681e6b-be41-4e0a-9fe3-f54380256822
STATUS:CONFIRMED
LAST-MODIFIED:20180420T194946Z
DESCRIPTION:4ème ligue Hommes Gr. 2 Phase B\nBegegnungs-Nr: 22\nHeim: Rapid-Genève V\nGast: Meyrin V\n
LOCATION:
CATEGORIES:Saison 2017/18
END:VEVENT
BEGIN:VEVENT
DTSTAMP:20260424T163225Z
DTSTART;TZID=Europe/Berlin:20180308T194500
DTEND;TZID=Europe/Berlin:20180308T224500
SUMMARY:Ligue 4 Gr.2\, Ph. B Rapid-Genève V vs UGS-Chênois XIII (17)
UID:cfd46428-6ed2-4d4f-947f-62edfa80f43b
STATUS:CONFIRMED
LAST-MODIFIED:20180309T102256Z
DESCRIPTION:4ème ligue Hommes Gr. 2 Phase B\nBegegnungs-Nr: 17\nHeim: Rapid-Genève V\nGast: UGS-Chênois XIII\n
LOCATION:
CATEGORIES:Saison 2017/18
END:VEVENT
BEGIN:VEVENT
DTSTAMP:20260424T163225Z
DTSTART;TZID=Europe/Berlin:20180301T194500
DTEND;TZID=Europe/Berlin:20180301T224500
SUMMARY:Ligue 4 Gr.2\, Ph. B Rapid-Genève V vs Migros II (15)
UID:af7ea582-fcc8-4a74-8f67-60274ca11b7d
STATUS:CONFIRMED
LAST-MODIFIED:20180302T205602Z
DESCRIPTION:4ème ligue Hommes Gr. 2 Phase B\nBegegnungs-Nr: 15\nHeim: Rapid-Genève V\nGast: Migros II\n
LOCATION:
CATEGORIES:Saison 2017/18
END:VEVENT
BEGIN:VEVENT
DTSTAMP:20260424T163225Z
DTSTART;TZID=Europe/Berlin:20180412T194500
DTEND;TZID=Europe/Berlin:20180412T224500
SUMMARY:Ligue 4 Gr.2\, Ph. B Rapid-Genève V vs Silver Star VII (26)
UID:802605db-e537-4971-be29-9635e96ba77e
STATUS:CONFIRMED
LAST-MODIFIED:20180413T194833Z
DESCRIPTION:4ème ligue Hommes Gr. 2 Phase B\nBegegnungs-Nr: 26\nHeim: Rapid-Genève V\nGast: Silver Star VII\n
LOCATION:
CATEGORIES:Saison 2017/18
END:VEVENT
BEGIN:VEVENT
DTSTAMP:20260424T163225Z
DTSTART;TZID=Europe/Berlin:20171012T194500
DTEND;TZID=Europe/Berlin:20171012T224500
SUMMARY:Ligue 4 Gr.6\, Ph. A Rapid-Genève V vs UGS-Chênois XI (8)
UID:6010be51-5816-5356-e053-1fc7a80a74f7
STATUS:CONFIRMED
LAST-MODIFIED:20171013T081054Z
DESCRIPTION:4ème ligue Hommes Gr. 6 Phase A\nBegegnungs-Nr: 8\nHeim: Rapid-Genève V\nGast: UGS-Chênois XI\n
LOCATION:
CATEGORIES:Saison 2017/18
END:VEVENT
BEGIN:VEVENT
DTSTAMP:20260424T163225Z
DTSTART;TZID=Europe/Berlin:20170914T194500
DTEND;TZID=Europe/Berlin:20170914T224500
SUMMARY:Ligue 4 Gr.6\, Ph. A Rapid-Genève V vs Meyrin IX (2)
UID:6010be51-581b-5356-e053-1fc7a80a74f7
STATUS:CONFIRMED
LAST-MODIFIED:20170915T201554Z
DESCRIPTION:4ème ligue Hommes Gr. 6 Phase A\nBegegnungs-Nr: 2\nHeim: Rapid-Genève V\nGast: Meyrin IX\n
LOCATION:
CATEGORIES:Saison 2017/18
END:VEVENT
BEGIN:VEVENT
DTSTAMP:20260424T163225Z
DTSTART;TZID=Europe/Berlin:20171116T194500
DTEND;TZID=Europe/Berlin:20171116T224500
SUMMARY:Ligue 4 Gr.6\, Ph. A Rapid-Genève V vs Vernier IV (13)
UID:6010be51-59b1-5356-e053-1fc7a80a74f7
STATUS:CONFIRMED
LAST-MODIFIED:20171117T082755Z
DESCRIPTION:4ème ligue Hommes Gr. 6 Phase A\nBegegnungs-Nr: 13\nHeim: Rapid-Genève V\nGast: Vernier IV\n
LOCATION:
CATEGORIES:Saison 2017/18
END:VEVENT
BEGIN:VEVENT
DTSTAMP:20260424T163225Z
DTSTART;TZID=Europe/Berlin:20171214T194500
DTEND;TZID=Europe/Berlin:20171214T224500
SUMMARY:Ligue 4 Gr.6\, Ph. A Rapid-Genève V vs Veyrier VIII (19)
UID:6010be51-59b9-5356-e053-1fc7a80a74f7
STATUS:CONFIRMED
LAST-MODIFIED:20171215T162008Z
DESCRIPTION:4ème ligue Hommes Gr. 6 Phase A\nBegegnungs-Nr: 19\nHeim: Rapid-Genève V\nGast: Veyrier VIII\n
LOCATION:
CATEGORIES:Saison 2017/18
END:VEVENT
BEGIN:VEVENT
DTSTAMP:20260424T163225Z
DTSTART;TZID=Europe/Berlin:20180524T194500
DTEND;TZID=Europe/Berlin:20180524T224500
SUMMARY:Ligue 4 Promo demi\, Ph.B Rapid-Genève V vs Châtelaine VII (2)
UID:54ac3c05-0394-405e-b686-553595514492
STATUS:CONFIRMED
LAST-MODIFIED:20180525T075757Z
DESCRIPTION:4ème ligue Hommes Promotion demi Phase B\nBegegnungs-Nr: 2\nHeim: Rapid-Genève V\nGast: Châtelaine VII\n
LOCATION:
CATEGORIES:Saison 2017/18
END:VEVENT
BEGIN:VEVENT
DTSTAMP:20260424T163225Z
DTSTART;TZID=Europe/Berlin:20180201T194500
DTEND;TZID=Europe/Berlin:20180201T224500
SUMMARY:Ligue 4 Gr.2\, Ph. B Meyrin V vs Rapid-Genève V (7)
UID:dd1c3950-940f-406d-9213-d736cd6b7224
STATUS:CONFIRMED
LAST-MODIFIED:20180420T195510Z
DESCRIPTION:4ème ligue Hommes Gr. 2 Phase B\nBegegnungs-Nr: 7\nHeim: Meyrin V\nGast: Rapid-Genève V\n
LOCATION:
CATEGORIES:Saison 2017/18
END:VEVENT
BEGIN:VEVENT
DTSTAMP:20260424T163225Z
DTSTART;TZID=Europe/Berlin:20180419T194500
DTEND;TZID=Europe/Berlin:20180419T224500
SUMMARY:Ligue 4 Gr.2\, Ph. B Migros II vs Rapid-Genève V (30)
UID:600cec01-a0f7-49bd-b43f-1ecf7e473c13
STATUS:CONFIRMED
LAST-MODIFIED:20180420T074639Z
DESCRIPTION:4ème ligue Hommes Gr. 2 Phase B\nBegegnungs-Nr: 30\nHeim: Migros II\nGast: Rapid-Genève V\n
LOCATION:
CATEGORIES:Saison 2017/18
END:VEVENT
BEGIN:VEVENT
DTSTAMP:20260424T163225Z
DTSTART;TZID=Europe/Berlin:20180111T194500
DTEND;TZID=Europe/Berlin:20180111T224500
SUMMARY:Ligue 4 Gr.2\, Ph. B UGS-Chênois XIII vs Rapid-Genève V (2)
UID:633665cd-2ae3-4892-a89a-d1fadb5f8376
STATUS:CONFIRMED
LAST-MODIFIED:20180112T184144Z
DESCRIPTION:4ème ligue Hommes Gr. 2 Phase B\nBegegnungs-Nr: 2\nHeim: UGS-Chênois XIII\nGast: Rapid-Genève V\n
LOCATION:
CATEGORIES:Saison 2017/18
END:VEVENT
BEGIN:VEVENT
DTSTAMP:20260424T163225Z
DTSTART;TZID=Europe/Berlin:20180315T194500
DTEND;TZID=Europe/Berlin:20180315T224500
SUMMARY:Ligue 4 Gr.2\, Ph. B Onex III vs Rapid-Genève V (19)
UID:9a6e7a15-2d56-42b8-aee6-f3b69b0c9157
STATUS:CONFIRMED
LAST-MODIFIED:20180316T175729Z
DESCRIPTION:4ème ligue Hommes Gr. 2 Phase B\nBegegnungs-Nr: 19\nHeim: Onex III\nGast: Rapid-Genève V\n
LOCATION:
CATEGORIES:Saison 2017/18
END:VEVENT
BEGIN:VEVENT
DTSTAMP:20260424T163225Z
DTSTART;TZID=Europe/Berlin:20180208T194500
DTEND;TZID=Europe/Berlin:20180208T224500
SUMMARY:Ligue 4 Gr.2\, Ph. B Silver Star VII vs Rapid-Genève V (11)
UID:d06d9868-1ca7-4129-b11b-8dc1f741ae22
STATUS:CONFIRMED
LAST-MODIFIED:20180209T101457Z
DESCRIPTION:4ème ligue Hommes Gr. 2 Phase B\nBegegnungs-Nr: 11\nHeim: Silver Star VII\nGast: Rapid-Genève V\n\nAdresse: Rue de Vermont 33\, 1202 Genève\n
LOCATION:Rue de Vermont 33\, 1202 Genève
CATEGORIES:Saison 2017/18
END:VEVENT
BEGIN:VEVENT
DTSTAMP:20260424T163225Z
DTSTART;TZID=Europe/Berlin:20180607T194500
DTEND;TZID=Europe/Berlin:20180607T224500
SUMMARY:Ligue 4 Promo finale\, Ph.B Onex V vs Rapid-Genève V (1)
UID:fac2e170-e79a-435d-81ad-d9864fbb7ed5
STATUS:CONFIRMED
LAST-MODIFIED:20180608T071711Z
DESCRIPTION:4ème ligue Hommes Promotion finale Phase B\nBegegnungs-Nr: 1\nHeim: Onex V\nGast: Rapid-Genève V\n
LOCATION:
CATEGORIES:Saison 2017/18
END:VEVENT
BEGIN:VEVENT
DTSTAMP:20260424T163225Z
DTSTART;TZID=Europe/Berlin:20171019T194500
DTEND;TZID=Europe/Berlin:20171019T224500
SUMMARY:Ligue 4 Gr.6\, Ph. A Veyrier VIII vs Rapid-Genève V (9)
UID:6010be51-5817-5356-e053-1fc7a80a74f7
STATUS:CONFIRMED
LAST-MODIFIED:20171020T072029Z
DESCRIPTION:4ème ligue Hommes Gr. 6 Phase A\nBegegnungs-Nr: 9\nHeim: Veyrier VIII\nGast: Rapid-Genève V\n
LOCATION:
CATEGORIES:Saison 2017/18
END:VEVENT
BEGIN:VEVENT
DTSTAMP:20260424T163225Z
DTSTART;TZID=Europe/Berlin:20170921T194500
DTEND;TZID=Europe/Berlin:20170921T224500
SUMMARY:Ligue 4 Gr.6\, Ph. A Vernier IV vs Rapid-Genève V (3)
UID:6010be51-581c-5356-e053-1fc7a80a74f7
STATUS:CONFIRMED
LAST-MODIFIED:20170922T161948Z
DESCRIPTION:4ème ligue Hommes Gr. 6 Phase A\nBegegnungs-Nr: 3\nHeim: Vernier IV\nGast: Rapid-Genève V\n
LOCATION:
CATEGORIES:Saison 2017/18
END:VEVENT
BEGIN:VEVENT
DTSTAMP:20260424T163225Z
DTSTART;TZID=Europe/Berlin:20171109T194500
DTEND;TZID=Europe/Berlin:20171109T224500
SUMMARY:Ligue 4 Gr.6\, Ph. A Meyrin IX vs Rapid-Genève V (12)
UID:6010be51-59b4-5356-e053-1fc7a80a74f7
STATUS:CONFIRMED
LAST-MODIFIED:20171110T171932Z
DESCRIPTION:4ème ligue Hommes Gr. 6 Phase A\nBegegnungs-Nr: 12\nHeim: Meyrin IX\nGast: Rapid-Genève V\n
LOCATION:
CATEGORIES:Saison 2017/18
END:VEVENT
BEGIN:VEVENT
DTSTAMP:20260424T163225Z
DTSTART;TZID=Europe/Berlin:20171207T194500
DTEND;TZID=Europe/Berlin:20171207T224500
SUMMARY:Ligue 4 Gr.6\, Ph. A UGS-Chênois XI vs Rapid-Genève V (18)
UID:6010be51-59b8-5356-e053-1fc7a80a74f7
STATUS:CONFIRMED
LAST-MODIFIED:20171208T160737Z
DESCRIPTION:4ème ligue Hommes Gr. 6 Phase A\nBegegnungs-Nr: 18\nHeim: UGS-Chênois XI\nGast: Rapid-Genève V\n
LOCATION:
CATEGORIES:Saison 2017/18
END:VEVENT
END:VCALENDAR
