BEGIN:VCALENDAR
PRODID:-//nuDatenautomaten//framework iCal4j //DE
VERSION:2.0
CALSCALE:GREGORIAN
BEGIN:VTIMEZONE
TZID:Europe/Berlin
LAST-MODIFIED:20260306T231828Z
TZURL:https://www.tzurl.org/zoneinfo/Europe/Berlin
X-LIC-LOCATION:Europe/Berlin
X-PROLEPTIC-TZNAME:LMT
BEGIN:STANDARD
TZNAME:CET
TZOFFSETFROM:+005328
TZOFFSETTO:+0100
DTSTART:18930401T000000
END:STANDARD
BEGIN:DAYLIGHT
TZNAME:CEST
TZOFFSETFROM:+0100
TZOFFSETTO:+0200
DTSTART:19160430T230000
RDATE:19400401T020000
RDATE:19430329T020000
RDATE:19460414T020000
RDATE:19470406T030000
RDATE:19480418T020000
RDATE:19490410T020000
RDATE:19800406T020000
END:DAYLIGHT
BEGIN:STANDARD
TZNAME:CET
TZOFFSETFROM:+0200
TZOFFSETTO:+0100
DTSTART:19161001T010000
RDATE:19421102T030000
RDATE:19431004T030000
RDATE:19441002T030000
RDATE:19451118T030000
RDATE:19461007T030000
END:STANDARD
BEGIN:DAYLIGHT
TZNAME:CEST
TZOFFSETFROM:+0100
TZOFFSETTO:+0200
DTSTART:19170416T020000
RRULE:FREQ=YEARLY;UNTIL=19180415T010000Z;BYMONTH=4;BYDAY=3MO
END:DAYLIGHT
BEGIN:STANDARD
TZNAME:CET
TZOFFSETFROM:+0200
TZOFFSETTO:+0100
DTSTART:19170917T030000
RRULE:FREQ=YEARLY;UNTIL=19180916T010000Z;BYMONTH=9;BYDAY=3MO
END:STANDARD
BEGIN:DAYLIGHT
TZNAME:CEST
TZOFFSETFROM:+0100
TZOFFSETTO:+0200
DTSTART:19440403T020000
RRULE:FREQ=YEARLY;UNTIL=19450402T010000Z;BYMONTH=4;BYDAY=1MO
END:DAYLIGHT
BEGIN:DAYLIGHT
TZNAME:CEMT
TZOFFSETFROM:+0200
TZOFFSETTO:+0300
DTSTART:19450524T020000
RDATE:19470511T030000
END:DAYLIGHT
BEGIN:DAYLIGHT
TZNAME:CEST
TZOFFSETFROM:+0300
TZOFFSETTO:+0200
DTSTART:19450924T030000
RDATE:19470629T030000
END:DAYLIGHT
BEGIN:STANDARD
TZNAME:CET
TZOFFSETFROM:+0100
TZOFFSETTO:+0100
DTSTART:19460101T000000
RDATE:19800101T000000
END:STANDARD
BEGIN:STANDARD
TZNAME:CET
TZOFFSETFROM:+0200
TZOFFSETTO:+0100
DTSTART:19471005T030000
RRULE:FREQ=YEARLY;UNTIL=19491002T010000Z;BYMONTH=10;BYDAY=1SU
END:STANDARD
BEGIN:STANDARD
TZNAME:CET
TZOFFSETFROM:+0200
TZOFFSETTO:+0100
DTSTART:19800928T030000
RRULE:FREQ=YEARLY;UNTIL=19950924T010000Z;BYMONTH=9;BYDAY=-1SU
END:STANDARD
BEGIN:DAYLIGHT
TZNAME:CEST
TZOFFSETFROM:+0100
TZOFFSETTO:+0200
DTSTART:19810329T020000
RRULE:FREQ=YEARLY;BYMONTH=3;BYDAY=-1SU
END:DAYLIGHT
BEGIN:STANDARD
TZNAME:CET
TZOFFSETFROM:+0200
TZOFFSETTO:+0100
DTSTART:19961027T030000
RRULE:FREQ=YEARLY;BYMONTH=10;BYDAY=-1SU
END:STANDARD
END:VTIMEZONE
BEGIN:VEVENT
DTSTAMP:20260424T164557Z
DTSTART;TZID=Europe/Berlin:20170916T153000
DTEND;TZID=Europe/Berlin:20170916T183000
SUMMARY:He 1. Liga Gr. 2 Rapid Luzern IV vs Schenkon (0)
UID:6010be51-3fe0-5356-e053-1fc7a80a74f7
STATUS:CONFIRMED
LAST-MODIFIED:20170924T152116Z
DESCRIPTION:1. Liga Herren Gruppe 2\nBegegnungs-Nr: 0\nHeim: Rapid Luzern IV\nGast: Schenkon\n\nAdresse: Kreuzbuchstr. 60\, 6006 Luzern\n
LOCATION:Kreuzbuchstr. 60\, 6006 Luzern
CATEGORIES:Saison 2017/18
END:VEVENT
BEGIN:VEVENT
DTSTAMP:20260424T164557Z
DTSTART;TZID=Europe/Berlin:20170930T153000
DTEND;TZID=Europe/Berlin:20170930T183000
SUMMARY:He 1. Liga Gr. 2 Rapid Luzern IV vs Baar II (0)
UID:6010be51-3fe3-5356-e053-1fc7a80a74f7
STATUS:CONFIRMED
LAST-MODIFIED:20171004T211425Z
DESCRIPTION:1. Liga Herren Gruppe 2\nBegegnungs-Nr: 0\nHeim: Rapid Luzern IV\nGast: Baar II\n\nAdresse: Kreuzbuchstr. 60\, 6006 Luzern\n
LOCATION:Kreuzbuchstr. 60\, 6006 Luzern
CATEGORIES:Saison 2017/18
END:VEVENT
BEGIN:VEVENT
DTSTAMP:20260424T164557Z
DTSTART;TZID=Europe/Berlin:20171118T130000
DTEND;TZID=Europe/Berlin:20171118T160000
SUMMARY:He 1. Liga Gr. 2 Rapid Luzern IV vs Kriens II (0)
UID:6010be51-420d-5356-e053-1fc7a80a74f7
STATUS:CONFIRMED
LAST-MODIFIED:20171122T092037Z
DESCRIPTION:1. Liga Herren Gruppe 2\nBegegnungs-Nr: 0\nHeim: Rapid Luzern IV\nGast: Kriens II\n\nAdresse: Kreuzbuchstr. 60\, 6006 Luzern\n
LOCATION:Kreuzbuchstr. 60\, 6006 Luzern
CATEGORIES:Saison 2017/18
END:VEVENT
BEGIN:VEVENT
DTSTAMP:20260424T164557Z
DTSTART;TZID=Europe/Berlin:20171209T153000
DTEND;TZID=Europe/Berlin:20171209T183000
SUMMARY:He 1. Liga Gr. 2 Rapid Luzern IV vs Rothenburg (0)
UID:6010be51-4211-5356-e053-1fc7a80a74f7
STATUS:CONFIRMED
LAST-MODIFIED:20171211T140252Z
DESCRIPTION:1. Liga Herren Gruppe 2\nBegegnungs-Nr: 0\nHeim: Rapid Luzern IV\nGast: Rothenburg\n\nAdresse: Kreuzbuchstr. 60\, 6006 Luzern\n
LOCATION:Kreuzbuchstr. 60\, 6006 Luzern
CATEGORIES:Saison 2017/18
END:VEVENT
BEGIN:VEVENT
DTSTAMP:20260424T164557Z
DTSTART;TZID=Europe/Berlin:20171209T130000
DTEND;TZID=Europe/Berlin:20171209T160000
SUMMARY:He 1. Liga Gr. 2 Rapid Luzern IV vs Steinhausen (0)
UID:6010be51-4246-5356-e053-1fc7a80a74f7
STATUS:CONFIRMED
LAST-MODIFIED:20171211T140228Z
DESCRIPTION:1. Liga Herren Gruppe 2\nBegegnungs-Nr: 0\nHeim: Rapid Luzern IV\nGast: Steinhausen\n\nAdresse: Kreuzbuchstr. 60\, 6006 Luzern\n
LOCATION:Kreuzbuchstr. 60\, 6006 Luzern
CATEGORIES:Saison 2017/18
END:VEVENT
BEGIN:VEVENT
DTSTAMP:20260424T164557Z
DTSTART;TZID=Europe/Berlin:20180103T200000
DTEND;TZID=Europe/Berlin:20180103T230000
SUMMARY:He 1.Liga PO 4 Rapid Luzern IV vs Reussbühl (8)
UID:fea6d94c-cca0-4197-94a5-8e43148c46c9
STATUS:CONFIRMED
LAST-MODIFIED:20180106T162417Z
DESCRIPTION:1. Liga Herren Playoff 1/4 Finals\nBegegnungs-Nr: 8\nHeim: Rapid Luzern IV\nGast: Reussbühl\n
LOCATION:
CATEGORIES:Saison 2017/18
END:VEVENT
BEGIN:VEVENT
DTSTAMP:20260424T164557Z
DTSTART;TZID=Europe/Berlin:20180310T130000
DTEND;TZID=Europe/Berlin:20180310T160000
SUMMARY:He 1.Liga PO2 Rapid Luzern IV vs Rapid Luzern III (0)
UID:a841ac2a-dbec-4b50-abad-95c3aa038d47
STATUS:CONFIRMED
LAST-MODIFIED:20180313T085545Z
DESCRIPTION:1. Liga Herren Playoff 1/2 Finals\nBegegnungs-Nr: 0\nHeim: Rapid Luzern IV\nGast: Rapid Luzern III\n
LOCATION:
CATEGORIES:Saison 2017/18
END:VEVENT
BEGIN:VEVENT
DTSTAMP:20260424T164557Z
DTSTART;TZID=Europe/Berlin:20170918T200000
DTEND;TZID=Europe/Berlin:20170918T230000
SUMMARY:He 1. Liga Gr. 2 Kriens II vs Rapid Luzern IV (0)
UID:6010be51-3fe2-5356-e053-1fc7a80a74f7
STATUS:CONFIRMED
LAST-MODIFIED:20170924T152159Z
DESCRIPTION:1. Liga Herren Gruppe 2\nBegegnungs-Nr: 0\nHeim: Kriens II\nGast: Rapid Luzern IV\n\nAdresse: Krauerstrasse 1\, 6010 Kriens\n
LOCATION:Krauerstrasse 1\, 6010 Kriens
CATEGORIES:Saison 2017/18
END:VEVENT
BEGIN:VEVENT
DTSTAMP:20260424T164557Z
DTSTART;TZID=Europe/Berlin:20171026T200000
DTEND;TZID=Europe/Berlin:20171026T230000
SUMMARY:He 1. Liga Gr. 2 Steinhausen vs Rapid Luzern IV (0)
UID:6010be51-401a-5356-e053-1fc7a80a74f7
STATUS:CONFIRMED
LAST-MODIFIED:20171101T114513Z
DESCRIPTION:1. Liga Herren Gruppe 2\nBegegnungs-Nr: 0\nHeim: Steinhausen\nGast: Rapid Luzern IV\n\nAdresse: Blickensdorferstrasse\, 6312 Steinhausen\n
LOCATION:Blickensdorferstrasse\, 6312 Steinhausen
CATEGORIES:Saison 2017/18
END:VEVENT
BEGIN:VEVENT
DTSTAMP:20260424T164557Z
DTSTART;TZID=Europe/Berlin:20171106T200000
DTEND;TZID=Europe/Berlin:20171106T230000
SUMMARY:He 1. Liga Gr. 2 Schenkon vs Rapid Luzern IV (0)
UID:6010be51-420a-5356-e053-1fc7a80a74f7
STATUS:CONFIRMED
LAST-MODIFIED:20171109T222315Z
DESCRIPTION:1. Liga Herren Gruppe 2\nBegegnungs-Nr: 0\nHeim: Schenkon\nGast: Rapid Luzern IV\n
LOCATION:
CATEGORIES:Saison 2017/18
END:VEVENT
BEGIN:VEVENT
DTSTAMP:20260424T164557Z
DTSTART;TZID=Europe/Berlin:20171127T194500
DTEND;TZID=Europe/Berlin:20171127T224500
SUMMARY:He 1. Liga Gr. 2 Baar II vs Rapid Luzern IV (0)
UID:6010be51-420e-5356-e053-1fc7a80a74f7
STATUS:CONFIRMED
LAST-MODIFIED:20171206T170820Z
DESCRIPTION:1. Liga Herren Gruppe 2\nBegegnungs-Nr: 0\nHeim: Baar II\nGast: Rapid Luzern IV\n\nAdresse: Rigistrasse 175/177\, 6340 Baar\n
LOCATION:Rigistrasse 175/177\, 6340 Baar
CATEGORIES:Saison 2017/18
END:VEVENT
BEGIN:VEVENT
DTSTAMP:20260424T164557Z
DTSTART;TZID=Europe/Berlin:20171020T200000
DTEND;TZID=Europe/Berlin:20171020T230000
SUMMARY:He 1. Liga Gr. 2 Rothenburg vs Rapid Luzern IV (0)
UID:6010be51-58e1-5356-e053-1fc7a80a74f7
STATUS:CONFIRMED
LAST-MODIFIED:20171023T210830Z
DESCRIPTION:1. Liga Herren Gruppe 2\nBegegnungs-Nr: 0\nHeim: Rothenburg\nGast: Rapid Luzern IV\n\nAdresse: Schulhausstrasse 6a\, 6023 Rothenburg\n
LOCATION:Schulhausstrasse 6a\, 6023 Rothenburg
CATEGORIES:Saison 2017/18
END:VEVENT
BEGIN:VEVENT
DTSTAMP:20260424T164557Z
DTSTART;TZID=Europe/Berlin:20171228T200000
DTEND;TZID=Europe/Berlin:20171228T230000
SUMMARY:He 1.Liga PO 4 Reussbühl vs Rapid Luzern IV (3)
UID:022d2b2f-7455-44c6-b279-8a18b315d1ee
STATUS:CONFIRMED
LAST-MODIFIED:20180103T134559Z
DESCRIPTION:1. Liga Herren Playoff 1/4 Finals\nBegegnungs-Nr: 3\nHeim: Reussbühl\nGast: Rapid Luzern IV\n
LOCATION:
CATEGORIES:Saison 2017/18
END:VEVENT
BEGIN:VEVENT
DTSTAMP:20260424T164557Z
DTSTART;TZID=Europe/Berlin:20180310T153000
DTEND;TZID=Europe/Berlin:20180310T183000
SUMMARY:He 1.Liga PO2 Rapid Luzern III vs Rapid Luzern IV (0)
UID:ec5acf1d-f0ce-4438-9257-9b12eceac3a5
STATUS:CONFIRMED
LAST-MODIFIED:20180313T085601Z
DESCRIPTION:1. Liga Herren Playoff 1/2 Finals\nBegegnungs-Nr: 0\nHeim: Rapid Luzern III\nGast: Rapid Luzern IV\n
LOCATION:
CATEGORIES:Saison 2017/18
END:VEVENT
END:VCALENDAR
