BEGIN:VCALENDAR
PRODID:-//nuDatenautomaten//framework iCal4j //DE
VERSION:2.0
CALSCALE:GREGORIAN
BEGIN:VTIMEZONE
TZID:Europe/Berlin
LAST-MODIFIED:20260306T231828Z
TZURL:https://www.tzurl.org/zoneinfo/Europe/Berlin
X-LIC-LOCATION:Europe/Berlin
X-PROLEPTIC-TZNAME:LMT
BEGIN:STANDARD
TZNAME:CET
TZOFFSETFROM:+005328
TZOFFSETTO:+0100
DTSTART:18930401T000000
END:STANDARD
BEGIN:DAYLIGHT
TZNAME:CEST
TZOFFSETFROM:+0100
TZOFFSETTO:+0200
DTSTART:19160430T230000
RDATE:19400401T020000
RDATE:19430329T020000
RDATE:19460414T020000
RDATE:19470406T030000
RDATE:19480418T020000
RDATE:19490410T020000
RDATE:19800406T020000
END:DAYLIGHT
BEGIN:STANDARD
TZNAME:CET
TZOFFSETFROM:+0200
TZOFFSETTO:+0100
DTSTART:19161001T010000
RDATE:19421102T030000
RDATE:19431004T030000
RDATE:19441002T030000
RDATE:19451118T030000
RDATE:19461007T030000
END:STANDARD
BEGIN:DAYLIGHT
TZNAME:CEST
TZOFFSETFROM:+0100
TZOFFSETTO:+0200
DTSTART:19170416T020000
RRULE:FREQ=YEARLY;UNTIL=19180415T010000Z;BYMONTH=4;BYDAY=3MO
END:DAYLIGHT
BEGIN:STANDARD
TZNAME:CET
TZOFFSETFROM:+0200
TZOFFSETTO:+0100
DTSTART:19170917T030000
RRULE:FREQ=YEARLY;UNTIL=19180916T010000Z;BYMONTH=9;BYDAY=3MO
END:STANDARD
BEGIN:DAYLIGHT
TZNAME:CEST
TZOFFSETFROM:+0100
TZOFFSETTO:+0200
DTSTART:19440403T020000
RRULE:FREQ=YEARLY;UNTIL=19450402T010000Z;BYMONTH=4;BYDAY=1MO
END:DAYLIGHT
BEGIN:DAYLIGHT
TZNAME:CEMT
TZOFFSETFROM:+0200
TZOFFSETTO:+0300
DTSTART:19450524T020000
RDATE:19470511T030000
END:DAYLIGHT
BEGIN:DAYLIGHT
TZNAME:CEST
TZOFFSETFROM:+0300
TZOFFSETTO:+0200
DTSTART:19450924T030000
RDATE:19470629T030000
END:DAYLIGHT
BEGIN:STANDARD
TZNAME:CET
TZOFFSETFROM:+0100
TZOFFSETTO:+0100
DTSTART:19460101T000000
RDATE:19800101T000000
END:STANDARD
BEGIN:STANDARD
TZNAME:CET
TZOFFSETFROM:+0200
TZOFFSETTO:+0100
DTSTART:19471005T030000
RRULE:FREQ=YEARLY;UNTIL=19491002T010000Z;BYMONTH=10;BYDAY=1SU
END:STANDARD
BEGIN:STANDARD
TZNAME:CET
TZOFFSETFROM:+0200
TZOFFSETTO:+0100
DTSTART:19800928T030000
RRULE:FREQ=YEARLY;UNTIL=19950924T010000Z;BYMONTH=9;BYDAY=-1SU
END:STANDARD
BEGIN:DAYLIGHT
TZNAME:CEST
TZOFFSETFROM:+0100
TZOFFSETTO:+0200
DTSTART:19810329T020000
RRULE:FREQ=YEARLY;BYMONTH=3;BYDAY=-1SU
END:DAYLIGHT
BEGIN:STANDARD
TZNAME:CET
TZOFFSETFROM:+0200
TZOFFSETTO:+0100
DTSTART:19961027T030000
RRULE:FREQ=YEARLY;BYMONTH=10;BYDAY=-1SU
END:STANDARD
END:VTIMEZONE
BEGIN:VEVENT
DTSTAMP:20260424T181714Z
DTSTART;TZID=Europe/Berlin:20180316T193000
DTEND;TZID=Europe/Berlin:20180316T223000
SUMMARY:HE 1. Liga Bern vs Aarberg II (30)
UID:6010be51-3a9a-5356-e053-1fc7a80a74f7
STATUS:CONFIRMED
LAST-MODIFIED:20180317T113317Z
DESCRIPTION:Herren 1. Liga\nBegegnungs-Nr: 30\nHeim: Bern\nGast: Aarberg II\n\nAdresse: Papiermühlestrasse 81\, 3014 Bern\n
LOCATION:Papiermühlestrasse 81\, 3014 Bern
CATEGORIES:Saison 2017/18
END:VEVENT
BEGIN:VEVENT
DTSTAMP:20260424T181714Z
DTSTART;TZID=Europe/Berlin:20180214T193000
DTEND;TZID=Europe/Berlin:20180214T223000
SUMMARY:HE 1. Liga Bern vs Münchenbuchsee II (22)
UID:6010be51-3aa3-5356-e053-1fc7a80a74f7
STATUS:CONFIRMED
LAST-MODIFIED:20180215T165720Z
DESCRIPTION:Herren 1. Liga\nBegegnungs-Nr: 22\nHeim: Bern\nGast: Münchenbuchsee II\n\nAdresse: Papiermühlestrasse 81\, 3014 Bern\n
LOCATION:Papiermühlestrasse 81\, 3014 Bern
CATEGORIES:Saison 2017/18
END:VEVENT
BEGIN:VEVENT
DTSTAMP:20260424T181714Z
DTSTART;TZID=Europe/Berlin:20180124T193000
DTEND;TZID=Europe/Berlin:20180124T223000
SUMMARY:HE 1. Liga Bern vs Thun II (15)
UID:6010be51-3ada-5356-e053-1fc7a80a74f7
STATUS:CONFIRMED
LAST-MODIFIED:20180126T171018Z
DESCRIPTION:Herren 1. Liga\nBegegnungs-Nr: 15\nHeim: Bern\nGast: Thun II\n\nAdresse: Papiermühlestrasse 81\, 3014 Bern\n
LOCATION:Papiermühlestrasse 81\, 3014 Bern
CATEGORIES:Saison 2017/18
END:VEVENT
BEGIN:VEVENT
DTSTAMP:20260424T181714Z
DTSTART;TZID=Europe/Berlin:20180328T193000
DTEND;TZID=Europe/Berlin:20180328T223000
SUMMARY:HE 1. Liga Bern vs Ostermundigen II (40)
UID:6010be51-3b95-5356-e053-1fc7a80a74f7
STATUS:CONFIRMED
LAST-MODIFIED:20180329T160746Z
DESCRIPTION:Herren 1. Liga\nBegegnungs-Nr: 40\nHeim: Bern\nGast: Ostermundigen II\n\nAdresse: Papiermühlestrasse 81\, 3014 Bern\n
LOCATION:Papiermühlestrasse 81\, 3014 Bern
CATEGORIES:Saison 2017/18
END:VEVENT
BEGIN:VEVENT
DTSTAMP:20260424T181714Z
DTSTART;TZID=Europe/Berlin:20170906T193000
DTEND;TZID=Europe/Berlin:20170906T223000
SUMMARY:HE 1. Liga Bern vs Port (9)
UID:6010be51-3bbc-5356-e053-1fc7a80a74f7
STATUS:CONFIRMED
LAST-MODIFIED:20170908T144512Z
DESCRIPTION:Herren 1. Liga\nBegegnungs-Nr: 9\nHeim: Bern\nGast: Port\n\nAdresse: Papiermühlestrasse 81\, 3014 Bern\n
LOCATION:Papiermühlestrasse 81\, 3014 Bern
CATEGORIES:Saison 2017/18
END:VEVENT
BEGIN:VEVENT
DTSTAMP:20260424T181714Z
DTSTART;TZID=Europe/Berlin:20171115T193000
DTEND;TZID=Europe/Berlin:20171115T223000
SUMMARY:HE 1. Liga Bern vs Solothurn (34)
UID:6010be51-3eb6-5356-e053-1fc7a80a74f7
STATUS:CONFIRMED
LAST-MODIFIED:20171116T084049Z
DESCRIPTION:Herren 1. Liga\nBegegnungs-Nr: 34\nHeim: Bern\nGast: Solothurn\n\nAdresse: Papiermühlestrasse 81\, 3014 Bern\n
LOCATION:Papiermühlestrasse 81\, 3014 Bern
CATEGORIES:Saison 2017/18
END:VEVENT
BEGIN:VEVENT
DTSTAMP:20260424T181714Z
DTSTART;TZID=Europe/Berlin:20171025T193000
DTEND;TZID=Europe/Berlin:20171025T223000
SUMMARY:HE 1. Liga Bern vs Burgdorf (16)
UID:6010be51-3ef2-5356-e053-1fc7a80a74f7
STATUS:CONFIRMED
LAST-MODIFIED:20171028T072949Z
DESCRIPTION:Herren 1. Liga\nBegegnungs-Nr: 16\nHeim: Bern\nGast: Burgdorf\n\nAdresse: Papiermühlestrasse 81\, 3014 Bern\n
LOCATION:Papiermühlestrasse 81\, 3014 Bern
CATEGORIES:Saison 2017/18
END:VEVENT
BEGIN:VEVENT
DTSTAMP:20260424T181714Z
DTSTART;TZID=Europe/Berlin:20180404T193000
DTEND;TZID=Europe/Berlin:20180404T223000
SUMMARY:HE 1. Liga Bern vs Münchenbuchsee (43)
UID:6010be51-3ef7-5356-e053-1fc7a80a74f7
STATUS:CONFIRMED
LAST-MODIFIED:20180405T173158Z
DESCRIPTION:Herren 1. Liga\nBegegnungs-Nr: 43\nHeim: Bern\nGast: Münchenbuchsee\n\nAdresse: Papiermühlestrasse 81\, 3014 Bern\n
LOCATION:Papiermühlestrasse 81\, 3014 Bern
CATEGORIES:Saison 2017/18
END:VEVENT
BEGIN:VEVENT
DTSTAMP:20260424T181714Z
DTSTART;TZID=Europe/Berlin:20170913T193000
DTEND;TZID=Europe/Berlin:20170913T223000
SUMMARY:HE 1. Liga Bern vs Hindelbank (3)
UID:6010be51-4c0b-5356-e053-1fc7a80a74f7
STATUS:CONFIRMED
LAST-MODIFIED:20170915T162709Z
DESCRIPTION:Herren 1. Liga\nBegegnungs-Nr: 3\nHeim: Bern\nGast: Hindelbank\n\nAdresse: Papiermühlestrasse 81\, 3014 Bern\n
LOCATION:Papiermühlestrasse 81\, 3014 Bern
CATEGORIES:Saison 2017/18
END:VEVENT
BEGIN:VEVENT
DTSTAMP:20260424T181714Z
DTSTART;TZID=Europe/Berlin:20180307T194500
DTEND;TZID=Europe/Berlin:20180307T224500
SUMMARY:HE 1. Liga Solothurn vs Bern (34)
UID:6010be51-3a96-5356-e053-1fc7a80a74f7
STATUS:CONFIRMED
LAST-MODIFIED:20180308T180401Z
DESCRIPTION:Herren 1. Liga\nBegegnungs-Nr: 34\nHeim: Solothurn\nGast: Bern\n\nAdresse: Untere Sternengasse 24\, 4500 Solothurn\n
LOCATION:Untere Sternengasse 24\, 4500 Solothurn
CATEGORIES:Saison 2017/18
END:VEVENT
BEGIN:VEVENT
DTSTAMP:20260424T181714Z
DTSTART;TZID=Europe/Berlin:20180116T200000
DTEND;TZID=Europe/Berlin:20180116T230000
SUMMARY:HE 1. Liga Port vs Bern (9)
UID:6010be51-3ae2-5356-e053-1fc7a80a74f7
STATUS:CONFIRMED
LAST-MODIFIED:20180117T114545Z
DESCRIPTION:Herren 1. Liga\nBegegnungs-Nr: 9\nHeim: Port\nGast: Bern\n\nAdresse: Allmendstrasse 23\, 2562 Port\n
LOCATION:Allmendstrasse 23\, 2562 Port
CATEGORIES:Saison 2017/18
END:VEVENT
BEGIN:VEVENT
DTSTAMP:20260424T181714Z
DTSTART;TZID=Europe/Berlin:20171212T201500
DTEND;TZID=Europe/Berlin:20171212T231500
SUMMARY:HE 1. Liga Hindelbank vs Bern (3)
UID:6010be51-3b18-5356-e053-1fc7a80a74f7
STATUS:CONFIRMED
LAST-MODIFIED:20171213T155343Z
DESCRIPTION:Herren 1. Liga\nBegegnungs-Nr: 3\nHeim: Hindelbank\nGast: Bern\nHalle: Turnhalle Oberstufenzentrum\nAdresse: Schulhausweg 8\, 3324 Hindelbank\n
LOCATION:Turnhalle Oberstufenzentrum Schulhausweg 8\, 3324 Hindelbank
CATEGORIES:Saison 2017/18
END:VEVENT
BEGIN:VEVENT
DTSTAMP:20260424T181714Z
DTSTART;TZID=Europe/Berlin:20171201T194500
DTEND;TZID=Europe/Berlin:20171201T224500
SUMMARY:HE 1. Liga Münchenbuchsee vs Bern (43)
UID:6010be51-3bc0-5356-e053-1fc7a80a74f7
STATUS:CONFIRMED
LAST-MODIFIED:20171202T184945Z
DESCRIPTION:Herren 1. Liga\nBegegnungs-Nr: 43\nHeim: Münchenbuchsee\nGast: Bern\n\nAdresse: Laubbergweg 41\, 3053 Münchenbuchsee\n
LOCATION:Laubbergweg 41\, 3053 Münchenbuchsee
CATEGORIES:Saison 2017/18
END:VEVENT
BEGIN:VEVENT
DTSTAMP:20260424T181714Z
DTSTART;TZID=Europe/Berlin:20171122T193000
DTEND;TZID=Europe/Berlin:20171122T223000
SUMMARY:HE 1. Liga Ostermundigen II vs Bern (40)
UID:6010be51-3bc3-5356-e053-1fc7a80a74f7
STATUS:CONFIRMED
LAST-MODIFIED:20171125T062711Z
DESCRIPTION:Herren 1. Liga\nBegegnungs-Nr: 40\nHeim: Ostermundigen II\nGast: Bern\n\nAdresse: Dennigkofenweg 169\, 3072 Ostermundigen\n
LOCATION:Dennigkofenweg 169\, 3072 Ostermundigen
CATEGORIES:Saison 2017/18
END:VEVENT
BEGIN:VEVENT
DTSTAMP:20260424T181714Z
DTSTART;TZID=Europe/Berlin:20180203T160000
DTEND;TZID=Europe/Berlin:20180203T190000
SUMMARY:HE 1. Liga Burgdorf vs Bern (16)
UID:6010be51-3ad9-5356-e053-1fc7a80a74f7
STATUS:CONFIRMED
LAST-MODIFIED:20180205T181427Z
DESCRIPTION:Herren 1. Liga\nBegegnungs-Nr: 16\nHeim: Burgdorf\nGast: Bern\n\nAdresse: Pestalozzistrasse 69\, 3400 Burgdorf\n
LOCATION:Pestalozzistrasse 69\, 3400 Burgdorf
CATEGORIES:Saison 2017/18
END:VEVENT
BEGIN:VEVENT
DTSTAMP:20260424T181714Z
DTSTART;TZID=Europe/Berlin:20171103T194500
DTEND;TZID=Europe/Berlin:20171103T224500
SUMMARY:HE 1. Liga Aarberg II vs Bern (30)
UID:6010be51-3eb9-5356-e053-1fc7a80a74f7
STATUS:CONFIRMED
LAST-MODIFIED:20171104T172345Z
DESCRIPTION:Herren 1. Liga\nBegegnungs-Nr: 30\nHeim: Aarberg II\nGast: Bern\n\nAdresse: Nidaustrasse 7\, 3270 Aarberg\n
LOCATION:Nidaustrasse 7\, 3270 Aarberg
CATEGORIES:Saison 2017/18
END:VEVENT
BEGIN:VEVENT
DTSTAMP:20260424T181714Z
DTSTART;TZID=Europe/Berlin:20171108T194500
DTEND;TZID=Europe/Berlin:20171108T224500
SUMMARY:HE 1. Liga Münchenbuchsee II vs Bern (22)
UID:6010be51-3eec-5356-e053-1fc7a80a74f7
STATUS:CONFIRMED
LAST-MODIFIED:20171109T123452Z
DESCRIPTION:Herren 1. Liga\nBegegnungs-Nr: 22\nHeim: Münchenbuchsee II\nGast: Bern\n\nAdresse: Laubbergweg 41\, 3053 Münchenbuchsee\n
LOCATION:Laubbergweg 41\, 3053 Münchenbuchsee
CATEGORIES:Saison 2017/18
END:VEVENT
BEGIN:VEVENT
DTSTAMP:20260424T181714Z
DTSTART;TZID=Europe/Berlin:20170923T130000
DTEND;TZID=Europe/Berlin:20170923T160000
SUMMARY:HE 1. Liga Thun II vs Bern (15)
UID:6010be51-59bd-5356-e053-1fc7a80a74f7
STATUS:CONFIRMED
LAST-MODIFIED:20170925T101326Z
DESCRIPTION:Herren 1. Liga\nBegegnungs-Nr: 15\nHeim: Thun II\nGast: Bern\n\nAdresse: Hallerstrasse 28\, 3604 Thun\n
LOCATION:Hallerstrasse 28\, 3604 Thun
CATEGORIES:Saison 2017/18
END:VEVENT
END:VCALENDAR
