BEGIN:VCALENDAR
PRODID:-//nuDatenautomaten//framework iCal4j //DE
VERSION:2.0
CALSCALE:GREGORIAN
BEGIN:VTIMEZONE
TZID:Europe/Berlin
LAST-MODIFIED:20260306T231828Z
TZURL:https://www.tzurl.org/zoneinfo/Europe/Berlin
X-LIC-LOCATION:Europe/Berlin
X-PROLEPTIC-TZNAME:LMT
BEGIN:STANDARD
TZNAME:CET
TZOFFSETFROM:+005328
TZOFFSETTO:+0100
DTSTART:18930401T000000
END:STANDARD
BEGIN:DAYLIGHT
TZNAME:CEST
TZOFFSETFROM:+0100
TZOFFSETTO:+0200
DTSTART:19160430T230000
RDATE:19400401T020000
RDATE:19430329T020000
RDATE:19460414T020000
RDATE:19470406T030000
RDATE:19480418T020000
RDATE:19490410T020000
RDATE:19800406T020000
END:DAYLIGHT
BEGIN:STANDARD
TZNAME:CET
TZOFFSETFROM:+0200
TZOFFSETTO:+0100
DTSTART:19161001T010000
RDATE:19421102T030000
RDATE:19431004T030000
RDATE:19441002T030000
RDATE:19451118T030000
RDATE:19461007T030000
END:STANDARD
BEGIN:DAYLIGHT
TZNAME:CEST
TZOFFSETFROM:+0100
TZOFFSETTO:+0200
DTSTART:19170416T020000
RRULE:FREQ=YEARLY;UNTIL=19180415T010000Z;BYMONTH=4;BYDAY=3MO
END:DAYLIGHT
BEGIN:STANDARD
TZNAME:CET
TZOFFSETFROM:+0200
TZOFFSETTO:+0100
DTSTART:19170917T030000
RRULE:FREQ=YEARLY;UNTIL=19180916T010000Z;BYMONTH=9;BYDAY=3MO
END:STANDARD
BEGIN:DAYLIGHT
TZNAME:CEST
TZOFFSETFROM:+0100
TZOFFSETTO:+0200
DTSTART:19440403T020000
RRULE:FREQ=YEARLY;UNTIL=19450402T010000Z;BYMONTH=4;BYDAY=1MO
END:DAYLIGHT
BEGIN:DAYLIGHT
TZNAME:CEMT
TZOFFSETFROM:+0200
TZOFFSETTO:+0300
DTSTART:19450524T020000
RDATE:19470511T030000
END:DAYLIGHT
BEGIN:DAYLIGHT
TZNAME:CEST
TZOFFSETFROM:+0300
TZOFFSETTO:+0200
DTSTART:19450924T030000
RDATE:19470629T030000
END:DAYLIGHT
BEGIN:STANDARD
TZNAME:CET
TZOFFSETFROM:+0100
TZOFFSETTO:+0100
DTSTART:19460101T000000
RDATE:19800101T000000
END:STANDARD
BEGIN:STANDARD
TZNAME:CET
TZOFFSETFROM:+0200
TZOFFSETTO:+0100
DTSTART:19471005T030000
RRULE:FREQ=YEARLY;UNTIL=19491002T010000Z;BYMONTH=10;BYDAY=1SU
END:STANDARD
BEGIN:STANDARD
TZNAME:CET
TZOFFSETFROM:+0200
TZOFFSETTO:+0100
DTSTART:19800928T030000
RRULE:FREQ=YEARLY;UNTIL=19950924T010000Z;BYMONTH=9;BYDAY=-1SU
END:STANDARD
BEGIN:DAYLIGHT
TZNAME:CEST
TZOFFSETFROM:+0100
TZOFFSETTO:+0200
DTSTART:19810329T020000
RRULE:FREQ=YEARLY;BYMONTH=3;BYDAY=-1SU
END:DAYLIGHT
BEGIN:STANDARD
TZNAME:CET
TZOFFSETFROM:+0200
TZOFFSETTO:+0100
DTSTART:19961027T030000
RRULE:FREQ=YEARLY;BYMONTH=10;BYDAY=-1SU
END:STANDARD
END:VTIMEZONE
BEGIN:VEVENT
DTSTAMP:20260424T164557Z
DTSTART;TZID=Europe/Berlin:20180324T160000
DTEND;TZID=Europe/Berlin:20180324T190000
SUMMARY:JUG 3.Liga Gr.4A Final Ettenhausen II vs Herisau (6)
UID:cbb57277-cdde-44a6-b280-5bcd18d48aab
STATUS:CONFIRMED
LAST-MODIFIED:20180327T083916Z
DESCRIPTION:3. Liga Jugend Gruppe 4A Final\nBegegnungs-Nr: 6\nHeim: Ettenhausen II\nGast: Herisau\nHalle: Poule in Herisau Turnhalle Mühle\nAdresse: Weidlistrasse 12\, 8356 Ettenhausen\n
LOCATION:Poule in Herisau Turnhalle Mühle Weidlistrasse 12\, 8356 Ettenhausen
CATEGORIES:Saison 2017/18
END:VEVENT
BEGIN:VEVENT
DTSTAMP:20260424T164557Z
DTSTART;TZID=Europe/Berlin:20170909T143000
DTEND;TZID=Europe/Berlin:20170909T173000
SUMMARY:JUG 3.Liga Gr.1A Vorrunde Ettenhausen II vs Herisau (3)
UID:6010be51-589c-5356-e053-1fc7a80a74f7
STATUS:CONFIRMED
LAST-MODIFIED:20170911T093028Z
DESCRIPTION:3. Liga Jugend Gruppe 1A Vorrunde\nBegegnungs-Nr: 3\nHeim: Ettenhausen II\nGast: Herisau\nHalle: Poule in Bronschhofen Halle Obermatt\nAdresse: Weidlistrasse 12\, 8356 Ettenhausen\n
LOCATION:Poule in Bronschhofen Halle Obermatt Weidlistrasse 12\, 8356 Ettenhausen
CATEGORIES:Saison 2017/18
END:VEVENT
BEGIN:VEVENT
DTSTAMP:20260424T164557Z
DTSTART;TZID=Europe/Berlin:20171202T150000
DTEND;TZID=Europe/Berlin:20171202T180000
SUMMARY:JUG 3.Liga Gr.3B Zw-Rde. Ettenhausen II vs Chur (3)
UID:6010be51-5bc9-5356-e053-1fc7a80a74f7
STATUS:CONFIRMED
LAST-MODIFIED:20171213T161152Z
DESCRIPTION:3. Liga Jugend Gruppe 3B Zw-Runde\nBegegnungs-Nr: 3\nHeim: Ettenhausen II\nGast: Chur\nHalle: Poule in Ettenhausen Weidli\nAdresse: Weidlistrasse 12\, 8356 Ettenhausen\n
LOCATION:Poule in Ettenhausen Weidli Weidlistrasse 12\, 8356 Ettenhausen
CATEGORIES:Saison 2017/18
END:VEVENT
BEGIN:VEVENT
DTSTAMP:20260424T164557Z
DTSTART;TZID=Europe/Berlin:20171202T120000
DTEND;TZID=Europe/Berlin:20171202T150000
SUMMARY:JUG 3.Liga Gr.3B Zw-Rde. Ettenhausen II vs St. Gallen III (1)
UID:6010be51-5bcb-5356-e053-1fc7a80a74f7
STATUS:CONFIRMED
LAST-MODIFIED:20171213T161138Z
DESCRIPTION:3. Liga Jugend Gruppe 3B Zw-Runde\nBegegnungs-Nr: 1\nHeim: Ettenhausen II\nGast: St. Gallen III\nHalle: Poule in Ettenhausen Weidli\nAdresse: Weidlistrasse 12\, 8356 Ettenhausen\n
LOCATION:Poule in Ettenhausen Weidli Weidlistrasse 12\, 8356 Ettenhausen
CATEGORIES:Saison 2017/18
END:VEVENT
BEGIN:VEVENT
DTSTAMP:20260424T164557Z
DTSTART;TZID=Europe/Berlin:20170909T130000
DTEND;TZID=Europe/Berlin:20170909T160000
SUMMARY:JUG 3.Liga Gr.1A Vorrunde Wuppenau vs Ettenhausen II (1)
UID:6010be51-561a-5356-e053-1fc7a80a74f7
STATUS:CONFIRMED
LAST-MODIFIED:20170910T181326Z
DESCRIPTION:3. Liga Jugend Gruppe 1A Vorrunde\nBegegnungs-Nr: 1\nHeim: Wuppenau\nGast: Ettenhausen II\nHalle: Poule in Bronschhofen Halle Obermatt\nAdresse: Nollenstrasse\, 9514 Wuppenau\n
LOCATION:Poule in Bronschhofen Halle Obermatt Nollenstrasse\, 9514 Wuppenau
CATEGORIES:Saison 2017/18
END:VEVENT
BEGIN:VEVENT
DTSTAMP:20260424T164557Z
DTSTART;TZID=Europe/Berlin:20170909T160000
DTEND;TZID=Europe/Berlin:20170909T190000
SUMMARY:JUG 3.Liga Gr.1A Vorrunde Bronschhofen vs Ettenhausen II (5)
UID:6010be51-561e-5356-e053-1fc7a80a74f7
STATUS:CONFIRMED
LAST-MODIFIED:20170910T181343Z
DESCRIPTION:3. Liga Jugend Gruppe 1A Vorrunde\nBegegnungs-Nr: 5\nHeim: Bronschhofen\nGast: Ettenhausen II\nHalle: Poule in Bronschhofen Halle Obermatt\nAdresse: Schulstrasse 6\, 9552 Bronschhofen\n
LOCATION:Poule in Bronschhofen Halle Obermatt Schulstrasse 6\, 9552 Bronschhofen
CATEGORIES:Saison 2017/18
END:VEVENT
BEGIN:VEVENT
DTSTAMP:20260424T164557Z
DTSTART;TZID=Europe/Berlin:20180324T130000
DTEND;TZID=Europe/Berlin:20180324T160000
SUMMARY:JUG 3.Liga Gr.4A Final Buchs St.Gallen vs Ettenhausen II (2)
UID:9de00fd6-f73e-49e9-a8a8-6bd098555c3b
STATUS:CONFIRMED
LAST-MODIFIED:20180327T083703Z
DESCRIPTION:3. Liga Jugend Gruppe 4A Final\nBegegnungs-Nr: 2\nHeim: Buchs St.Gallen\nGast: Ettenhausen II\nHalle: Poule in Herisau Turnhalle Mühle\nAdresse: Hanflandstrasse 17\, 9470 Buchs SG\n
LOCATION:Poule in Herisau Turnhalle Mühle Hanflandstrasse 17\, 9470 Buchs SG
CATEGORIES:Saison 2017/18
END:VEVENT
BEGIN:VEVENT
DTSTAMP:20260424T164557Z
DTSTART;TZID=Europe/Berlin:20180324T143000
DTEND;TZID=Europe/Berlin:20180324T173000
SUMMARY:JUG 3.Liga Gr.4A Final Buchs Zürich II vs Ettenhausen II (3)
UID:790e9d5b-60ed-4429-9e03-52e99d720889
STATUS:CONFIRMED
LAST-MODIFIED:20180327T083726Z
DESCRIPTION:3. Liga Jugend Gruppe 4A Final\nBegegnungs-Nr: 3\nHeim: Buchs Zürich II\nGast: Ettenhausen II\nHalle: Poule in Herisau Turnhalle Mühle\nAdresse: Drisglerstrasse 3\, 8107 Buchs ZH\n
LOCATION:Poule in Herisau Turnhalle Mühle Drisglerstrasse 3\, 8107 Buchs ZH
CATEGORIES:Saison 2017/18
END:VEVENT
END:VCALENDAR
