BEGIN:VCALENDAR
PRODID:-//nuDatenautomaten//framework iCal4j //DE
VERSION:2.0
CALSCALE:GREGORIAN
BEGIN:VTIMEZONE
TZID:Europe/Berlin
LAST-MODIFIED:20260306T231828Z
TZURL:https://www.tzurl.org/zoneinfo/Europe/Berlin
X-LIC-LOCATION:Europe/Berlin
X-PROLEPTIC-TZNAME:LMT
BEGIN:STANDARD
TZNAME:CET
TZOFFSETFROM:+005328
TZOFFSETTO:+0100
DTSTART:18930401T000000
END:STANDARD
BEGIN:DAYLIGHT
TZNAME:CEST
TZOFFSETFROM:+0100
TZOFFSETTO:+0200
DTSTART:19160430T230000
RDATE:19400401T020000
RDATE:19430329T020000
RDATE:19460414T020000
RDATE:19470406T030000
RDATE:19480418T020000
RDATE:19490410T020000
RDATE:19800406T020000
END:DAYLIGHT
BEGIN:STANDARD
TZNAME:CET
TZOFFSETFROM:+0200
TZOFFSETTO:+0100
DTSTART:19161001T010000
RDATE:19421102T030000
RDATE:19431004T030000
RDATE:19441002T030000
RDATE:19451118T030000
RDATE:19461007T030000
END:STANDARD
BEGIN:DAYLIGHT
TZNAME:CEST
TZOFFSETFROM:+0100
TZOFFSETTO:+0200
DTSTART:19170416T020000
RRULE:FREQ=YEARLY;UNTIL=19180415T010000Z;BYMONTH=4;BYDAY=3MO
END:DAYLIGHT
BEGIN:STANDARD
TZNAME:CET
TZOFFSETFROM:+0200
TZOFFSETTO:+0100
DTSTART:19170917T030000
RRULE:FREQ=YEARLY;UNTIL=19180916T010000Z;BYMONTH=9;BYDAY=3MO
END:STANDARD
BEGIN:DAYLIGHT
TZNAME:CEST
TZOFFSETFROM:+0100
TZOFFSETTO:+0200
DTSTART:19440403T020000
RRULE:FREQ=YEARLY;UNTIL=19450402T010000Z;BYMONTH=4;BYDAY=1MO
END:DAYLIGHT
BEGIN:DAYLIGHT
TZNAME:CEMT
TZOFFSETFROM:+0200
TZOFFSETTO:+0300
DTSTART:19450524T020000
RDATE:19470511T030000
END:DAYLIGHT
BEGIN:DAYLIGHT
TZNAME:CEST
TZOFFSETFROM:+0300
TZOFFSETTO:+0200
DTSTART:19450924T030000
RDATE:19470629T030000
END:DAYLIGHT
BEGIN:STANDARD
TZNAME:CET
TZOFFSETFROM:+0100
TZOFFSETTO:+0100
DTSTART:19460101T000000
RDATE:19800101T000000
END:STANDARD
BEGIN:STANDARD
TZNAME:CET
TZOFFSETFROM:+0200
TZOFFSETTO:+0100
DTSTART:19471005T030000
RRULE:FREQ=YEARLY;UNTIL=19491002T010000Z;BYMONTH=10;BYDAY=1SU
END:STANDARD
BEGIN:STANDARD
TZNAME:CET
TZOFFSETFROM:+0200
TZOFFSETTO:+0100
DTSTART:19800928T030000
RRULE:FREQ=YEARLY;UNTIL=19950924T010000Z;BYMONTH=9;BYDAY=-1SU
END:STANDARD
BEGIN:DAYLIGHT
TZNAME:CEST
TZOFFSETFROM:+0100
TZOFFSETTO:+0200
DTSTART:19810329T020000
RRULE:FREQ=YEARLY;BYMONTH=3;BYDAY=-1SU
END:DAYLIGHT
BEGIN:STANDARD
TZNAME:CET
TZOFFSETFROM:+0200
TZOFFSETTO:+0100
DTSTART:19961027T030000
RRULE:FREQ=YEARLY;BYMONTH=10;BYDAY=-1SU
END:STANDARD
END:VTIMEZONE
BEGIN:VEVENT
DTSTAMP:20260424T163229Z
DTSTART;TZID=Europe/Berlin:20171102T193000
DTEND;TZID=Europe/Berlin:20171102T223000
SUMMARY:HE 5. Liga Gr. 2 Diepflingen vs KV Liestal IV (0)
UID:6010be51-4478-5356-e053-1fc7a80a74f7
STATUS:CONFIRMED
LAST-MODIFIED:20171106T082424Z
DESCRIPTION:5. Liga Herren Gruppe 2\nBegegnungs-Nr: 0\nHeim: Diepflingen\nGast: KV Liestal IV\n\nAdresse: Schulweg 1\, 4442 Diepflingen\n
LOCATION:Schulweg 1\, 4442 Diepflingen
CATEGORIES:Saison 2017/18
END:VEVENT
BEGIN:VEVENT
DTSTAMP:20260424T163229Z
DTSTART;TZID=Europe/Berlin:20171005T193000
DTEND;TZID=Europe/Berlin:20171005T223000
SUMMARY:HE 5. Liga Gr. 2 Diepflingen vs Oberwil III (0)
UID:6010be51-44ad-5356-e053-1fc7a80a74f7
STATUS:CONFIRMED
LAST-MODIFIED:20171006T093002Z
DESCRIPTION:5. Liga Herren Gruppe 2\nBegegnungs-Nr: 0\nHeim: Diepflingen\nGast: Oberwil III\n\nAdresse: Schulweg 1\, 4442 Diepflingen\n
LOCATION:Schulweg 1\, 4442 Diepflingen
CATEGORIES:Saison 2017/18
END:VEVENT
BEGIN:VEVENT
DTSTAMP:20260424T163229Z
DTSTART;TZID=Europe/Berlin:20170914T193000
DTEND;TZID=Europe/Berlin:20170914T223000
SUMMARY:HE 5. Liga Gr. 2 Diepflingen vs Sisseln III (0)
UID:6010be51-57c4-5356-e053-1fc7a80a74f7
STATUS:CONFIRMED
LAST-MODIFIED:20170918T135612Z
DESCRIPTION:5. Liga Herren Gruppe 2\nBegegnungs-Nr: 0\nHeim: Diepflingen\nGast: Sisseln III\n\nAdresse: Schulweg 1\, 4442 Diepflingen\n
LOCATION:Schulweg 1\, 4442 Diepflingen
CATEGORIES:Saison 2017/18
END:VEVENT
BEGIN:VEVENT
DTSTAMP:20260424T163229Z
DTSTART;TZID=Europe/Berlin:20180215T193000
DTEND;TZID=Europe/Berlin:20180215T223000
SUMMARY:HE 5. Liga Gr. 2 Diepflingen vs Wettstein Basel III (0)
UID:6010be51-41d4-5356-e053-1fc7a80a74f7
STATUS:CONFIRMED
LAST-MODIFIED:20180219T104807Z
DESCRIPTION:5. Liga Herren Gruppe 2\nBegegnungs-Nr: 0\nHeim: Diepflingen\nGast: Wettstein Basel III\n\nAdresse: Schulweg 1\, 4442 Diepflingen\n
LOCATION:Schulweg 1\, 4442 Diepflingen
CATEGORIES:Saison 2017/18
END:VEVENT
BEGIN:VEVENT
DTSTAMP:20260424T163229Z
DTSTART;TZID=Europe/Berlin:20180118T193000
DTEND;TZID=Europe/Berlin:20180118T223000
SUMMARY:HE 5. Liga Gr. 2 Diepflingen vs Liebrüti II (0)
UID:6010be51-41dd-5356-e053-1fc7a80a74f7
STATUS:CONFIRMED
LAST-MODIFIED:20180122T105603Z
DESCRIPTION:5. Liga Herren Gruppe 2\nBegegnungs-Nr: 0\nHeim: Diepflingen\nGast: Liebrüti II\n\nAdresse: Schulweg 1\, 4442 Diepflingen\n
LOCATION:Schulweg 1\, 4442 Diepflingen
CATEGORIES:Saison 2017/18
END:VEVENT
BEGIN:VEVENT
DTSTAMP:20260424T163229Z
DTSTART;TZID=Europe/Berlin:20171207T193000
DTEND;TZID=Europe/Berlin:20171207T223000
SUMMARY:HE 5. Liga Gr. 2 Diepflingen vs Copains Birsfelden III (0)
UID:6010be51-4213-5356-e053-1fc7a80a74f7
STATUS:CONFIRMED
LAST-MODIFIED:20171211T121558Z
DESCRIPTION:5. Liga Herren Gruppe 2\nBegegnungs-Nr: 0\nHeim: Diepflingen\nGast: Copains Birsfelden III\n\nAdresse: Schulweg 1\, 4442 Diepflingen\n
LOCATION:Schulweg 1\, 4442 Diepflingen
CATEGORIES:Saison 2017/18
END:VEVENT
BEGIN:VEVENT
DTSTAMP:20260424T163229Z
DTSTART;TZID=Europe/Berlin:20171017T200000
DTEND;TZID=Europe/Berlin:20171017T230000
SUMMARY:HE 5. Liga Gr. 2 Wettstein Basel III vs Diepflingen (0)
UID:6010be51-447b-5356-e053-1fc7a80a74f7
STATUS:CONFIRMED
LAST-MODIFIED:20171019T122414Z
DESCRIPTION:5. Liga Herren Gruppe 2\nBegegnungs-Nr: 0\nHeim: Wettstein Basel III\nGast: Diepflingen\n\nAdresse: Zu den Drei Linden 70\, 4058 Basel\n
LOCATION:Zu den Drei Linden 70\, 4058 Basel
CATEGORIES:Saison 2017/18
END:VEVENT
BEGIN:VEVENT
DTSTAMP:20260424T163229Z
DTSTART;TZID=Europe/Berlin:20170913T193000
DTEND;TZID=Europe/Berlin:20170913T223000
SUMMARY:HE 5. Liga Gr. 2 Liebrüti II vs Diepflingen (0)
UID:6010be51-4495-5356-e053-1fc7a80a74f7
STATUS:CONFIRMED
LAST-MODIFIED:20170918T135533Z
DESCRIPTION:5. Liga Herren Gruppe 2\nBegegnungs-Nr: 0\nHeim: Liebrüti II\nGast: Diepflingen\n\nAdresse: Schwarzackerstr. 59\, 4303 Kaiseraugst\n
LOCATION:Schwarzackerstr. 59\, 4303 Kaiseraugst
CATEGORIES:Saison 2017/18
END:VEVENT
BEGIN:VEVENT
DTSTAMP:20260424T163229Z
DTSTART;TZID=Europe/Berlin:20170822T193000
DTEND;TZID=Europe/Berlin:20170822T223000
SUMMARY:HE 5. Liga Gr. 2 Copains Birsfelden III vs Diepflingen (0)
UID:6010be51-449a-5356-e053-1fc7a80a74f7
STATUS:CONFIRMED
LAST-MODIFIED:20170828T075025Z
DESCRIPTION:5. Liga Herren Gruppe 2\nBegegnungs-Nr: 0\nHeim: Copains Birsfelden III\nGast: Diepflingen\n\nAdresse: Wartenbergstrasse (Hintereingang)\, 4127 Birsfelden\n
LOCATION:Wartenbergstrasse (Hintereingang)\, 4127 Birsfelden
CATEGORIES:Saison 2017/18
END:VEVENT
BEGIN:VEVENT
DTSTAMP:20260424T163229Z
DTSTART;TZID=Europe/Berlin:20180104T203000
DTEND;TZID=Europe/Berlin:20180104T233000
SUMMARY:HE 5. Liga Gr. 2 Sisseln III vs Diepflingen (0)
UID:6010be51-4212-5356-e053-1fc7a80a74f7
STATUS:CONFIRMED
LAST-MODIFIED:20180115T151212Z
DESCRIPTION:5. Liga Herren Gruppe 2\nBegegnungs-Nr: 0\nHeim: Sisseln III\nGast: Diepflingen\n\nAdresse: Schulstrasse\, 4334 Sisseln\n
LOCATION:Schulstrasse\, 4334 Sisseln
CATEGORIES:Saison 2017/18
END:VEVENT
BEGIN:VEVENT
DTSTAMP:20260424T163229Z
DTSTART;TZID=Europe/Berlin:20180226T200000
DTEND;TZID=Europe/Berlin:20180226T230000
SUMMARY:HE 5. Liga Gr. 2 KV Liestal IV vs Diepflingen (0)
UID:6010be51-41cf-5356-e053-1fc7a80a74f7
STATUS:CONFIRMED
LAST-MODIFIED:20180227T094700Z
DESCRIPTION:5. Liga Herren Gruppe 2\nBegegnungs-Nr: 0\nHeim: KV Liestal IV\nGast: Diepflingen\n\nAdresse: Standweg 9\, 4410 Liestal\n
LOCATION:Standweg 9\, 4410 Liestal
CATEGORIES:Saison 2017/18
END:VEVENT
BEGIN:VEVENT
DTSTAMP:20260424T163229Z
DTSTART;TZID=Europe/Berlin:20180122T193000
DTEND;TZID=Europe/Berlin:20180122T223000
SUMMARY:HE 5. Liga Gr. 2 Oberwil III vs Diepflingen (0)
UID:6010be51-41d8-5356-e053-1fc7a80a74f7
STATUS:CONFIRMED
LAST-MODIFIED:20180126T131404Z
DESCRIPTION:5. Liga Herren Gruppe 2\nBegegnungs-Nr: 0\nHeim: Oberwil III\nGast: Diepflingen\n\nAdresse: Schulstrasse\, 4104 Oberwil\n
LOCATION:Schulstrasse\, 4104 Oberwil
CATEGORIES:Saison 2017/18
END:VEVENT
END:VCALENDAR
