BEGIN:VCALENDAR
PRODID:-//nuDatenautomaten//framework iCal4j //DE
VERSION:2.0
CALSCALE:GREGORIAN
BEGIN:VTIMEZONE
TZID:Europe/Berlin
LAST-MODIFIED:20260306T231828Z
TZURL:https://www.tzurl.org/zoneinfo/Europe/Berlin
X-LIC-LOCATION:Europe/Berlin
X-PROLEPTIC-TZNAME:LMT
BEGIN:STANDARD
TZNAME:CET
TZOFFSETFROM:+005328
TZOFFSETTO:+0100
DTSTART:18930401T000000
END:STANDARD
BEGIN:DAYLIGHT
TZNAME:CEST
TZOFFSETFROM:+0100
TZOFFSETTO:+0200
DTSTART:19160430T230000
RDATE:19400401T020000
RDATE:19430329T020000
RDATE:19460414T020000
RDATE:19470406T030000
RDATE:19480418T020000
RDATE:19490410T020000
RDATE:19800406T020000
END:DAYLIGHT
BEGIN:STANDARD
TZNAME:CET
TZOFFSETFROM:+0200
TZOFFSETTO:+0100
DTSTART:19161001T010000
RDATE:19421102T030000
RDATE:19431004T030000
RDATE:19441002T030000
RDATE:19451118T030000
RDATE:19461007T030000
END:STANDARD
BEGIN:DAYLIGHT
TZNAME:CEST
TZOFFSETFROM:+0100
TZOFFSETTO:+0200
DTSTART:19170416T020000
RRULE:FREQ=YEARLY;UNTIL=19180415T010000Z;BYMONTH=4;BYDAY=3MO
END:DAYLIGHT
BEGIN:STANDARD
TZNAME:CET
TZOFFSETFROM:+0200
TZOFFSETTO:+0100
DTSTART:19170917T030000
RRULE:FREQ=YEARLY;UNTIL=19180916T010000Z;BYMONTH=9;BYDAY=3MO
END:STANDARD
BEGIN:DAYLIGHT
TZNAME:CEST
TZOFFSETFROM:+0100
TZOFFSETTO:+0200
DTSTART:19440403T020000
RRULE:FREQ=YEARLY;UNTIL=19450402T010000Z;BYMONTH=4;BYDAY=1MO
END:DAYLIGHT
BEGIN:DAYLIGHT
TZNAME:CEMT
TZOFFSETFROM:+0200
TZOFFSETTO:+0300
DTSTART:19450524T020000
RDATE:19470511T030000
END:DAYLIGHT
BEGIN:DAYLIGHT
TZNAME:CEST
TZOFFSETFROM:+0300
TZOFFSETTO:+0200
DTSTART:19450924T030000
RDATE:19470629T030000
END:DAYLIGHT
BEGIN:STANDARD
TZNAME:CET
TZOFFSETFROM:+0100
TZOFFSETTO:+0100
DTSTART:19460101T000000
RDATE:19800101T000000
END:STANDARD
BEGIN:STANDARD
TZNAME:CET
TZOFFSETFROM:+0200
TZOFFSETTO:+0100
DTSTART:19471005T030000
RRULE:FREQ=YEARLY;UNTIL=19491002T010000Z;BYMONTH=10;BYDAY=1SU
END:STANDARD
BEGIN:STANDARD
TZNAME:CET
TZOFFSETFROM:+0200
TZOFFSETTO:+0100
DTSTART:19800928T030000
RRULE:FREQ=YEARLY;UNTIL=19950924T010000Z;BYMONTH=9;BYDAY=-1SU
END:STANDARD
BEGIN:DAYLIGHT
TZNAME:CEST
TZOFFSETFROM:+0100
TZOFFSETTO:+0200
DTSTART:19810329T020000
RRULE:FREQ=YEARLY;BYMONTH=3;BYDAY=-1SU
END:DAYLIGHT
BEGIN:STANDARD
TZNAME:CET
TZOFFSETFROM:+0200
TZOFFSETTO:+0100
DTSTART:19961027T030000
RRULE:FREQ=YEARLY;BYMONTH=10;BYDAY=-1SU
END:STANDARD
END:VTIMEZONE
BEGIN:VEVENT
DTSTAMP:20260424T151019Z
DTSTART;TZID=Europe/Berlin:20171115T194500
DTEND;TZID=Europe/Berlin:20171115T224500
SUMMARY:Ligue 2 Gr.3\, Ph.A UGS-Chênois IX vs ZZ-Lancy VI (21)
UID:6010be51-54c5-5356-e053-1fc7a80a74f7
STATUS:CONFIRMED
LAST-MODIFIED:20171116T131200Z
DESCRIPTION:2ème ligue Hommes Gr. 3 Phase A\nBegegnungs-Nr: 21\nHeim: UGS-Chênois IX\nGast: ZZ-Lancy VI\n
LOCATION:
CATEGORIES:Saison 2017/18
END:VEVENT
BEGIN:VEVENT
DTSTAMP:20260424T151019Z
DTSTART;TZID=Europe/Berlin:20171011T000000
DTEND;TZID=Europe/Berlin:20171011T030000
SUMMARY:Ligue 2 Gr.3\, Ph.A UGS-Chênois IX vs spielfrei (12)
UID:6010be51-54cf-5356-e053-1fc7a80a74f7
STATUS:CONFIRMED
DESCRIPTION:2ème ligue Hommes Gr. 3 Phase A\nBegegnungs-Nr: 12\nHeim: UGS-Chênois IX\nGast: spielfrei\n
LOCATION:
CATEGORIES:Saison 2017/18
END:VEVENT
BEGIN:VEVENT
DTSTAMP:20260424T151019Z
DTSTART;TZID=Europe/Berlin:20170927T194500
DTEND;TZID=Europe/Berlin:20170927T224500
SUMMARY:Ligue 2 Gr.3\, Ph.A UGS-Chênois IX vs Vernier II (9)
UID:6010be51-5576-5356-e053-1fc7a80a74f7
STATUS:CONFIRMED
LAST-MODIFIED:20170928T112849Z
DESCRIPTION:2ème ligue Hommes Gr. 3 Phase A\nBegegnungs-Nr: 9\nHeim: UGS-Chênois IX\nGast: Vernier II\n
LOCATION:
CATEGORIES:Saison 2017/18
END:VEVENT
BEGIN:VEVENT
DTSTAMP:20260424T151019Z
DTSTART;TZID=Europe/Berlin:20170913T194500
DTEND;TZID=Europe/Berlin:20170913T224500
SUMMARY:Ligue 2 Gr.3\, Ph.A UGS-Chênois IX vs Veyrier V (3)
UID:6010be51-557c-5356-e053-1fc7a80a74f7
STATUS:CONFIRMED
LAST-MODIFIED:20170914T113252Z
DESCRIPTION:2ème ligue Hommes Gr. 3 Phase A\nBegegnungs-Nr: 3\nHeim: UGS-Chênois IX\nGast: Veyrier V\n
LOCATION:
CATEGORIES:Saison 2017/18
END:VEVENT
BEGIN:VEVENT
DTSTAMP:20260424T151019Z
DTSTART;TZID=Europe/Berlin:20171213T194500
DTEND;TZID=Europe/Berlin:20171213T224500
SUMMARY:Ligue 2 Gr.3\, Ph.A UGS-Chênois IX vs Carouge III (30)
UID:6010be51-54cc-5356-e053-1fc7a80a74f7
STATUS:CONFIRMED
LAST-MODIFIED:20171214T142547Z
DESCRIPTION:2ème ligue Hommes Gr. 3 Phase A\nBegegnungs-Nr: 30\nHeim: UGS-Chênois IX\nGast: Carouge III\n
LOCATION:
CATEGORIES:Saison 2017/18
END:VEVENT
BEGIN:VEVENT
DTSTAMP:20260424T151019Z
DTSTART;TZID=Europe/Berlin:20180418T194500
DTEND;TZID=Europe/Berlin:20180418T224500
SUMMARY:Ligue 3 Gr.5\, Ph.B UGS-Chênois IX vs Mandement V (29)
UID:31bd9867-2375-470a-892f-68092690e950
STATUS:CONFIRMED
LAST-MODIFIED:20180419T121715Z
DESCRIPTION:3ème ligue Hommes Gr. 5 Phase B\nBegegnungs-Nr: 29\nHeim: UGS-Chênois IX\nGast: Mandement V\n
LOCATION:
CATEGORIES:Saison 2017/18
END:VEVENT
BEGIN:VEVENT
DTSTAMP:20260424T151019Z
DTSTART;TZID=Europe/Berlin:20180307T194500
DTEND;TZID=Europe/Berlin:20180307T224500
SUMMARY:Ligue 3 Gr.5\, Ph.B UGS-Chênois IX vs Silver Star V (16)
UID:108831a9-7d8e-4141-802c-c68cea4f6db5
STATUS:CONFIRMED
LAST-MODIFIED:20180308T155706Z
DESCRIPTION:3ème ligue Hommes Gr. 5 Phase B\nBegegnungs-Nr: 16\nHeim: UGS-Chênois IX\nGast: Silver Star V\n
LOCATION:
CATEGORIES:Saison 2017/18
END:VEVENT
BEGIN:VEVENT
DTSTAMP:20260424T151019Z
DTSTART;TZID=Europe/Berlin:20180117T194500
DTEND;TZID=Europe/Berlin:20180117T224500
SUMMARY:Ligue 3 Gr.5\, Ph.B UGS-Chênois IX vs Versoix III (5)
UID:84bcd52e-413f-4e80-9200-fc225f70efd6
STATUS:CONFIRMED
LAST-MODIFIED:20180118T165717Z
DESCRIPTION:3ème ligue Hommes Gr. 5 Phase B\nBegegnungs-Nr: 5\nHeim: UGS-Chênois IX\nGast: Versoix III\n
LOCATION:
CATEGORIES:Saison 2017/18
END:VEVENT
BEGIN:VEVENT
DTSTAMP:20260424T151019Z
DTSTART;TZID=Europe/Berlin:20180411T194500
DTEND;TZID=Europe/Berlin:20180411T224500
SUMMARY:Ligue 3 Gr.5\, Ph.B UGS-Chênois IX vs Veyrier VI (26)
UID:202876d3-9690-41d5-a957-816015be2ea9
STATUS:CONFIRMED
LAST-MODIFIED:20180412T121512Z
DESCRIPTION:3ème ligue Hommes Gr. 5 Phase B\nBegegnungs-Nr: 26\nHeim: UGS-Chênois IX\nGast: Veyrier VI\n\nAdresse: Route de Frontenex 68\, 1208 Genève\n
LOCATION:Route de Frontenex 68\, 1208 Genève
CATEGORIES:Saison 2017/18
END:VEVENT
BEGIN:VEVENT
DTSTAMP:20260424T151019Z
DTSTART;TZID=Europe/Berlin:20180321T194500
DTEND;TZID=Europe/Berlin:20180321T224500
SUMMARY:Ligue 3 Gr.5\, Ph.B UGS-Chênois IX vs ZZ-Lancy XII (24)
UID:4e01092e-829d-479f-aad4-f7becb79c2c2
STATUS:CONFIRMED
LAST-MODIFIED:20180322T183747Z
DESCRIPTION:3ème ligue Hommes Gr. 5 Phase B\nBegegnungs-Nr: 24\nHeim: UGS-Chênois IX\nGast: ZZ-Lancy XII\n
LOCATION:
CATEGORIES:Saison 2017/18
END:VEVENT
BEGIN:VEVENT
DTSTAMP:20260424T151019Z
DTSTART;TZID=Europe/Berlin:20171205T000000
DTEND;TZID=Europe/Berlin:20171205T030000
SUMMARY:Ligue 2 Gr.3\, Ph.A spielfrei vs UGS-Chênois IX (25)
UID:6010be51-54c2-5356-e053-1fc7a80a74f7
STATUS:CONFIRMED
DESCRIPTION:2ème ligue Hommes Gr. 3 Phase A\nBegegnungs-Nr: 25\nHeim: spielfrei\nGast: UGS-Chênois IX\n
LOCATION:
CATEGORIES:Saison 2017/18
END:VEVENT
BEGIN:VEVENT
DTSTAMP:20260424T151019Z
DTSTART;TZID=Europe/Berlin:20171107T194500
DTEND;TZID=Europe/Berlin:20171107T224500
SUMMARY:Ligue 2 Gr.3\, Ph.A Veyrier V vs UGS-Chênois IX (17)
UID:6010be51-54c8-5356-e053-1fc7a80a74f7
STATUS:CONFIRMED
LAST-MODIFIED:20171108T131345Z
DESCRIPTION:2ème ligue Hommes Gr. 3 Phase A\nBegegnungs-Nr: 17\nHeim: Veyrier V\nGast: UGS-Chênois IX\n\nAdresse: -\, 1255 Veyrier\n
LOCATION:-\, 1255 Veyrier
CATEGORIES:Saison 2017/18
END:VEVENT
BEGIN:VEVENT
DTSTAMP:20260424T151019Z
DTSTART;TZID=Europe/Berlin:20171017T194500
DTEND;TZID=Europe/Berlin:20171017T224500
SUMMARY:Ligue 2 Gr.3\, Ph.A Carouge III vs UGS-Chênois IX (15)
UID:6010be51-54ca-5356-e053-1fc7a80a74f7
STATUS:CONFIRMED
LAST-MODIFIED:20171018T123504Z
DESCRIPTION:2ème ligue Hommes Gr. 3 Phase A\nBegegnungs-Nr: 15\nHeim: Carouge III\nGast: UGS-Chênois IX\n
LOCATION:
CATEGORIES:Saison 2017/18
END:VEVENT
BEGIN:VEVENT
DTSTAMP:20260424T151019Z
DTSTART;TZID=Europe/Berlin:20170919T194500
DTEND;TZID=Europe/Berlin:20170919T224500
SUMMARY:Ligue 2 Gr.3\, Ph.A ZZ-Lancy VI vs UGS-Chênois IX (5)
UID:6010be51-557a-5356-e053-1fc7a80a74f7
STATUS:CONFIRMED
LAST-MODIFIED:20170920T113803Z
DESCRIPTION:2ème ligue Hommes Gr. 3 Phase A\nBegegnungs-Nr: 5\nHeim: ZZ-Lancy VI\nGast: UGS-Chênois IX\n\nAdresse: Avenue du Curé-Baud 40\, 1212 Grand-Lancy\n
LOCATION:Avenue du Curé-Baud 40\, 1212 Grand-Lancy
CATEGORIES:Saison 2017/18
END:VEVENT
BEGIN:VEVENT
DTSTAMP:20260424T151019Z
DTSTART;TZID=Europe/Berlin:20180208T194500
DTEND;TZID=Europe/Berlin:20180208T224500
SUMMARY:Ligue 3 Gr.5\, Ph.B Veyrier VI vs UGS-Chênois IX (11)
UID:eb58ecf0-e18c-4824-b470-e5b5dae2599d
STATUS:CONFIRMED
LAST-MODIFIED:20180209T100750Z
DESCRIPTION:3ème ligue Hommes Gr. 5 Phase B\nBegegnungs-Nr: 11\nHeim: Veyrier VI\nGast: UGS-Chênois IX\n\nAdresse: -\, 1255 Veyrier\n
LOCATION:-\, 1255 Veyrier
CATEGORIES:Saison 2017/18
END:VEVENT
BEGIN:VEVENT
DTSTAMP:20260424T151019Z
DTSTART;TZID=Europe/Berlin:20180228T194500
DTEND;TZID=Europe/Berlin:20180228T224500
SUMMARY:Ligue 3 Gr.5\, Ph.B Mandement V vs UGS-Chênois IX (14)
UID:e3c7abdd-49eb-4d86-941d-8fa39b26ac08
STATUS:CONFIRMED
LAST-MODIFIED:20180228T214517Z
DESCRIPTION:3ème ligue Hommes Gr. 5 Phase B\nBegegnungs-Nr: 14\nHeim: Mandement V\nGast: UGS-Chênois IX\n
LOCATION:
CATEGORIES:Saison 2017/18
END:VEVENT
BEGIN:VEVENT
DTSTAMP:20260424T151019Z
DTSTART;TZID=Europe/Berlin:20171128T194500
DTEND;TZID=Europe/Berlin:20171128T224500
SUMMARY:Ligue 2 Gr.3\, Ph.A Vernier II vs UGS-Chênois IX (24)
UID:6010be51-5c97-5356-e053-1fc7a80a74f7
STATUS:CONFIRMED
LAST-MODIFIED:20171129T133744Z
DESCRIPTION:2ème ligue Hommes Gr. 3 Phase A\nBegegnungs-Nr: 24\nHeim: Vernier II\nGast: UGS-Chênois IX\n\nAdresse: Rue du Village 6\, 1214 Vernier\n
LOCATION:Rue du Village 6\, 1214 Vernier
CATEGORIES:Saison 2017/18
END:VEVENT
BEGIN:VEVENT
DTSTAMP:20260424T151019Z
DTSTART;TZID=Europe/Berlin:20180131T201500
DTEND;TZID=Europe/Berlin:20180131T231500
SUMMARY:Ligue 3 Gr.5\, Ph.B ZZ-Lancy XII vs UGS-Chênois IX (9)
UID:a3ca6c0e-e260-4ea9-9d9e-0ed6636d9ebe
STATUS:CONFIRMED
LAST-MODIFIED:20180201T134216Z
DESCRIPTION:3ème ligue Hommes Gr. 5 Phase B\nBegegnungs-Nr: 9\nHeim: ZZ-Lancy XII\nGast: UGS-Chênois IX\n
LOCATION:
CATEGORIES:Saison 2017/18
END:VEVENT
BEGIN:VEVENT
DTSTAMP:20260424T151019Z
DTSTART;TZID=Europe/Berlin:20180314T194500
DTEND;TZID=Europe/Berlin:20180314T224500
SUMMARY:Ligue 3 Gr.5\, Ph.B Versoix III vs UGS-Chênois IX (20)
UID:ccb57536-e1fe-40c3-9724-a868f3404810
STATUS:CONFIRMED
LAST-MODIFIED:20180315T130335Z
DESCRIPTION:3ème ligue Hommes Gr. 5 Phase B\nBegegnungs-Nr: 20\nHeim: Versoix III\nGast: UGS-Chênois IX\n
LOCATION:
CATEGORIES:Saison 2017/18
END:VEVENT
BEGIN:VEVENT
DTSTAMP:20260424T151019Z
DTSTART;TZID=Europe/Berlin:20180110T194500
DTEND;TZID=Europe/Berlin:20180110T224500
SUMMARY:Ligue 3 Gr.5\, Ph.B Silver Star V vs UGS-Chênois IX (1)
UID:df09029d-53aa-4205-920f-811b400276bf
STATUS:CONFIRMED
LAST-MODIFIED:20180111T174515Z
DESCRIPTION:3ème ligue Hommes Gr. 5 Phase B\nBegegnungs-Nr: 1\nHeim: Silver Star V\nGast: UGS-Chênois IX\n\nAdresse: Rue de Vermont 33\, 1202 Genève\n
LOCATION:Rue de Vermont 33\, 1202 Genève
CATEGORIES:Saison 2017/18
END:VEVENT
END:VCALENDAR
