BEGIN:VCALENDAR
PRODID:-//nuDatenautomaten//framework iCal4j //DE
VERSION:2.0
CALSCALE:GREGORIAN
BEGIN:VTIMEZONE
TZID:Europe/Berlin
LAST-MODIFIED:20260306T231828Z
TZURL:https://www.tzurl.org/zoneinfo/Europe/Berlin
X-LIC-LOCATION:Europe/Berlin
X-PROLEPTIC-TZNAME:LMT
BEGIN:STANDARD
TZNAME:CET
TZOFFSETFROM:+005328
TZOFFSETTO:+0100
DTSTART:18930401T000000
END:STANDARD
BEGIN:DAYLIGHT
TZNAME:CEST
TZOFFSETFROM:+0100
TZOFFSETTO:+0200
DTSTART:19160430T230000
RDATE:19400401T020000
RDATE:19430329T020000
RDATE:19460414T020000
RDATE:19470406T030000
RDATE:19480418T020000
RDATE:19490410T020000
RDATE:19800406T020000
END:DAYLIGHT
BEGIN:STANDARD
TZNAME:CET
TZOFFSETFROM:+0200
TZOFFSETTO:+0100
DTSTART:19161001T010000
RDATE:19421102T030000
RDATE:19431004T030000
RDATE:19441002T030000
RDATE:19451118T030000
RDATE:19461007T030000
END:STANDARD
BEGIN:DAYLIGHT
TZNAME:CEST
TZOFFSETFROM:+0100
TZOFFSETTO:+0200
DTSTART:19170416T020000
RRULE:FREQ=YEARLY;UNTIL=19180415T010000Z;BYMONTH=4;BYDAY=3MO
END:DAYLIGHT
BEGIN:STANDARD
TZNAME:CET
TZOFFSETFROM:+0200
TZOFFSETTO:+0100
DTSTART:19170917T030000
RRULE:FREQ=YEARLY;UNTIL=19180916T010000Z;BYMONTH=9;BYDAY=3MO
END:STANDARD
BEGIN:DAYLIGHT
TZNAME:CEST
TZOFFSETFROM:+0100
TZOFFSETTO:+0200
DTSTART:19440403T020000
RRULE:FREQ=YEARLY;UNTIL=19450402T010000Z;BYMONTH=4;BYDAY=1MO
END:DAYLIGHT
BEGIN:DAYLIGHT
TZNAME:CEMT
TZOFFSETFROM:+0200
TZOFFSETTO:+0300
DTSTART:19450524T020000
RDATE:19470511T030000
END:DAYLIGHT
BEGIN:DAYLIGHT
TZNAME:CEST
TZOFFSETFROM:+0300
TZOFFSETTO:+0200
DTSTART:19450924T030000
RDATE:19470629T030000
END:DAYLIGHT
BEGIN:STANDARD
TZNAME:CET
TZOFFSETFROM:+0100
TZOFFSETTO:+0100
DTSTART:19460101T000000
RDATE:19800101T000000
END:STANDARD
BEGIN:STANDARD
TZNAME:CET
TZOFFSETFROM:+0200
TZOFFSETTO:+0100
DTSTART:19471005T030000
RRULE:FREQ=YEARLY;UNTIL=19491002T010000Z;BYMONTH=10;BYDAY=1SU
END:STANDARD
BEGIN:STANDARD
TZNAME:CET
TZOFFSETFROM:+0200
TZOFFSETTO:+0100
DTSTART:19800928T030000
RRULE:FREQ=YEARLY;UNTIL=19950924T010000Z;BYMONTH=9;BYDAY=-1SU
END:STANDARD
BEGIN:DAYLIGHT
TZNAME:CEST
TZOFFSETFROM:+0100
TZOFFSETTO:+0200
DTSTART:19810329T020000
RRULE:FREQ=YEARLY;BYMONTH=3;BYDAY=-1SU
END:DAYLIGHT
BEGIN:STANDARD
TZNAME:CET
TZOFFSETFROM:+0200
TZOFFSETTO:+0100
DTSTART:19961027T030000
RRULE:FREQ=YEARLY;BYMONTH=10;BYDAY=-1SU
END:STANDARD
END:VTIMEZONE
BEGIN:VEVENT
DTSTAMP:20260419T224256Z
DTSTART;TZID=Europe/Berlin:20171108T201500
DTEND;TZID=Europe/Berlin:20171108T231500
SUMMARY:S L3 Gr 5 Domdidier vs Avry-Rosé II (0)
UID:6010be51-5235-5356-e053-1fc7a80a74f7
STATUS:CONFIRMED
LAST-MODIFIED:20171114T142649Z
DESCRIPTION:3ème ligue Seniors Groupe 5\nBegegnungs-Nr: 0\nHeim: Domdidier\nGast: Avry-Rosé II\n\nAdresse: Pré-de-la-Cour\, 1564 Domdidier\n
LOCATION:Pré-de-la-Cour\, 1564 Domdidier
CATEGORIES:Saison 2017/18
END:VEVENT
BEGIN:VEVENT
DTSTAMP:20260419T224256Z
DTSTART;TZID=Europe/Berlin:20170920T201500
DTEND;TZID=Europe/Berlin:20170920T231500
SUMMARY:S L3 Gr 5 Domdidier vs Marly (0)
UID:6010be51-4f33-5356-e053-1fc7a80a74f7
STATUS:CONFIRMED
LAST-MODIFIED:20170926T132154Z
DESCRIPTION:3ème ligue Seniors Groupe 5\nBegegnungs-Nr: 0\nHeim: Domdidier\nGast: Marly\n\nAdresse: Pré-de-la-Cour\, 1564 Domdidier\n
LOCATION:Pré-de-la-Cour\, 1564 Domdidier
CATEGORIES:Saison 2017/18
END:VEVENT
BEGIN:VEVENT
DTSTAMP:20260419T224256Z
DTSTART;TZID=Europe/Berlin:20180228T201500
DTEND;TZID=Europe/Berlin:20180228T231500
SUMMARY:S L3 Gr 5 Domdidier vs Matran (0)
UID:6010be51-5058-5356-e053-1fc7a80a74f7
STATUS:CONFIRMED
LAST-MODIFIED:20180306T171534Z
DESCRIPTION:3ème ligue Seniors Groupe 5\nBegegnungs-Nr: 0\nHeim: Domdidier\nGast: Matran\n\nAdresse: Pré-de-la-Cour\, 1564 Domdidier\n
LOCATION:Pré-de-la-Cour\, 1564 Domdidier
CATEGORIES:Saison 2017/18
END:VEVENT
BEGIN:VEVENT
DTSTAMP:20260419T224256Z
DTSTART;TZID=Europe/Berlin:20180321T201500
DTEND;TZID=Europe/Berlin:20180321T231500
SUMMARY:S L3 Gr 5 Domdidier vs Avry-Rosé (0)
UID:6010be51-505a-5356-e053-1fc7a80a74f7
STATUS:CONFIRMED
LAST-MODIFIED:20180328T085320Z
DESCRIPTION:3ème ligue Seniors Groupe 5\nBegegnungs-Nr: 0\nHeim: Domdidier\nGast: Avry-Rosé\n\nAdresse: Pré-de-la-Cour\, 1564 Domdidier\n
LOCATION:Pré-de-la-Cour\, 1564 Domdidier
CATEGORIES:Saison 2017/18
END:VEVENT
BEGIN:VEVENT
DTSTAMP:20260419T224256Z
DTSTART;TZID=Europe/Berlin:20180110T201500
DTEND;TZID=Europe/Berlin:20180110T231500
SUMMARY:S L3 Gr 5 Domdidier vs Matran II (0)
UID:6010be51-5052-5356-e053-1fc7a80a74f7
STATUS:CONFIRMED
LAST-MODIFIED:20180116T164521Z
DESCRIPTION:3ème ligue Seniors Groupe 5\nBegegnungs-Nr: 0\nHeim: Domdidier\nGast: Matran II\n\nAdresse: Pré-de-la-Cour\, 1564 Domdidier\n
LOCATION:Pré-de-la-Cour\, 1564 Domdidier
CATEGORIES:Saison 2017/18
END:VEVENT
BEGIN:VEVENT
DTSTAMP:20260419T224256Z
DTSTART;TZID=Europe/Berlin:20171011T200000
DTEND;TZID=Europe/Berlin:20171011T230000
SUMMARY:S L3 Gr 5 Matran II vs Domdidier (0)
UID:6010be51-5791-5356-e053-1fc7a80a74f7
STATUS:CONFIRMED
LAST-MODIFIED:20171018T153620Z
DESCRIPTION:3ème ligue Seniors Groupe 5\nBegegnungs-Nr: 0\nHeim: Matran II\nGast: Domdidier\n\nAdresse: Route de l'Ecole\, 1753 Matran\n
LOCATION:Route de l'Ecole\, 1753 Matran
CATEGORIES:Saison 2017/18
END:VEVENT
BEGIN:VEVENT
DTSTAMP:20260419T224256Z
DTSTART;TZID=Europe/Berlin:20171205T200000
DTEND;TZID=Europe/Berlin:20171205T230000
SUMMARY:S L3 Gr 5 Avry-Rosé vs Domdidier (0)
UID:6010be51-4ef7-5356-e053-1fc7a80a74f7
STATUS:CONFIRMED
LAST-MODIFIED:20171214T152933Z
DESCRIPTION:3ème ligue Seniors Groupe 5\nBegegnungs-Nr: 0\nHeim: Avry-Rosé\nGast: Domdidier\n\nAdresse: Route du Château 15\, 1754 Avry-sur-Matran\n
LOCATION:Route du Château 15\, 1754 Avry-sur-Matran
CATEGORIES:Saison 2017/18
END:VEVENT
BEGIN:VEVENT
DTSTAMP:20260419T224256Z
DTSTART;TZID=Europe/Berlin:20171120T200000
DTEND;TZID=Europe/Berlin:20171120T230000
SUMMARY:S L3 Gr 5 Matran vs Domdidier (0)
UID:6010be51-4f30-5356-e053-1fc7a80a74f7
STATUS:CONFIRMED
LAST-MODIFIED:20171127T110455Z
DESCRIPTION:3ème ligue Seniors Groupe 5\nBegegnungs-Nr: 0\nHeim: Matran\nGast: Domdidier\n\nAdresse: Route de l'Ecole\, 1753 Matran\n
LOCATION:Route de l'Ecole\, 1753 Matran
CATEGORIES:Saison 2017/18
END:VEVENT
BEGIN:VEVENT
DTSTAMP:20260419T224256Z
DTSTART;TZID=Europe/Berlin:20171212T193000
DTEND;TZID=Europe/Berlin:20171212T223000
SUMMARY:S L3 Gr 5 Marly vs Domdidier (0)
UID:6010be51-501a-5356-e053-1fc7a80a74f7
STATUS:CONFIRMED
LAST-MODIFIED:20171220T101851Z
DESCRIPTION:3ème ligue Seniors Groupe 5\nBegegnungs-Nr: 0\nHeim: Marly\nGast: Domdidier\n\nAdresse: Grand Pré - Rte des Ecoles\, 1723 Marly\n
LOCATION:Grand Pré - Rte des Ecoles\, 1723 Marly
CATEGORIES:Saison 2017/18
END:VEVENT
BEGIN:VEVENT
DTSTAMP:20260419T224256Z
DTSTART;TZID=Europe/Berlin:20180206T200000
DTEND;TZID=Europe/Berlin:20180206T230000
SUMMARY:S L3 Gr 5 Avry-Rosé II vs Domdidier (0)
UID:6010be51-5055-5356-e053-1fc7a80a74f7
STATUS:CONFIRMED
LAST-MODIFIED:20180213T155532Z
DESCRIPTION:3ème ligue Seniors Groupe 5\nBegegnungs-Nr: 0\nHeim: Avry-Rosé II\nGast: Domdidier\n\nAdresse: Route du Château 15\, 1754 Avry-sur-Matran\n
LOCATION:Route du Château 15\, 1754 Avry-sur-Matran
CATEGORIES:Saison 2017/18
END:VEVENT
END:VCALENDAR
