BEGIN:VCALENDAR
PRODID:-//nuDatenautomaten//framework iCal4j //DE
VERSION:2.0
CALSCALE:GREGORIAN
BEGIN:VTIMEZONE
TZID:Europe/Berlin
LAST-MODIFIED:20260306T231828Z
TZURL:https://www.tzurl.org/zoneinfo/Europe/Berlin
X-LIC-LOCATION:Europe/Berlin
X-PROLEPTIC-TZNAME:LMT
BEGIN:STANDARD
TZNAME:CET
TZOFFSETFROM:+005328
TZOFFSETTO:+0100
DTSTART:18930401T000000
END:STANDARD
BEGIN:DAYLIGHT
TZNAME:CEST
TZOFFSETFROM:+0100
TZOFFSETTO:+0200
DTSTART:19160430T230000
RDATE:19400401T020000
RDATE:19430329T020000
RDATE:19460414T020000
RDATE:19470406T030000
RDATE:19480418T020000
RDATE:19490410T020000
RDATE:19800406T020000
END:DAYLIGHT
BEGIN:STANDARD
TZNAME:CET
TZOFFSETFROM:+0200
TZOFFSETTO:+0100
DTSTART:19161001T010000
RDATE:19421102T030000
RDATE:19431004T030000
RDATE:19441002T030000
RDATE:19451118T030000
RDATE:19461007T030000
END:STANDARD
BEGIN:DAYLIGHT
TZNAME:CEST
TZOFFSETFROM:+0100
TZOFFSETTO:+0200
DTSTART:19170416T020000
RRULE:FREQ=YEARLY;UNTIL=19180415T010000Z;BYMONTH=4;BYDAY=3MO
END:DAYLIGHT
BEGIN:STANDARD
TZNAME:CET
TZOFFSETFROM:+0200
TZOFFSETTO:+0100
DTSTART:19170917T030000
RRULE:FREQ=YEARLY;UNTIL=19180916T010000Z;BYMONTH=9;BYDAY=3MO
END:STANDARD
BEGIN:DAYLIGHT
TZNAME:CEST
TZOFFSETFROM:+0100
TZOFFSETTO:+0200
DTSTART:19440403T020000
RRULE:FREQ=YEARLY;UNTIL=19450402T010000Z;BYMONTH=4;BYDAY=1MO
END:DAYLIGHT
BEGIN:DAYLIGHT
TZNAME:CEMT
TZOFFSETFROM:+0200
TZOFFSETTO:+0300
DTSTART:19450524T020000
RDATE:19470511T030000
END:DAYLIGHT
BEGIN:DAYLIGHT
TZNAME:CEST
TZOFFSETFROM:+0300
TZOFFSETTO:+0200
DTSTART:19450924T030000
RDATE:19470629T030000
END:DAYLIGHT
BEGIN:STANDARD
TZNAME:CET
TZOFFSETFROM:+0100
TZOFFSETTO:+0100
DTSTART:19460101T000000
RDATE:19800101T000000
END:STANDARD
BEGIN:STANDARD
TZNAME:CET
TZOFFSETFROM:+0200
TZOFFSETTO:+0100
DTSTART:19471005T030000
RRULE:FREQ=YEARLY;UNTIL=19491002T010000Z;BYMONTH=10;BYDAY=1SU
END:STANDARD
BEGIN:STANDARD
TZNAME:CET
TZOFFSETFROM:+0200
TZOFFSETTO:+0100
DTSTART:19800928T030000
RRULE:FREQ=YEARLY;UNTIL=19950924T010000Z;BYMONTH=9;BYDAY=-1SU
END:STANDARD
BEGIN:DAYLIGHT
TZNAME:CEST
TZOFFSETFROM:+0100
TZOFFSETTO:+0200
DTSTART:19810329T020000
RRULE:FREQ=YEARLY;BYMONTH=3;BYDAY=-1SU
END:DAYLIGHT
BEGIN:STANDARD
TZNAME:CET
TZOFFSETFROM:+0200
TZOFFSETTO:+0100
DTSTART:19961027T030000
RRULE:FREQ=YEARLY;BYMONTH=10;BYDAY=-1SU
END:STANDARD
END:VTIMEZONE
BEGIN:VEVENT
DTSTAMP:20260424T164557Z
DTSTART;TZID=Europe/Berlin:20180202T194500
DTEND;TZID=Europe/Berlin:20180202T224500
SUMMARY:He 3. Liga Gr. 4 Baar V vs Schenkon III (0)
UID:6010be51-4180-5356-e053-1fc7a80a74f7
STATUS:CONFIRMED
LAST-MODIFIED:20180206T100649Z
DESCRIPTION:3. Liga Herren Gruppe 4\nBegegnungs-Nr: 0\nHeim: Baar V\nGast: Schenkon III\n\nAdresse: Rigistrasse 175/177\, 6340 Baar\n
LOCATION:Rigistrasse 175/177\, 6340 Baar
CATEGORIES:Saison 2017/18
END:VEVENT
BEGIN:VEVENT
DTSTAMP:20260424T164557Z
DTSTART;TZID=Europe/Berlin:20180323T194500
DTEND;TZID=Europe/Berlin:20180323T224500
SUMMARY:He 3. Liga Gr. 4 Baar V vs Reussbühl IV (0)
UID:6010be51-4145-5356-e053-1fc7a80a74f7
STATUS:CONFIRMED
LAST-MODIFIED:20180402T115622Z
DESCRIPTION:3. Liga Herren Gruppe 4\nBegegnungs-Nr: 0\nHeim: Baar V\nGast: Reussbühl IV\n\nAdresse: Rigistrasse 175/177\, 6340 Baar\n
LOCATION:Rigistrasse 175/177\, 6340 Baar
CATEGORIES:Saison 2017/18
END:VEVENT
BEGIN:VEVENT
DTSTAMP:20260424T164557Z
DTSTART;TZID=Europe/Berlin:20180119T194500
DTEND;TZID=Europe/Berlin:20180119T224500
SUMMARY:He 3. Liga Gr. 4 Baar V vs Kriens VI (0)
UID:6010be51-417f-5356-e053-1fc7a80a74f7
STATUS:CONFIRMED
LAST-MODIFIED:20180121T133905Z
DESCRIPTION:3. Liga Herren Gruppe 4\nBegegnungs-Nr: 0\nHeim: Baar V\nGast: Kriens VI\n\nAdresse: Rigistrasse 175/177\, 6340 Baar\n
LOCATION:Rigistrasse 175/177\, 6340 Baar
CATEGORIES:Saison 2017/18
END:VEVENT
BEGIN:VEVENT
DTSTAMP:20260424T164557Z
DTSTART;TZID=Europe/Berlin:20180316T194500
DTEND;TZID=Europe/Berlin:20180316T224500
SUMMARY:He 3. Liga Gr. 4 Baar V vs Willisau III (0)
UID:6010be51-4189-5356-e053-1fc7a80a74f7
STATUS:CONFIRMED
LAST-MODIFIED:20180319T210611Z
DESCRIPTION:3. Liga Herren Gruppe 4\nBegegnungs-Nr: 0\nHeim: Baar V\nGast: Willisau III\n\nAdresse: Rigistrasse 175/177\, 6340 Baar\n
LOCATION:Rigistrasse 175/177\, 6340 Baar
CATEGORIES:Saison 2017/18
END:VEVENT
BEGIN:VEVENT
DTSTAMP:20260424T164557Z
DTSTART;TZID=Europe/Berlin:20170915T194500
DTEND;TZID=Europe/Berlin:20170915T224500
SUMMARY:He 3. Liga Gr. 4 Baar V vs Emmen (0)
UID:6010be51-42c6-5356-e053-1fc7a80a74f7
STATUS:CONFIRMED
LAST-MODIFIED:20171004T211529Z
DESCRIPTION:3. Liga Herren Gruppe 4\nBegegnungs-Nr: 0\nHeim: Baar V\nGast: Emmen\n\nAdresse: Rigistrasse 175/177\, 6340 Baar\n
LOCATION:Rigistrasse 175/177\, 6340 Baar
CATEGORIES:Saison 2017/18
END:VEVENT
BEGIN:VEVENT
DTSTAMP:20260424T164557Z
DTSTART;TZID=Europe/Berlin:20170929T194500
DTEND;TZID=Europe/Berlin:20170929T224500
SUMMARY:He 3. Liga Gr. 4 Baar V vs Rapid Luzern VII (0)
UID:6010be51-42cb-5356-e053-1fc7a80a74f7
STATUS:CONFIRMED
LAST-MODIFIED:20171002T102236Z
DESCRIPTION:3. Liga Herren Gruppe 4\nBegegnungs-Nr: 0\nHeim: Baar V\nGast: Rapid Luzern VII\n\nAdresse: Rigistrasse 175/177\, 6340 Baar\n
LOCATION:Rigistrasse 175/177\, 6340 Baar
CATEGORIES:Saison 2017/18
END:VEVENT
BEGIN:VEVENT
DTSTAMP:20260424T164557Z
DTSTART;TZID=Europe/Berlin:20171120T194500
DTEND;TZID=Europe/Berlin:20171120T224500
SUMMARY:He 3. Liga Gr. 4 Baar V vs Knutwil II (0)
UID:6010be51-4309-5356-e053-1fc7a80a74f7
STATUS:CONFIRMED
LAST-MODIFIED:20171122T092248Z
DESCRIPTION:3. Liga Herren Gruppe 4\nBegegnungs-Nr: 0\nHeim: Baar V\nGast: Knutwil II\n\nAdresse: Rigistrasse 175/177\, 6340 Baar\n
LOCATION:Rigistrasse 175/177\, 6340 Baar
CATEGORIES:Saison 2017/18
END:VEVENT
BEGIN:VEVENT
DTSTAMP:20260424T164557Z
DTSTART;TZID=Europe/Berlin:20171106T200000
DTEND;TZID=Europe/Berlin:20171106T230000
SUMMARY:He 3. Liga Gr. 4 Schenkon III vs Baar V (0)
UID:6010be51-56e2-5356-e053-1fc7a80a74f7
STATUS:CONFIRMED
LAST-MODIFIED:20171109T222823Z
DESCRIPTION:3. Liga Herren Gruppe 4\nBegegnungs-Nr: 0\nHeim: Schenkon III\nGast: Baar V\n
LOCATION:
CATEGORIES:Saison 2017/18
END:VEVENT
BEGIN:VEVENT
DTSTAMP:20260424T164557Z
DTSTART;TZID=Europe/Berlin:20180301T200000
DTEND;TZID=Europe/Berlin:20180301T230000
SUMMARY:He 3. Liga Gr. 4 Knutwil II vs Baar V (0)
UID:6010be51-4185-5356-e053-1fc7a80a74f7
STATUS:CONFIRMED
LAST-MODIFIED:20180304T120916Z
DESCRIPTION:3. Liga Herren Gruppe 4\nBegegnungs-Nr: 0\nHeim: Knutwil II\nGast: Baar V\n\nAdresse: -\, 6213 Bad Knutwil\n
LOCATION:-\, 6213 Bad Knutwil
CATEGORIES:Saison 2017/18
END:VEVENT
BEGIN:VEVENT
DTSTAMP:20260424T164557Z
DTSTART;TZID=Europe/Berlin:20180423T194500
DTEND;TZID=Europe/Berlin:20180423T224500
SUMMARY:He 3. Liga ES Willisau vs Baar V (0)
UID:f32ae0b4-6a9e-4c25-a280-3f6f840e2ccd
STATUS:CONFIRMED
LAST-MODIFIED:20180510T143032Z
DESCRIPTION:3. Liga Herren Entscheidungsspiele\nBegegnungs-Nr: 0\nHeim: Willisau\nGast: Baar V\n
LOCATION:
CATEGORIES:Saison 2017/18
END:VEVENT
BEGIN:VEVENT
DTSTAMP:20260424T164557Z
DTSTART;TZID=Europe/Berlin:20171213T193000
DTEND;TZID=Europe/Berlin:20171213T223000
SUMMARY:He 3. Liga Gr. 4 Emmen vs Baar V (0)
UID:6010be51-4141-5356-e053-1fc7a80a74f7
STATUS:CONFIRMED
LAST-MODIFIED:20171217T145551Z
DESCRIPTION:3. Liga Herren Gruppe 4\nBegegnungs-Nr: 0\nHeim: Emmen\nGast: Baar V\n\nAdresse: Rüeggisingerstrasse 26\, 6020 Emmenbrücke\n
LOCATION:Rüeggisingerstrasse 26\, 6020 Emmenbrücke
CATEGORIES:Saison 2017/18
END:VEVENT
BEGIN:VEVENT
DTSTAMP:20260424T164557Z
DTSTART;TZID=Europe/Berlin:20171223T130000
DTEND;TZID=Europe/Berlin:20171223T160000
SUMMARY:He 3. Liga Gr. 4 Rapid Luzern VII vs Baar V (0)
UID:6010be51-417b-5356-e053-1fc7a80a74f7
STATUS:CONFIRMED
LAST-MODIFIED:20171224T093425Z
DESCRIPTION:3. Liga Herren Gruppe 4\nBegegnungs-Nr: 0\nHeim: Rapid Luzern VII\nGast: Baar V\n\nAdresse: Kreuzbuchstr. 60\, 6006 Luzern\n
LOCATION:Kreuzbuchstr. 60\, 6006 Luzern
CATEGORIES:Saison 2017/18
END:VEVENT
BEGIN:VEVENT
DTSTAMP:20260424T164557Z
DTSTART;TZID=Europe/Berlin:20170912T200000
DTEND;TZID=Europe/Berlin:20170912T230000
SUMMARY:He 3. Liga Gr. 4 Reussbühl IV vs Baar V (0)
UID:6010be51-42c9-5356-e053-1fc7a80a74f7
STATUS:CONFIRMED
LAST-MODIFIED:20170918T162909Z
DESCRIPTION:3. Liga Herren Gruppe 4\nBegegnungs-Nr: 0\nHeim: Reussbühl IV\nGast: Baar V\n\nAdresse: Obermättlistrasse 44\, 6015 Luzern\n
LOCATION:Obermättlistrasse 44\, 6015 Luzern
CATEGORIES:Saison 2017/18
END:VEVENT
BEGIN:VEVENT
DTSTAMP:20260424T164557Z
DTSTART;TZID=Europe/Berlin:20171027T200000
DTEND;TZID=Europe/Berlin:20171027T230000
SUMMARY:He 3. Liga Gr. 4 Kriens VI vs Baar V (0)
UID:6010be51-42ce-5356-e053-1fc7a80a74f7
STATUS:CONFIRMED
LAST-MODIFIED:20171101T114919Z
DESCRIPTION:3. Liga Herren Gruppe 4\nBegegnungs-Nr: 0\nHeim: Kriens VI\nGast: Baar V\n\nAdresse: Krauerstrasse 1\, 6010 Kriens\n
LOCATION:Krauerstrasse 1\, 6010 Kriens
CATEGORIES:Saison 2017/18
END:VEVENT
BEGIN:VEVENT
DTSTAMP:20260424T164557Z
DTSTART;TZID=Europe/Berlin:20171127T194500
DTEND;TZID=Europe/Berlin:20171127T224500
SUMMARY:He 3. Liga Gr. 4 Willisau III vs Baar V (0)
UID:6010be51-5bf3-5356-e053-1fc7a80a74f7
STATUS:CONFIRMED
LAST-MODIFIED:20171201T130344Z
DESCRIPTION:3. Liga Herren Gruppe 4\nBegegnungs-Nr: 0\nHeim: Willisau III\nGast: Baar V\n\nAdresse: Berufsbildung-Zentrum\, 6130 Willisau\n
LOCATION:Berufsbildung-Zentrum\, 6130 Willisau
CATEGORIES:Saison 2017/18
END:VEVENT
END:VCALENDAR
