BEGIN:VCALENDAR
PRODID:-//nuDatenautomaten//framework iCal4j //DE
VERSION:2.0
CALSCALE:GREGORIAN
BEGIN:VTIMEZONE
TZID:Europe/Berlin
LAST-MODIFIED:20260306T231828Z
TZURL:https://www.tzurl.org/zoneinfo/Europe/Berlin
X-LIC-LOCATION:Europe/Berlin
X-PROLEPTIC-TZNAME:LMT
BEGIN:STANDARD
TZNAME:CET
TZOFFSETFROM:+005328
TZOFFSETTO:+0100
DTSTART:18930401T000000
END:STANDARD
BEGIN:DAYLIGHT
TZNAME:CEST
TZOFFSETFROM:+0100
TZOFFSETTO:+0200
DTSTART:19160430T230000
RDATE:19400401T020000
RDATE:19430329T020000
RDATE:19460414T020000
RDATE:19470406T030000
RDATE:19480418T020000
RDATE:19490410T020000
RDATE:19800406T020000
END:DAYLIGHT
BEGIN:STANDARD
TZNAME:CET
TZOFFSETFROM:+0200
TZOFFSETTO:+0100
DTSTART:19161001T010000
RDATE:19421102T030000
RDATE:19431004T030000
RDATE:19441002T030000
RDATE:19451118T030000
RDATE:19461007T030000
END:STANDARD
BEGIN:DAYLIGHT
TZNAME:CEST
TZOFFSETFROM:+0100
TZOFFSETTO:+0200
DTSTART:19170416T020000
RRULE:FREQ=YEARLY;UNTIL=19180415T010000Z;BYMONTH=4;BYDAY=3MO
END:DAYLIGHT
BEGIN:STANDARD
TZNAME:CET
TZOFFSETFROM:+0200
TZOFFSETTO:+0100
DTSTART:19170917T030000
RRULE:FREQ=YEARLY;UNTIL=19180916T010000Z;BYMONTH=9;BYDAY=3MO
END:STANDARD
BEGIN:DAYLIGHT
TZNAME:CEST
TZOFFSETFROM:+0100
TZOFFSETTO:+0200
DTSTART:19440403T020000
RRULE:FREQ=YEARLY;UNTIL=19450402T010000Z;BYMONTH=4;BYDAY=1MO
END:DAYLIGHT
BEGIN:DAYLIGHT
TZNAME:CEMT
TZOFFSETFROM:+0200
TZOFFSETTO:+0300
DTSTART:19450524T020000
RDATE:19470511T030000
END:DAYLIGHT
BEGIN:DAYLIGHT
TZNAME:CEST
TZOFFSETFROM:+0300
TZOFFSETTO:+0200
DTSTART:19450924T030000
RDATE:19470629T030000
END:DAYLIGHT
BEGIN:STANDARD
TZNAME:CET
TZOFFSETFROM:+0100
TZOFFSETTO:+0100
DTSTART:19460101T000000
RDATE:19800101T000000
END:STANDARD
BEGIN:STANDARD
TZNAME:CET
TZOFFSETFROM:+0200
TZOFFSETTO:+0100
DTSTART:19471005T030000
RRULE:FREQ=YEARLY;UNTIL=19491002T010000Z;BYMONTH=10;BYDAY=1SU
END:STANDARD
BEGIN:STANDARD
TZNAME:CET
TZOFFSETFROM:+0200
TZOFFSETTO:+0100
DTSTART:19800928T030000
RRULE:FREQ=YEARLY;UNTIL=19950924T010000Z;BYMONTH=9;BYDAY=-1SU
END:STANDARD
BEGIN:DAYLIGHT
TZNAME:CEST
TZOFFSETFROM:+0100
TZOFFSETTO:+0200
DTSTART:19810329T020000
RRULE:FREQ=YEARLY;BYMONTH=3;BYDAY=-1SU
END:DAYLIGHT
BEGIN:STANDARD
TZNAME:CET
TZOFFSETFROM:+0200
TZOFFSETTO:+0100
DTSTART:19961027T030000
RRULE:FREQ=YEARLY;BYMONTH=10;BYDAY=-1SU
END:STANDARD
END:VTIMEZONE
BEGIN:VEVENT
DTSTAMP:20260424T163229Z
DTSTART;TZID=Europe/Berlin:20171209T093000
DTEND;TZID=Europe/Berlin:20171209T123000
SUMMARY:L3 Jeunesse UGS-Chênois X vs Carouge II (47)
UID:6010be51-579f-5356-e053-1fc7a80a74f7
STATUS:CONFIRMED
LAST-MODIFIED:20171209T114324Z
DESCRIPTION:3eme ligue Jeunesse groupe unique\nBegegnungs-Nr: 47\nHeim: UGS-Chênois X\nGast: Carouge II\n\nAdresse: Route de Frontenex 68\, 1208 Genève\n
LOCATION:Route de Frontenex 68\, 1208 Genève
CATEGORIES:Saison 2017/18
END:VEVENT
BEGIN:VEVENT
DTSTAMP:20260424T163229Z
DTSTART;TZID=Europe/Berlin:20171209T140000
DTEND;TZID=Europe/Berlin:20171209T170000
SUMMARY:L3 Jeunesse UGS-Chênois X vs ZZ-Lancy V (73)
UID:6010be51-57dd-5356-e053-1fc7a80a74f7
STATUS:CONFIRMED
LAST-MODIFIED:20171209T173549Z
DESCRIPTION:3eme ligue Jeunesse groupe unique\nBegegnungs-Nr: 73\nHeim: UGS-Chênois X\nGast: ZZ-Lancy V\n
LOCATION:
CATEGORIES:Saison 2017/18
END:VEVENT
BEGIN:VEVENT
DTSTAMP:20260424T163229Z
DTSTART;TZID=Europe/Berlin:20180421T114500
DTEND;TZID=Europe/Berlin:20180421T144500
SUMMARY:L3 Jeunesse UGS-Chênois X vs Meyrin VI (155)
UID:a831898c-5cab-4f75-aab2-aadb443fcdc0
STATUS:CONFIRMED
LAST-MODIFIED:20180423T093833Z
DESCRIPTION:3eme ligue Jeunesse groupe unique\nBegegnungs-Nr: 155\nHeim: UGS-Chênois X\nGast: Meyrin VI\n
LOCATION:
CATEGORIES:Saison 2017/18
END:VEVENT
BEGIN:VEVENT
DTSTAMP:20260424T163229Z
DTSTART;TZID=Europe/Berlin:20180303T140000
DTEND;TZID=Europe/Berlin:20180303T170000
SUMMARY:L3 Jeunesse UGS-Chênois X vs Châtelaine IV (123)
UID:a7b0b2e8-81c6-4be3-885b-fb88e0601caa
STATUS:CONFIRMED
LAST-MODIFIED:20180303T175358Z
DESCRIPTION:3eme ligue Jeunesse groupe unique\nBegegnungs-Nr: 123\nHeim: UGS-Chênois X\nGast: Châtelaine IV\n
LOCATION:
CATEGORIES:Saison 2017/18
END:VEVENT
BEGIN:VEVENT
DTSTAMP:20260424T163229Z
DTSTART;TZID=Europe/Berlin:20180303T093000
DTEND;TZID=Europe/Berlin:20180303T123000
SUMMARY:L3 Jeunesse UGS-Chênois X vs Versoix III (117)
UID:51cc5762-8098-4957-b948-b6560f7cf79a
STATUS:CONFIRMED
LAST-MODIFIED:20180304T084914Z
DESCRIPTION:3eme ligue Jeunesse groupe unique\nBegegnungs-Nr: 117\nHeim: UGS-Chênois X\nGast: Versoix III\n
LOCATION:
CATEGORIES:Saison 2017/18
END:VEVENT
BEGIN:VEVENT
DTSTAMP:20260424T163229Z
DTSTART;TZID=Europe/Berlin:20171209T114500
DTEND;TZID=Europe/Berlin:20171209T144500
SUMMARY:L3 Jeunesse Châtelaine III vs UGS-Chênois X (58)
UID:6010be51-57cf-5356-e053-1fc7a80a74f7
STATUS:CONFIRMED
LAST-MODIFIED:20171209T140036Z
DESCRIPTION:3eme ligue Jeunesse groupe unique\nBegegnungs-Nr: 58\nHeim: Châtelaine III\nGast: UGS-Chênois X\n
LOCATION:
CATEGORIES:Saison 2017/18
END:VEVENT
BEGIN:VEVENT
DTSTAMP:20260424T163229Z
DTSTART;TZID=Europe/Berlin:20171014T093000
DTEND;TZID=Europe/Berlin:20171014T123000
SUMMARY:L3 Jeunesse Meyrin V vs UGS-Chênois X (12)
UID:6010be51-57e5-5356-e053-1fc7a80a74f7
STATUS:CONFIRMED
LAST-MODIFIED:20171017T202233Z
DESCRIPTION:3eme ligue Jeunesse groupe unique\nBegegnungs-Nr: 12\nHeim: Meyrin V\nGast: UGS-Chênois X\n
LOCATION:
CATEGORIES:Saison 2017/18
END:VEVENT
BEGIN:VEVENT
DTSTAMP:20260424T163229Z
DTSTART;TZID=Europe/Berlin:20180421T090000
DTEND;TZID=Europe/Berlin:20180421T120000
SUMMARY:L3 Jeunesse Veyrier II vs UGS-Chênois X (149)
UID:f43f72eb-09c3-4cc8-baca-12fc2b8aed7b
STATUS:CONFIRMED
LAST-MODIFIED:20180422T151800Z
DESCRIPTION:3eme ligue Jeunesse groupe unique\nBegegnungs-Nr: 149\nHeim: Veyrier II\nGast: UGS-Chênois X\n
LOCATION:
CATEGORIES:Saison 2017/18
END:VEVENT
BEGIN:VEVENT
DTSTAMP:20260424T163229Z
DTSTART;TZID=Europe/Berlin:20180421T143000
DTEND;TZID=Europe/Berlin:20180421T173000
SUMMARY:L3 Jeunesse Veyrier III vs UGS-Chênois X (175)
UID:909b1e8b-26e6-406a-b3d8-c155e7dba1f0
STATUS:CONFIRMED
LAST-MODIFIED:20180423T100159Z
DESCRIPTION:3eme ligue Jeunesse groupe unique\nBegegnungs-Nr: 175\nHeim: Veyrier III\nGast: UGS-Chênois X\n
LOCATION:
CATEGORIES:Saison 2017/18
END:VEVENT
BEGIN:VEVENT
DTSTAMP:20260424T163229Z
DTSTART;TZID=Europe/Berlin:20180303T114500
DTEND;TZID=Europe/Berlin:20180303T144500
SUMMARY:L3 Jeunesse Veyrier vs UGS-Chênois X (119)
UID:6601974a-f4e5-4a12-966c-a2016101752c
STATUS:CONFIRMED
LAST-MODIFIED:20180303T180711Z
DESCRIPTION:3eme ligue Jeunesse groupe unique\nBegegnungs-Nr: 119\nHeim: Veyrier\nGast: UGS-Chênois X\n
LOCATION:
CATEGORIES:Saison 2017/18
END:VEVENT
BEGIN:VEVENT
DTSTAMP:20260424T163229Z
DTSTART;TZID=Europe/Berlin:20171014T140000
DTEND;TZID=Europe/Berlin:20171014T170000
SUMMARY:L3 Jeunesse Vernier III vs UGS-Chênois X (38)
UID:6010be51-58cd-5356-e053-1fc7a80a74f7
STATUS:CONFIRMED
LAST-MODIFIED:20171017T203013Z
DESCRIPTION:3eme ligue Jeunesse groupe unique\nBegegnungs-Nr: 38\nHeim: Vernier III\nGast: UGS-Chênois X\n
LOCATION:
CATEGORIES:Saison 2017/18
END:VEVENT
BEGIN:VEVENT
DTSTAMP:20260424T163229Z
DTSTART;TZID=Europe/Berlin:20171014T120000
DTEND;TZID=Europe/Berlin:20171014T150000
SUMMARY:L3 Jeunesse Silver Star IV vs UGS-Chênois X (26)
UID:6010be51-58ed-5356-e053-1fc7a80a74f7
STATUS:CONFIRMED
LAST-MODIFIED:20171017T202928Z
DESCRIPTION:3eme ligue Jeunesse groupe unique\nBegegnungs-Nr: 26\nHeim: Silver Star IV\nGast: UGS-Chênois X\n
LOCATION:
CATEGORIES:Saison 2017/18
END:VEVENT
END:VCALENDAR
