BEGIN:VCALENDAR
PRODID:-//nuDatenautomaten//framework iCal4j //DE
VERSION:2.0
CALSCALE:GREGORIAN
BEGIN:VTIMEZONE
TZID:Europe/Berlin
LAST-MODIFIED:20260306T231828Z
TZURL:https://www.tzurl.org/zoneinfo/Europe/Berlin
X-LIC-LOCATION:Europe/Berlin
X-PROLEPTIC-TZNAME:LMT
BEGIN:STANDARD
TZNAME:CET
TZOFFSETFROM:+005328
TZOFFSETTO:+0100
DTSTART:18930401T000000
END:STANDARD
BEGIN:DAYLIGHT
TZNAME:CEST
TZOFFSETFROM:+0100
TZOFFSETTO:+0200
DTSTART:19160430T230000
RDATE:19400401T020000
RDATE:19430329T020000
RDATE:19460414T020000
RDATE:19470406T030000
RDATE:19480418T020000
RDATE:19490410T020000
RDATE:19800406T020000
END:DAYLIGHT
BEGIN:STANDARD
TZNAME:CET
TZOFFSETFROM:+0200
TZOFFSETTO:+0100
DTSTART:19161001T010000
RDATE:19421102T030000
RDATE:19431004T030000
RDATE:19441002T030000
RDATE:19451118T030000
RDATE:19461007T030000
END:STANDARD
BEGIN:DAYLIGHT
TZNAME:CEST
TZOFFSETFROM:+0100
TZOFFSETTO:+0200
DTSTART:19170416T020000
RRULE:FREQ=YEARLY;UNTIL=19180415T010000Z;BYMONTH=4;BYDAY=3MO
END:DAYLIGHT
BEGIN:STANDARD
TZNAME:CET
TZOFFSETFROM:+0200
TZOFFSETTO:+0100
DTSTART:19170917T030000
RRULE:FREQ=YEARLY;UNTIL=19180916T010000Z;BYMONTH=9;BYDAY=3MO
END:STANDARD
BEGIN:DAYLIGHT
TZNAME:CEST
TZOFFSETFROM:+0100
TZOFFSETTO:+0200
DTSTART:19440403T020000
RRULE:FREQ=YEARLY;UNTIL=19450402T010000Z;BYMONTH=4;BYDAY=1MO
END:DAYLIGHT
BEGIN:DAYLIGHT
TZNAME:CEMT
TZOFFSETFROM:+0200
TZOFFSETTO:+0300
DTSTART:19450524T020000
RDATE:19470511T030000
END:DAYLIGHT
BEGIN:DAYLIGHT
TZNAME:CEST
TZOFFSETFROM:+0300
TZOFFSETTO:+0200
DTSTART:19450924T030000
RDATE:19470629T030000
END:DAYLIGHT
BEGIN:STANDARD
TZNAME:CET
TZOFFSETFROM:+0100
TZOFFSETTO:+0100
DTSTART:19460101T000000
RDATE:19800101T000000
END:STANDARD
BEGIN:STANDARD
TZNAME:CET
TZOFFSETFROM:+0200
TZOFFSETTO:+0100
DTSTART:19471005T030000
RRULE:FREQ=YEARLY;UNTIL=19491002T010000Z;BYMONTH=10;BYDAY=1SU
END:STANDARD
BEGIN:STANDARD
TZNAME:CET
TZOFFSETFROM:+0200
TZOFFSETTO:+0100
DTSTART:19800928T030000
RRULE:FREQ=YEARLY;UNTIL=19950924T010000Z;BYMONTH=9;BYDAY=-1SU
END:STANDARD
BEGIN:DAYLIGHT
TZNAME:CEST
TZOFFSETFROM:+0100
TZOFFSETTO:+0200
DTSTART:19810329T020000
RRULE:FREQ=YEARLY;BYMONTH=3;BYDAY=-1SU
END:DAYLIGHT
BEGIN:STANDARD
TZNAME:CET
TZOFFSETFROM:+0200
TZOFFSETTO:+0100
DTSTART:19961027T030000
RRULE:FREQ=YEARLY;BYMONTH=10;BYDAY=-1SU
END:STANDARD
END:VTIMEZONE
BEGIN:VEVENT
DTSTAMP:20260424T193419Z
DTSTART;TZID=Europe/Berlin:20170920T194500
DTEND;TZID=Europe/Berlin:20170920T224500
SUMMARY:HE 2. Liga Gr. 2 Solothurn II vs Kirchberg (4)
UID:6010be51-3c0c-5356-e053-1fc7a80a74f7
STATUS:CONFIRMED
LAST-MODIFIED:20170921T163704Z
DESCRIPTION:2. Liga Herren Gruppe 2\nBegegnungs-Nr: 4\nHeim: Solothurn II\nGast: Kirchberg\n\nAdresse: Untere Sternengasse 24\, 4500 Solothurn\n
LOCATION:Untere Sternengasse 24\, 4500 Solothurn
CATEGORIES:Saison 2017/18
END:VEVENT
BEGIN:VEVENT
DTSTAMP:20260424T193419Z
DTSTART;TZID=Europe/Berlin:20171117T200000
DTEND;TZID=Europe/Berlin:20171117T230000
SUMMARY:HE 2. Liga Gr. 2 Solothurn II vs Port II (33)
UID:6010be51-3c73-5356-e053-1fc7a80a74f7
STATUS:CONFIRMED
LAST-MODIFIED:20171118T122946Z
DESCRIPTION:2. Liga Herren Gruppe 2\nBegegnungs-Nr: 33\nHeim: Solothurn II\nGast: Port II\n\nAdresse: Untere Sternengasse 24\, 4500 Solothurn\n
LOCATION:Untere Sternengasse 24\, 4500 Solothurn
CATEGORIES:Saison 2017/18
END:VEVENT
BEGIN:VEVENT
DTSTAMP:20260424T193419Z
DTSTART;TZID=Europe/Berlin:20170922T200000
DTEND;TZID=Europe/Berlin:20170922T230000
SUMMARY:HE 2. Liga Gr. 2 Solothurn II vs Brügg (14)
UID:6010be51-3cb4-5356-e053-1fc7a80a74f7
STATUS:CONFIRMED
LAST-MODIFIED:20170923T091844Z
DESCRIPTION:2. Liga Herren Gruppe 2\nBegegnungs-Nr: 14\nHeim: Solothurn II\nGast: Brügg\n\nAdresse: Untere Sternengasse 24\, 4500 Solothurn\n
LOCATION:Untere Sternengasse 24\, 4500 Solothurn
CATEGORIES:Saison 2017/18
END:VEVENT
BEGIN:VEVENT
DTSTAMP:20260424T193419Z
DTSTART;TZID=Europe/Berlin:20180406T194500
DTEND;TZID=Europe/Berlin:20180406T224500
SUMMARY:HE 2. Liga Gr. 2 Solothurn II vs Belp (42)
UID:6010be51-3cf6-5356-e053-1fc7a80a74f7
STATUS:CONFIRMED
LAST-MODIFIED:20180408T061957Z
DESCRIPTION:2. Liga Herren Gruppe 2\nBegegnungs-Nr: 42\nHeim: Solothurn II\nGast: Belp\n\nAdresse: Untere Sternengasse 24\, 4500 Solothurn\n
LOCATION:Untere Sternengasse 24\, 4500 Solothurn
CATEGORIES:Saison 2017/18
END:VEVENT
BEGIN:VEVENT
DTSTAMP:20260424T193419Z
DTSTART;TZID=Europe/Berlin:20180316T200000
DTEND;TZID=Europe/Berlin:20180316T230000
SUMMARY:HE 2. Liga Gr. 2 Solothurn II vs Herzogenbuchsee (21)
UID:6010be51-3e1a-5356-e053-1fc7a80a74f7
STATUS:CONFIRMED
LAST-MODIFIED:20180316T230818Z
DESCRIPTION:2. Liga Herren Gruppe 2\nBegegnungs-Nr: 21\nHeim: Solothurn II\nGast: Herzogenbuchsee\n\nAdresse: Untere Sternengasse 24\, 4500 Solothurn\n
LOCATION:Untere Sternengasse 24\, 4500 Solothurn
CATEGORIES:Saison 2017/18
END:VEVENT
BEGIN:VEVENT
DTSTAMP:20260424T193419Z
DTSTART;TZID=Europe/Berlin:20180323T200000
DTEND;TZID=Europe/Berlin:20180323T230000
SUMMARY:HE 2. Liga Gr. 2 Solothurn II vs Burgdorf III (38)
UID:6010be51-3cfa-5356-e053-1fc7a80a74f7
STATUS:CONFIRMED
LAST-MODIFIED:20180324T060945Z
DESCRIPTION:2. Liga Herren Gruppe 2\nBegegnungs-Nr: 38\nHeim: Solothurn II\nGast: Burgdorf III\n\nAdresse: Untere Sternengasse 24\, 4500 Solothurn\n
LOCATION:Untere Sternengasse 24\, 4500 Solothurn
CATEGORIES:Saison 2017/18
END:VEVENT
BEGIN:VEVENT
DTSTAMP:20260424T193419Z
DTSTART;TZID=Europe/Berlin:20180117T194500
DTEND;TZID=Europe/Berlin:20180117T224500
SUMMARY:HE 2. Liga Gr. 2 Solothurn II vs Ostermundigen III (9)
UID:6010be51-3e4d-5356-e053-1fc7a80a74f7
STATUS:CONFIRMED
LAST-MODIFIED:20180119T191147Z
DESCRIPTION:2. Liga Herren Gruppe 2\nBegegnungs-Nr: 9\nHeim: Solothurn II\nGast: Ostermundigen III\n\nAdresse: Untere Sternengasse 24\, 4500 Solothurn\n
LOCATION:Untere Sternengasse 24\, 4500 Solothurn
CATEGORIES:Saison 2017/18
END:VEVENT
BEGIN:VEVENT
DTSTAMP:20260424T193419Z
DTSTART;TZID=Europe/Berlin:20180202T194500
DTEND;TZID=Europe/Berlin:20180202T224500
SUMMARY:HE 2. Liga Gr. 2 Solothurn II vs Lyss (19)
UID:6010be51-3e4e-5356-e053-1fc7a80a74f7
STATUS:CONFIRMED
LAST-MODIFIED:20180203T140002Z
DESCRIPTION:2. Liga Herren Gruppe 2\nBegegnungs-Nr: 19\nHeim: Solothurn II\nGast: Lyss\n\nAdresse: Untere Sternengasse 24\, 4500 Solothurn\n
LOCATION:Untere Sternengasse 24\, 4500 Solothurn
CATEGORIES:Saison 2017/18
END:VEVENT
BEGIN:VEVENT
DTSTAMP:20260424T193419Z
DTSTART;TZID=Europe/Berlin:20171025T194500
DTEND;TZID=Europe/Berlin:20171025T224500
SUMMARY:HE 2. Liga Gr. 2 Solothurn II vs Aarberg III (27)
UID:6010be51-5b05-5356-e053-1fc7a80a74f7
STATUS:CONFIRMED
LAST-MODIFIED:20171028T073019Z
DESCRIPTION:2. Liga Herren Gruppe 2\nBegegnungs-Nr: 27\nHeim: Solothurn II\nGast: Aarberg III\n\nAdresse: Untere Sternengasse 24\, 4500 Solothurn\n
LOCATION:Untere Sternengasse 24\, 4500 Solothurn
CATEGORIES:Saison 2017/18
END:VEVENT
BEGIN:VEVENT
DTSTAMP:20260424T193419Z
DTSTART;TZID=Europe/Berlin:20171212T200000
DTEND;TZID=Europe/Berlin:20171212T230000
SUMMARY:HE 2. Liga Gr. 2 Kirchberg vs Solothurn II (4)
UID:6010be51-3b63-5356-e053-1fc7a80a74f7
STATUS:CONFIRMED
LAST-MODIFIED:20171213T155358Z
DESCRIPTION:2. Liga Herren Gruppe 2\nBegegnungs-Nr: 4\nHeim: Kirchberg\nGast: Solothurn II\n\nAdresse: Reinhardweg\, 3422 Kirchberg\n
LOCATION:Reinhardweg\, 3422 Kirchberg
CATEGORIES:Saison 2017/18
END:VEVENT
BEGIN:VEVENT
DTSTAMP:20260424T193419Z
DTSTART;TZID=Europe/Berlin:20171125T160000
DTEND;TZID=Europe/Berlin:20171125T190000
SUMMARY:HE 2. Liga Gr. 2 Burgdorf III vs Solothurn II (38)
UID:6010be51-3c44-5356-e053-1fc7a80a74f7
STATUS:CONFIRMED
LAST-MODIFIED:20171127T173347Z
DESCRIPTION:2. Liga Herren Gruppe 2\nBegegnungs-Nr: 38\nHeim: Burgdorf III\nGast: Solothurn II\n\nAdresse: Pestalozzistrasse 69\, 3400 Burgdorf\n
LOCATION:Pestalozzistrasse 69\, 3400 Burgdorf
CATEGORIES:Saison 2017/18
END:VEVENT
BEGIN:VEVENT
DTSTAMP:20260424T193419Z
DTSTART;TZID=Europe/Berlin:20171027T200000
DTEND;TZID=Europe/Berlin:20171027T230000
SUMMARY:HE 2. Liga Gr. 2 Herzogenbuchsee vs Solothurn II (21)
UID:6010be51-3c7d-5356-e053-1fc7a80a74f7
STATUS:CONFIRMED
LAST-MODIFIED:20171027T214314Z
DESCRIPTION:2. Liga Herren Gruppe 2\nBegegnungs-Nr: 21\nHeim: Herzogenbuchsee\nGast: Solothurn II\n\nAdresse: Ringstrasse 10\, 3360 Herzogenbuchsee\n
LOCATION:Ringstrasse 10\, 3360 Herzogenbuchsee
CATEGORIES:Saison 2017/18
END:VEVENT
BEGIN:VEVENT
DTSTAMP:20260424T193419Z
DTSTART;TZID=Europe/Berlin:20171019T201500
DTEND;TZID=Europe/Berlin:20171019T231500
SUMMARY:HE 2. Liga Gr. 2 Lyss vs Solothurn II (19)
UID:6010be51-3c7f-5356-e053-1fc7a80a74f7
STATUS:CONFIRMED
LAST-MODIFIED:20171020T165453Z
DESCRIPTION:2. Liga Herren Gruppe 2\nBegegnungs-Nr: 19\nHeim: Lyss\nGast: Solothurn II\n\nAdresse: Stegmattweg 15-17\, 3250 Lyss\n
LOCATION:Stegmattweg 15-17\, 3250 Lyss
CATEGORIES:Saison 2017/18
END:VEVENT
BEGIN:VEVENT
DTSTAMP:20260424T193419Z
DTSTART;TZID=Europe/Berlin:20170908T193000
DTEND;TZID=Europe/Berlin:20170908T223000
SUMMARY:HE 2. Liga Gr. 2 Ostermundigen III vs Solothurn II (9)
UID:6010be51-3cb7-5356-e053-1fc7a80a74f7
STATUS:CONFIRMED
LAST-MODIFIED:20170910T172931Z
DESCRIPTION:2. Liga Herren Gruppe 2\nBegegnungs-Nr: 9\nHeim: Ostermundigen III\nGast: Solothurn II\n\nAdresse: Dennigkofenweg 169\, 3072 Ostermundigen\n
LOCATION:Dennigkofenweg 169\, 3072 Ostermundigen
CATEGORIES:Saison 2017/18
END:VEVENT
BEGIN:VEVENT
DTSTAMP:20260424T193419Z
DTSTART;TZID=Europe/Berlin:20180309T194500
DTEND;TZID=Europe/Berlin:20180309T224500
SUMMARY:HE 2. Liga Gr. 2 Port II vs Solothurn II (33)
UID:6010be51-3d35-5356-e053-1fc7a80a74f7
STATUS:CONFIRMED
LAST-MODIFIED:20180312T165605Z
DESCRIPTION:2. Liga Herren Gruppe 2\nBegegnungs-Nr: 33\nHeim: Port II\nGast: Solothurn II\n\nAdresse: Allmendstrasse 23\, 2562 Port\n
LOCATION:Allmendstrasse 23\, 2562 Port
CATEGORIES:Saison 2017/18
END:VEVENT
BEGIN:VEVENT
DTSTAMP:20260424T193419Z
DTSTART;TZID=Europe/Berlin:20180320T194500
DTEND;TZID=Europe/Berlin:20180320T224500
SUMMARY:HE 2. Liga Gr. 2 Aarberg III vs Solothurn II (27)
UID:6010be51-3da2-5356-e053-1fc7a80a74f7
STATUS:CONFIRMED
LAST-MODIFIED:20180322T175532Z
DESCRIPTION:2. Liga Herren Gruppe 2\nBegegnungs-Nr: 27\nHeim: Aarberg III\nGast: Solothurn II\n\nAdresse: Nidaustrasse 7\, 3270 Aarberg\n
LOCATION:Nidaustrasse 7\, 3270 Aarberg
CATEGORIES:Saison 2017/18
END:VEVENT
BEGIN:VEVENT
DTSTAMP:20260424T193419Z
DTSTART;TZID=Europe/Berlin:20180124T200000
DTEND;TZID=Europe/Berlin:20180124T230000
SUMMARY:HE 2. Liga Gr. 2 Brügg vs Solothurn II (14)
UID:6010be51-3e53-5356-e053-1fc7a80a74f7
STATUS:CONFIRMED
LAST-MODIFIED:20180125T162015Z
DESCRIPTION:2. Liga Herren Gruppe 2\nBegegnungs-Nr: 14\nHeim: Brügg\nGast: Solothurn II\n\nAdresse: Bärletweg 7\, 2555 Brügg\n
LOCATION:Bärletweg 7\, 2555 Brügg
CATEGORIES:Saison 2017/18
END:VEVENT
BEGIN:VEVENT
DTSTAMP:20260424T193419Z
DTSTART;TZID=Europe/Berlin:20171201T193000
DTEND;TZID=Europe/Berlin:20171201T223000
SUMMARY:HE 2. Liga Gr. 2 Belp vs Solothurn II (42)
UID:6010be51-5aeb-5356-e053-1fc7a80a74f7
STATUS:CONFIRMED
LAST-MODIFIED:20171202T185020Z
DESCRIPTION:2. Liga Herren Gruppe 2\nBegegnungs-Nr: 42\nHeim: Belp\nGast: Solothurn II\n\nAdresse: Neumattstrasse 39\, 3123 Belp\n
LOCATION:Neumattstrasse 39\, 3123 Belp
CATEGORIES:Saison 2017/18
END:VEVENT
END:VCALENDAR
