BEGIN:VCALENDAR
PRODID:-//nuDatenautomaten//framework iCal4j //DE
VERSION:2.0
CALSCALE:GREGORIAN
BEGIN:VTIMEZONE
TZID:Europe/Berlin
LAST-MODIFIED:20260306T231828Z
TZURL:https://www.tzurl.org/zoneinfo/Europe/Berlin
X-LIC-LOCATION:Europe/Berlin
X-PROLEPTIC-TZNAME:LMT
BEGIN:STANDARD
TZNAME:CET
TZOFFSETFROM:+005328
TZOFFSETTO:+0100
DTSTART:18930401T000000
END:STANDARD
BEGIN:DAYLIGHT
TZNAME:CEST
TZOFFSETFROM:+0100
TZOFFSETTO:+0200
DTSTART:19160430T230000
RDATE:19400401T020000
RDATE:19430329T020000
RDATE:19460414T020000
RDATE:19470406T030000
RDATE:19480418T020000
RDATE:19490410T020000
RDATE:19800406T020000
END:DAYLIGHT
BEGIN:STANDARD
TZNAME:CET
TZOFFSETFROM:+0200
TZOFFSETTO:+0100
DTSTART:19161001T010000
RDATE:19421102T030000
RDATE:19431004T030000
RDATE:19441002T030000
RDATE:19451118T030000
RDATE:19461007T030000
END:STANDARD
BEGIN:DAYLIGHT
TZNAME:CEST
TZOFFSETFROM:+0100
TZOFFSETTO:+0200
DTSTART:19170416T020000
RRULE:FREQ=YEARLY;UNTIL=19180415T010000Z;BYMONTH=4;BYDAY=3MO
END:DAYLIGHT
BEGIN:STANDARD
TZNAME:CET
TZOFFSETFROM:+0200
TZOFFSETTO:+0100
DTSTART:19170917T030000
RRULE:FREQ=YEARLY;UNTIL=19180916T010000Z;BYMONTH=9;BYDAY=3MO
END:STANDARD
BEGIN:DAYLIGHT
TZNAME:CEST
TZOFFSETFROM:+0100
TZOFFSETTO:+0200
DTSTART:19440403T020000
RRULE:FREQ=YEARLY;UNTIL=19450402T010000Z;BYMONTH=4;BYDAY=1MO
END:DAYLIGHT
BEGIN:DAYLIGHT
TZNAME:CEMT
TZOFFSETFROM:+0200
TZOFFSETTO:+0300
DTSTART:19450524T020000
RDATE:19470511T030000
END:DAYLIGHT
BEGIN:DAYLIGHT
TZNAME:CEST
TZOFFSETFROM:+0300
TZOFFSETTO:+0200
DTSTART:19450924T030000
RDATE:19470629T030000
END:DAYLIGHT
BEGIN:STANDARD
TZNAME:CET
TZOFFSETFROM:+0100
TZOFFSETTO:+0100
DTSTART:19460101T000000
RDATE:19800101T000000
END:STANDARD
BEGIN:STANDARD
TZNAME:CET
TZOFFSETFROM:+0200
TZOFFSETTO:+0100
DTSTART:19471005T030000
RRULE:FREQ=YEARLY;UNTIL=19491002T010000Z;BYMONTH=10;BYDAY=1SU
END:STANDARD
BEGIN:STANDARD
TZNAME:CET
TZOFFSETFROM:+0200
TZOFFSETTO:+0100
DTSTART:19800928T030000
RRULE:FREQ=YEARLY;UNTIL=19950924T010000Z;BYMONTH=9;BYDAY=-1SU
END:STANDARD
BEGIN:DAYLIGHT
TZNAME:CEST
TZOFFSETFROM:+0100
TZOFFSETTO:+0200
DTSTART:19810329T020000
RRULE:FREQ=YEARLY;BYMONTH=3;BYDAY=-1SU
END:DAYLIGHT
BEGIN:STANDARD
TZNAME:CET
TZOFFSETFROM:+0200
TZOFFSETTO:+0100
DTSTART:19961027T030000
RRULE:FREQ=YEARLY;BYMONTH=10;BYDAY=-1SU
END:STANDARD
END:VTIMEZONE
BEGIN:VEVENT
DTSTAMP:20260424T175737Z
DTSTART;TZID=Europe/Berlin:20180222T194500
DTEND;TZID=Europe/Berlin:20180222T224500
SUMMARY:He 3. Liga Gr. 1 Baar VI vs Zug IV (0)
UID:6010be51-3f26-5356-e053-1fc7a80a74f7
STATUS:CONFIRMED
LAST-MODIFIED:20180224T085221Z
DESCRIPTION:3. Liga Herren Gruppe 1\nBegegnungs-Nr: 0\nHeim: Baar VI\nGast: Zug IV\n\nAdresse: Rigistrasse 175/177\, 6340 Baar\n
LOCATION:Rigistrasse 175/177\, 6340 Baar
CATEGORIES:Saison 2017/18
END:VEVENT
BEGIN:VEVENT
DTSTAMP:20260424T175737Z
DTSTART;TZID=Europe/Berlin:20180322T194500
DTEND;TZID=Europe/Berlin:20180322T224500
SUMMARY:He 3. Liga Gr. 1 Baar VI vs Rotkreuz II (0)
UID:6010be51-3f29-5356-e053-1fc7a80a74f7
STATUS:CONFIRMED
LAST-MODIFIED:20180324T150807Z
DESCRIPTION:3. Liga Herren Gruppe 1\nBegegnungs-Nr: 0\nHeim: Baar VI\nGast: Rotkreuz II\n\nAdresse: Rigistrasse 175/177\, 6340 Baar\n
LOCATION:Rigistrasse 175/177\, 6340 Baar
CATEGORIES:Saison 2017/18
END:VEVENT
BEGIN:VEVENT
DTSTAMP:20260424T175737Z
DTSTART;TZID=Europe/Berlin:20171116T194500
DTEND;TZID=Europe/Berlin:20171116T224500
SUMMARY:He 3. Liga Gr. 1 Baar VI vs Rothenburg IV (0)
UID:6010be51-41b4-5356-e053-1fc7a80a74f7
STATUS:CONFIRMED
LAST-MODIFIED:20171119T121221Z
DESCRIPTION:3. Liga Herren Gruppe 1\nBegegnungs-Nr: 0\nHeim: Baar VI\nGast: Rothenburg IV\n\nAdresse: Rigistrasse 175/177\, 6340 Baar\n
LOCATION:Rigistrasse 175/177\, 6340 Baar
CATEGORIES:Saison 2017/18
END:VEVENT
BEGIN:VEVENT
DTSTAMP:20260424T175737Z
DTSTART;TZID=Europe/Berlin:20171026T194500
DTEND;TZID=Europe/Berlin:20171026T224500
SUMMARY:He 3. Liga Gr. 1 Baar VI vs Rapid Luzern VIII (0)
UID:6010be51-41b8-5356-e053-1fc7a80a74f7
STATUS:CONFIRMED
LAST-MODIFIED:20171101T114642Z
DESCRIPTION:3. Liga Herren Gruppe 1\nBegegnungs-Nr: 0\nHeim: Baar VI\nGast: Rapid Luzern VIII\n\nAdresse: Rigistrasse 175/177\, 6340 Baar\n
LOCATION:Rigistrasse 175/177\, 6340 Baar
CATEGORIES:Saison 2017/18
END:VEVENT
BEGIN:VEVENT
DTSTAMP:20260424T175737Z
DTSTART;TZID=Europe/Berlin:20171207T194500
DTEND;TZID=Europe/Berlin:20171207T224500
SUMMARY:He 3. Liga Gr. 1 Baar VI vs Willisau II (0)
UID:6010be51-4312-5356-e053-1fc7a80a74f7
STATUS:CONFIRMED
LAST-MODIFIED:20171213T175720Z
DESCRIPTION:3. Liga Herren Gruppe 1\nBegegnungs-Nr: 0\nHeim: Baar VI\nGast: Willisau II\n\nAdresse: Rigistrasse 175/177\, 6340 Baar\n
LOCATION:Rigistrasse 175/177\, 6340 Baar
CATEGORIES:Saison 2017/18
END:VEVENT
BEGIN:VEVENT
DTSTAMP:20260424T175737Z
DTSTART;TZID=Europe/Berlin:20180111T194500
DTEND;TZID=Europe/Berlin:20180111T224500
SUMMARY:He 3. Liga Gr. 1 Baar VI vs Dierikon-Ebikon II (0)
UID:6010be51-4317-5356-e053-1fc7a80a74f7
STATUS:CONFIRMED
LAST-MODIFIED:20180115T072046Z
DESCRIPTION:3. Liga Herren Gruppe 1\nBegegnungs-Nr: 0\nHeim: Baar VI\nGast: Dierikon-Ebikon II\n\nAdresse: Rigistrasse 175/177\, 6340 Baar\n
LOCATION:Rigistrasse 175/177\, 6340 Baar
CATEGORIES:Saison 2017/18
END:VEVENT
BEGIN:VEVENT
DTSTAMP:20260424T175737Z
DTSTART;TZID=Europe/Berlin:20171024T201500
DTEND;TZID=Europe/Berlin:20171024T231500
SUMMARY:He 3. Liga Gr. 1 Dierikon-Ebikon II vs Baar VI (0)
UID:6010be51-56ec-5356-e053-1fc7a80a74f7
STATUS:CONFIRMED
LAST-MODIFIED:20171027T102254Z
DESCRIPTION:3. Liga Herren Gruppe 1\nBegegnungs-Nr: 0\nHeim: Dierikon-Ebikon II\nGast: Baar VI\n\nAdresse: Rankstrasse\, 6030 Ebikon\n
LOCATION:Rankstrasse\, 6030 Ebikon
CATEGORIES:Saison 2017/18
END:VEVENT
BEGIN:VEVENT
DTSTAMP:20260424T175737Z
DTSTART;TZID=Europe/Berlin:20171115T200000
DTEND;TZID=Europe/Berlin:20171115T230000
SUMMARY:He 3. Liga Gr. 1 Zug IV vs Baar VI (0)
UID:6010be51-57bd-5356-e053-1fc7a80a74f7
STATUS:CONFIRMED
LAST-MODIFIED:20171119T121156Z
DESCRIPTION:3. Liga Herren Gruppe 1\nBegegnungs-Nr: 0\nHeim: Zug IV\nGast: Baar VI\n\nAdresse: Lüssiweg 24\, 6300 Zug\n
LOCATION:Lüssiweg 24\, 6300 Zug
CATEGORIES:Saison 2017/18
END:VEVENT
BEGIN:VEVENT
DTSTAMP:20260424T175737Z
DTSTART;TZID=Europe/Berlin:20180409T194500
DTEND;TZID=Europe/Berlin:20180409T224500
SUMMARY:He 3. Liga ES Reussbühl III vs Baar VI (0)
UID:cb714b10-1c23-4ac1-aa7d-fecad978453a
STATUS:CONFIRMED
LAST-MODIFIED:20180415T112552Z
DESCRIPTION:3. Liga Herren Entscheidungsspiele\nBegegnungs-Nr: 0\nHeim: Reussbühl III\nGast: Baar VI\n
LOCATION:
CATEGORIES:Saison 2017/18
END:VEVENT
BEGIN:VEVENT
DTSTAMP:20260424T175737Z
DTSTART;TZID=Europe/Berlin:20180206T200000
DTEND;TZID=Europe/Berlin:20180206T230000
SUMMARY:He 3. Liga Gr. 1 Rapid Luzern VIII vs Baar VI (0)
UID:6010be51-3f1c-5356-e053-1fc7a80a74f7
STATUS:CONFIRMED
LAST-MODIFIED:20180214T101615Z
DESCRIPTION:3. Liga Herren Gruppe 1\nBegegnungs-Nr: 0\nHeim: Rapid Luzern VIII\nGast: Baar VI\n\nAdresse: Kreuzbuchstr. 60\, 6006 Luzern\n
LOCATION:Kreuzbuchstr. 60\, 6006 Luzern
CATEGORIES:Saison 2017/18
END:VEVENT
BEGIN:VEVENT
DTSTAMP:20260424T175737Z
DTSTART;TZID=Europe/Berlin:20170911T194500
DTEND;TZID=Europe/Berlin:20170911T224500
SUMMARY:He 3. Liga Gr. 1 Willisau II vs Baar VI (0)
UID:6010be51-5a81-5356-e053-1fc7a80a74f7
STATUS:CONFIRMED
LAST-MODIFIED:20171210T164538Z
DESCRIPTION:3. Liga Herren Gruppe 1\nBegegnungs-Nr: 0\nHeim: Willisau II\nGast: Baar VI\n\nAdresse: Berufsbildung-Zentrum\, 6130 Willisau\n
LOCATION:Berufsbildung-Zentrum\, 6130 Willisau
CATEGORIES:Saison 2017/18
END:VEVENT
BEGIN:VEVENT
DTSTAMP:20260424T175737Z
DTSTART;TZID=Europe/Berlin:20171128T201500
DTEND;TZID=Europe/Berlin:20171128T231500
SUMMARY:He 3. Liga Gr. 1 Rotkreuz II vs Baar VI (0)
UID:6010be51-5bba-5356-e053-1fc7a80a74f7
STATUS:CONFIRMED
LAST-MODIFIED:20171201T130040Z
DESCRIPTION:3. Liga Herren Gruppe 1\nBegegnungs-Nr: 0\nHeim: Rotkreuz II\nGast: Baar VI\n\nAdresse: Buonaserstr. 23\, 6343 Rotkreuz\n
LOCATION:Buonaserstr. 23\, 6343 Rotkreuz
CATEGORIES:Saison 2017/18
END:VEVENT
BEGIN:VEVENT
DTSTAMP:20260424T175737Z
DTSTART;TZID=Europe/Berlin:20180123T200000
DTEND;TZID=Europe/Berlin:20180123T230000
SUMMARY:He 3. Liga Gr. 1 Rothenburg IV vs Baar VI (0)
UID:6010be51-4316-5356-e053-1fc7a80a74f7
STATUS:CONFIRMED
LAST-MODIFIED:20180127T153146Z
DESCRIPTION:3. Liga Herren Gruppe 1\nBegegnungs-Nr: 0\nHeim: Rothenburg IV\nGast: Baar VI\n\nAdresse: Schulhausstrasse 6a\, 6023 Rothenburg\n
LOCATION:Schulhausstrasse 6a\, 6023 Rothenburg
CATEGORIES:Saison 2017/18
END:VEVENT
END:VCALENDAR
