BEGIN:VCALENDAR
PRODID:-//nuDatenautomaten//framework iCal4j //DE
VERSION:2.0
CALSCALE:GREGORIAN
BEGIN:VTIMEZONE
TZID:Europe/Berlin
LAST-MODIFIED:20260306T231828Z
TZURL:https://www.tzurl.org/zoneinfo/Europe/Berlin
X-LIC-LOCATION:Europe/Berlin
X-PROLEPTIC-TZNAME:LMT
BEGIN:STANDARD
TZNAME:CET
TZOFFSETFROM:+005328
TZOFFSETTO:+0100
DTSTART:18930401T000000
END:STANDARD
BEGIN:DAYLIGHT
TZNAME:CEST
TZOFFSETFROM:+0100
TZOFFSETTO:+0200
DTSTART:19160430T230000
RDATE:19400401T020000
RDATE:19430329T020000
RDATE:19460414T020000
RDATE:19470406T030000
RDATE:19480418T020000
RDATE:19490410T020000
RDATE:19800406T020000
END:DAYLIGHT
BEGIN:STANDARD
TZNAME:CET
TZOFFSETFROM:+0200
TZOFFSETTO:+0100
DTSTART:19161001T010000
RDATE:19421102T030000
RDATE:19431004T030000
RDATE:19441002T030000
RDATE:19451118T030000
RDATE:19461007T030000
END:STANDARD
BEGIN:DAYLIGHT
TZNAME:CEST
TZOFFSETFROM:+0100
TZOFFSETTO:+0200
DTSTART:19170416T020000
RRULE:FREQ=YEARLY;UNTIL=19180415T010000Z;BYMONTH=4;BYDAY=3MO
END:DAYLIGHT
BEGIN:STANDARD
TZNAME:CET
TZOFFSETFROM:+0200
TZOFFSETTO:+0100
DTSTART:19170917T030000
RRULE:FREQ=YEARLY;UNTIL=19180916T010000Z;BYMONTH=9;BYDAY=3MO
END:STANDARD
BEGIN:DAYLIGHT
TZNAME:CEST
TZOFFSETFROM:+0100
TZOFFSETTO:+0200
DTSTART:19440403T020000
RRULE:FREQ=YEARLY;UNTIL=19450402T010000Z;BYMONTH=4;BYDAY=1MO
END:DAYLIGHT
BEGIN:DAYLIGHT
TZNAME:CEMT
TZOFFSETFROM:+0200
TZOFFSETTO:+0300
DTSTART:19450524T020000
RDATE:19470511T030000
END:DAYLIGHT
BEGIN:DAYLIGHT
TZNAME:CEST
TZOFFSETFROM:+0300
TZOFFSETTO:+0200
DTSTART:19450924T030000
RDATE:19470629T030000
END:DAYLIGHT
BEGIN:STANDARD
TZNAME:CET
TZOFFSETFROM:+0100
TZOFFSETTO:+0100
DTSTART:19460101T000000
RDATE:19800101T000000
END:STANDARD
BEGIN:STANDARD
TZNAME:CET
TZOFFSETFROM:+0200
TZOFFSETTO:+0100
DTSTART:19471005T030000
RRULE:FREQ=YEARLY;UNTIL=19491002T010000Z;BYMONTH=10;BYDAY=1SU
END:STANDARD
BEGIN:STANDARD
TZNAME:CET
TZOFFSETFROM:+0200
TZOFFSETTO:+0100
DTSTART:19800928T030000
RRULE:FREQ=YEARLY;UNTIL=19950924T010000Z;BYMONTH=9;BYDAY=-1SU
END:STANDARD
BEGIN:DAYLIGHT
TZNAME:CEST
TZOFFSETFROM:+0100
TZOFFSETTO:+0200
DTSTART:19810329T020000
RRULE:FREQ=YEARLY;BYMONTH=3;BYDAY=-1SU
END:DAYLIGHT
BEGIN:STANDARD
TZNAME:CET
TZOFFSETFROM:+0200
TZOFFSETTO:+0100
DTSTART:19961027T030000
RRULE:FREQ=YEARLY;BYMONTH=10;BYDAY=-1SU
END:STANDARD
END:VTIMEZONE
BEGIN:VEVENT
DTSTAMP:20260424T181548Z
DTSTART;TZID=Europe/Berlin:20171114T194500
DTEND;TZID=Europe/Berlin:20171114T224500
SUMMARY:HE 3. Liga Gr. 4 Port III vs Burgdorf V (33)
UID:6010be51-3bb4-5356-e053-1fc7a80a74f7
STATUS:CONFIRMED
LAST-MODIFIED:20171115T113907Z
DESCRIPTION:3. Liga Herren Gruppe 4\nBegegnungs-Nr: 33\nHeim: Port III\nGast: Burgdorf V\n\nAdresse: Allmendstrasse 23\, 2562 Port\n
LOCATION:Allmendstrasse 23\, 2562 Port
CATEGORIES:Saison 2017/18
END:VEVENT
BEGIN:VEVENT
DTSTAMP:20260424T181548Z
DTSTART;TZID=Europe/Berlin:20180220T194500
DTEND;TZID=Europe/Berlin:20180220T224500
SUMMARY:HE 3. Liga Gr. 4 Port III vs Grenchen (21)
UID:6010be51-3bb7-5356-e053-1fc7a80a74f7
STATUS:CONFIRMED
LAST-MODIFIED:20180222T192155Z
DESCRIPTION:3. Liga Herren Gruppe 4\nBegegnungs-Nr: 21\nHeim: Port III\nGast: Grenchen\n\nAdresse: Allmendstrasse 23\, 2562 Port\n
LOCATION:Allmendstrasse 23\, 2562 Port
CATEGORIES:Saison 2017/18
END:VEVENT
BEGIN:VEVENT
DTSTAMP:20260424T181548Z
DTSTART;TZID=Europe/Berlin:20171031T194500
DTEND;TZID=Europe/Berlin:20171031T224500
SUMMARY:HE 3. Liga Gr. 4 Port III vs Pieterlen (27)
UID:6010be51-3be8-5356-e053-1fc7a80a74f7
STATUS:CONFIRMED
LAST-MODIFIED:20171104T172731Z
DESCRIPTION:3. Liga Herren Gruppe 4\nBegegnungs-Nr: 27\nHeim: Port III\nGast: Pieterlen\n\nAdresse: Allmendstrasse 23\, 2562 Port\n
LOCATION:Allmendstrasse 23\, 2562 Port
CATEGORIES:Saison 2017/18
END:VEVENT
BEGIN:VEVENT
DTSTAMP:20260424T181548Z
DTSTART;TZID=Europe/Berlin:20180116T194500
DTEND;TZID=Europe/Berlin:20180116T224500
SUMMARY:HE 3. Liga Gr. 4 Port III vs Lyss III (9)
UID:6010be51-3bfa-5356-e053-1fc7a80a74f7
STATUS:CONFIRMED
LAST-MODIFIED:20180117T165446Z
DESCRIPTION:3. Liga Herren Gruppe 4\nBegegnungs-Nr: 9\nHeim: Port III\nGast: Lyss III\n\nAdresse: Allmendstrasse 23\, 2562 Port\n
LOCATION:Allmendstrasse 23\, 2562 Port
CATEGORIES:Saison 2017/18
END:VEVENT
BEGIN:VEVENT
DTSTAMP:20260424T181548Z
DTSTART;TZID=Europe/Berlin:20171215T194500
DTEND;TZID=Europe/Berlin:20171215T224500
SUMMARY:HE 3. Liga Gr. 4 Port III vs Solothurn IV (4)
UID:6010be51-3bfe-5356-e053-1fc7a80a74f7
STATUS:CONFIRMED
LAST-MODIFIED:20171217T070908Z
DESCRIPTION:3. Liga Herren Gruppe 4\nBegegnungs-Nr: 4\nHeim: Port III\nGast: Solothurn IV\n\nAdresse: Allmendstrasse 23\, 2562 Port\n
LOCATION:Allmendstrasse 23\, 2562 Port
CATEGORIES:Saison 2017/18
END:VEVENT
BEGIN:VEVENT
DTSTAMP:20260424T181548Z
DTSTART;TZID=Europe/Berlin:20180320T194500
DTEND;TZID=Europe/Berlin:20180320T224500
SUMMARY:HE 3. Liga Gr. 4 Port III vs Brügg II (38)
UID:6010be51-3b7a-5356-e053-1fc7a80a74f7
STATUS:CONFIRMED
LAST-MODIFIED:20180322T175727Z
DESCRIPTION:3. Liga Herren Gruppe 4\nBegegnungs-Nr: 38\nHeim: Port III\nGast: Brügg II\n\nAdresse: Allmendstrasse 23\, 2562 Port\n
LOCATION:Allmendstrasse 23\, 2562 Port
CATEGORIES:Saison 2017/18
END:VEVENT
BEGIN:VEVENT
DTSTAMP:20260424T181548Z
DTSTART;TZID=Europe/Berlin:20180206T194500
DTEND;TZID=Europe/Berlin:20180206T224500
SUMMARY:HE 3. Liga Gr. 4 Port III vs Regio Moossee (19)
UID:6010be51-3bf0-5356-e053-1fc7a80a74f7
STATUS:CONFIRMED
LAST-MODIFIED:20180208T160741Z
DESCRIPTION:3. Liga Herren Gruppe 4\nBegegnungs-Nr: 19\nHeim: Port III\nGast: Regio Moossee\n\nAdresse: Allmendstrasse 23\, 2562 Port\n
LOCATION:Allmendstrasse 23\, 2562 Port
CATEGORIES:Saison 2017/18
END:VEVENT
BEGIN:VEVENT
DTSTAMP:20260424T181548Z
DTSTART;TZID=Europe/Berlin:20180518T194500
DTEND;TZID=Europe/Berlin:20180518T224500
SUMMARY:HE 3. Liga Final Port III vs Langnau (1)
UID:e3fe5c2c-346d-44f4-8cbd-103a5f3505f4
STATUS:CONFIRMED
LAST-MODIFIED:20180519T102701Z
DESCRIPTION:3. Liga Herren Finalrunde\nBegegnungs-Nr: 1\nHeim: Port III\nGast: Langnau\n
LOCATION:
CATEGORIES:Saison 2017/18
END:VEVENT
BEGIN:VEVENT
DTSTAMP:20260424T181548Z
DTSTART;TZID=Europe/Berlin:20180424T194500
DTEND;TZID=Europe/Berlin:20180424T224500
SUMMARY:HE 3. Liga Final Port III vs Royal Bern (5)
UID:9230ff29-3b0c-4b3c-a816-3fe26b1084b5
STATUS:CONFIRMED
LAST-MODIFIED:20180425T175446Z
DESCRIPTION:3. Liga Herren Finalrunde\nBegegnungs-Nr: 5\nHeim: Port III\nGast: Royal Bern\n\nAdresse: Allmendstrasse 23\, 2562 Port\n
LOCATION:Allmendstrasse 23\, 2562 Port
CATEGORIES:Saison 2017/18
END:VEVENT
BEGIN:VEVENT
DTSTAMP:20260424T181548Z
DTSTART;TZID=Europe/Berlin:20170919T194500
DTEND;TZID=Europe/Berlin:20170919T224500
SUMMARY:HE 3. Liga Gr. 4 Port III vs Aarberg IV (14)
UID:6010be51-3eac-5356-e053-1fc7a80a74f7
STATUS:CONFIRMED
LAST-MODIFIED:20170921T163923Z
DESCRIPTION:3. Liga Herren Gruppe 4\nBegegnungs-Nr: 14\nHeim: Port III\nGast: Aarberg IV\n\nAdresse: Allmendstrasse 23\, 2562 Port\n
LOCATION:Allmendstrasse 23\, 2562 Port
CATEGORIES:Saison 2017/18
END:VEVENT
BEGIN:VEVENT
DTSTAMP:20260424T181548Z
DTSTART;TZID=Europe/Berlin:20180130T194500
DTEND;TZID=Europe/Berlin:20180130T224500
SUMMARY:HE 3. Liga Gr. 4 Port III vs Langenthal II (42)
UID:6010be51-3ee6-5356-e053-1fc7a80a74f7
STATUS:CONFIRMED
LAST-MODIFIED:20180131T160926Z
DESCRIPTION:3. Liga Herren Gruppe 4\nBegegnungs-Nr: 42\nHeim: Port III\nGast: Langenthal II\n\nAdresse: Allmendstrasse 23\, 2562 Port\n
LOCATION:Allmendstrasse 23\, 2562 Port
CATEGORIES:Saison 2017/18
END:VEVENT
BEGIN:VEVENT
DTSTAMP:20260424T181548Z
DTSTART;TZID=Europe/Berlin:20170905T201500
DTEND;TZID=Europe/Berlin:20170905T231500
SUMMARY:HE 3. Liga Gr. 4 Lyss III vs Port III (9)
UID:6010be51-3b72-5356-e053-1fc7a80a74f7
STATUS:CONFIRMED
LAST-MODIFIED:20170906T162822Z
DESCRIPTION:3. Liga Herren Gruppe 4\nBegegnungs-Nr: 9\nHeim: Lyss III\nGast: Port III\n\nAdresse: Stegmattweg 15-17\, 3250 Lyss\n
LOCATION:Stegmattweg 15-17\, 3250 Lyss
CATEGORIES:Saison 2017/18
END:VEVENT
BEGIN:VEVENT
DTSTAMP:20260424T181548Z
DTSTART;TZID=Europe/Berlin:20170929T200000
DTEND;TZID=Europe/Berlin:20170929T230000
SUMMARY:HE 3. Liga Gr. 4 Solothurn IV vs Port III (4)
UID:6010be51-3b75-5356-e053-1fc7a80a74f7
STATUS:CONFIRMED
LAST-MODIFIED:20170930T065747Z
DESCRIPTION:3. Liga Herren Gruppe 4\nBegegnungs-Nr: 4\nHeim: Solothurn IV\nGast: Port III\n\nAdresse: Untere Sternengasse 24\, 4500 Solothurn\n
LOCATION:Untere Sternengasse 24\, 4500 Solothurn
CATEGORIES:Saison 2017/18
END:VEVENT
BEGIN:VEVENT
DTSTAMP:20260424T181548Z
DTSTART;TZID=Europe/Berlin:20180309T193000
DTEND;TZID=Europe/Berlin:20180309T223000
SUMMARY:HE 3. Liga Gr. 4 Burgdorf V vs Port III (33)
UID:6010be51-3b7f-5356-e053-1fc7a80a74f7
STATUS:CONFIRMED
LAST-MODIFIED:20180310T184919Z
DESCRIPTION:3. Liga Herren Gruppe 4\nBegegnungs-Nr: 33\nHeim: Burgdorf V\nGast: Port III\n\nAdresse: Pestalozzistrasse 69\, 3400 Burgdorf\n
LOCATION:Pestalozzistrasse 69\, 3400 Burgdorf
CATEGORIES:Saison 2017/18
END:VEVENT
BEGIN:VEVENT
DTSTAMP:20260424T181548Z
DTSTART;TZID=Europe/Berlin:20180301T200000
DTEND;TZID=Europe/Berlin:20180301T230000
SUMMARY:HE 3. Liga Gr. 4 Pieterlen vs Port III (27)
UID:6010be51-3b84-5356-e053-1fc7a80a74f7
STATUS:CONFIRMED
LAST-MODIFIED:20180302T202002Z
DESCRIPTION:3. Liga Herren Gruppe 4\nBegegnungs-Nr: 27\nHeim: Pieterlen\nGast: Port III\n\nAdresse: Bielstrasse 9\, 2542 Pieterlen\n
LOCATION:Bielstrasse 9\, 2542 Pieterlen
CATEGORIES:Saison 2017/18
END:VEVENT
BEGIN:VEVENT
DTSTAMP:20260424T181548Z
DTSTART;TZID=Europe/Berlin:20171206T200000
DTEND;TZID=Europe/Berlin:20171206T230000
SUMMARY:HE 3. Liga Gr. 4 Langenthal II vs Port III (42)
UID:6010be51-3bab-5356-e053-1fc7a80a74f7
STATUS:CONFIRMED
LAST-MODIFIED:20171208T161705Z
DESCRIPTION:3. Liga Herren Gruppe 4\nBegegnungs-Nr: 42\nHeim: Langenthal II\nGast: Port III\n\nAdresse: Weststrasse 29\, 4900 Langenthal\n
LOCATION:Weststrasse 29\, 4900 Langenthal
CATEGORIES:Saison 2017/18
END:VEVENT
BEGIN:VEVENT
DTSTAMP:20260424T181548Z
DTSTART;TZID=Europe/Berlin:20171120T200000
DTEND;TZID=Europe/Berlin:20171120T230000
SUMMARY:HE 3. Liga Gr. 4 Brügg II vs Port III (38)
UID:6010be51-3baf-5356-e053-1fc7a80a74f7
STATUS:CONFIRMED
LAST-MODIFIED:20171122T151505Z
DESCRIPTION:3. Liga Herren Gruppe 4\nBegegnungs-Nr: 38\nHeim: Brügg II\nGast: Port III\n\nAdresse: Bärletweg 7\, 2555 Brügg\n
LOCATION:Bärletweg 7\, 2555 Brügg
CATEGORIES:Saison 2017/18
END:VEVENT
BEGIN:VEVENT
DTSTAMP:20260424T181548Z
DTSTART;TZID=Europe/Berlin:20180119T194500
DTEND;TZID=Europe/Berlin:20180119T224500
SUMMARY:HE 3. Liga Gr. 4 Aarberg IV vs Port III (14)
UID:6010be51-3bf5-5356-e053-1fc7a80a74f7
STATUS:CONFIRMED
LAST-MODIFIED:20180120T092237Z
DESCRIPTION:3. Liga Herren Gruppe 4\nBegegnungs-Nr: 14\nHeim: Aarberg IV\nGast: Port III\n\nAdresse: Nidaustrasse 7\, 3270 Aarberg\n
LOCATION:Nidaustrasse 7\, 3270 Aarberg
CATEGORIES:Saison 2017/18
END:VEVENT
BEGIN:VEVENT
DTSTAMP:20260424T181548Z
DTSTART;TZID=Europe/Berlin:20180426T194500
DTEND;TZID=Europe/Berlin:20180426T224500
SUMMARY:HE 3. Liga Final Heimberg III vs Port III (4)
UID:49951429-82c8-4f76-8cb1-bc7d356a811b
STATUS:CONFIRMED
LAST-MODIFIED:20180501T173222Z
DESCRIPTION:3. Liga Herren Finalrunde\nBegegnungs-Nr: 4\nHeim: Heimberg III\nGast: Port III\n
LOCATION:
CATEGORIES:Saison 2017/18
END:VEVENT
BEGIN:VEVENT
DTSTAMP:20260424T181548Z
DTSTART;TZID=Europe/Berlin:20171013T200000
DTEND;TZID=Europe/Berlin:20171013T230000
SUMMARY:HE 3. Liga Gr. 4 Regio Moossee vs Port III (19)
UID:6010be51-3ea8-5356-e053-1fc7a80a74f7
STATUS:CONFIRMED
LAST-MODIFIED:20171016T143556Z
DESCRIPTION:3. Liga Herren Gruppe 4\nBegegnungs-Nr: 19\nHeim: Regio Moossee\nGast: Port III\n\nAdresse: Schulhausstrasse 23-25\, 3302 Moosseedorf\n
LOCATION:Schulhausstrasse 23-25\, 3302 Moosseedorf
CATEGORIES:Saison 2017/18
END:VEVENT
BEGIN:VEVENT
DTSTAMP:20260424T181548Z
DTSTART;TZID=Europe/Berlin:20171117T200000
DTEND;TZID=Europe/Berlin:20171117T230000
SUMMARY:HE 3. Liga Gr. 4 Grenchen vs Port III (21)
UID:6010be51-5824-5356-e053-1fc7a80a74f7
STATUS:CONFIRMED
LAST-MODIFIED:20171120T173135Z
DESCRIPTION:3. Liga Herren Gruppe 4\nBegegnungs-Nr: 21\nHeim: Grenchen\nGast: Port III\n\nAdresse: Witmattstrasse\, 2540 Grenchen\n
LOCATION:Witmattstrasse\, 2540 Grenchen
CATEGORIES:Saison 2017/18
END:VEVENT
END:VCALENDAR
