BEGIN:VCALENDAR
PRODID:-//nuDatenautomaten//framework iCal4j //DE
VERSION:2.0
CALSCALE:GREGORIAN
BEGIN:VTIMEZONE
TZID:Europe/Berlin
LAST-MODIFIED:20260306T231828Z
TZURL:https://www.tzurl.org/zoneinfo/Europe/Berlin
X-LIC-LOCATION:Europe/Berlin
X-PROLEPTIC-TZNAME:LMT
BEGIN:STANDARD
TZNAME:CET
TZOFFSETFROM:+005328
TZOFFSETTO:+0100
DTSTART:18930401T000000
END:STANDARD
BEGIN:DAYLIGHT
TZNAME:CEST
TZOFFSETFROM:+0100
TZOFFSETTO:+0200
DTSTART:19160430T230000
RDATE:19400401T020000
RDATE:19430329T020000
RDATE:19460414T020000
RDATE:19470406T030000
RDATE:19480418T020000
RDATE:19490410T020000
RDATE:19800406T020000
END:DAYLIGHT
BEGIN:STANDARD
TZNAME:CET
TZOFFSETFROM:+0200
TZOFFSETTO:+0100
DTSTART:19161001T010000
RDATE:19421102T030000
RDATE:19431004T030000
RDATE:19441002T030000
RDATE:19451118T030000
RDATE:19461007T030000
END:STANDARD
BEGIN:DAYLIGHT
TZNAME:CEST
TZOFFSETFROM:+0100
TZOFFSETTO:+0200
DTSTART:19170416T020000
RRULE:FREQ=YEARLY;UNTIL=19180415T010000Z;BYMONTH=4;BYDAY=3MO
END:DAYLIGHT
BEGIN:STANDARD
TZNAME:CET
TZOFFSETFROM:+0200
TZOFFSETTO:+0100
DTSTART:19170917T030000
RRULE:FREQ=YEARLY;UNTIL=19180916T010000Z;BYMONTH=9;BYDAY=3MO
END:STANDARD
BEGIN:DAYLIGHT
TZNAME:CEST
TZOFFSETFROM:+0100
TZOFFSETTO:+0200
DTSTART:19440403T020000
RRULE:FREQ=YEARLY;UNTIL=19450402T010000Z;BYMONTH=4;BYDAY=1MO
END:DAYLIGHT
BEGIN:DAYLIGHT
TZNAME:CEMT
TZOFFSETFROM:+0200
TZOFFSETTO:+0300
DTSTART:19450524T020000
RDATE:19470511T030000
END:DAYLIGHT
BEGIN:DAYLIGHT
TZNAME:CEST
TZOFFSETFROM:+0300
TZOFFSETTO:+0200
DTSTART:19450924T030000
RDATE:19470629T030000
END:DAYLIGHT
BEGIN:STANDARD
TZNAME:CET
TZOFFSETFROM:+0100
TZOFFSETTO:+0100
DTSTART:19460101T000000
RDATE:19800101T000000
END:STANDARD
BEGIN:STANDARD
TZNAME:CET
TZOFFSETFROM:+0200
TZOFFSETTO:+0100
DTSTART:19471005T030000
RRULE:FREQ=YEARLY;UNTIL=19491002T010000Z;BYMONTH=10;BYDAY=1SU
END:STANDARD
BEGIN:STANDARD
TZNAME:CET
TZOFFSETFROM:+0200
TZOFFSETTO:+0100
DTSTART:19800928T030000
RRULE:FREQ=YEARLY;UNTIL=19950924T010000Z;BYMONTH=9;BYDAY=-1SU
END:STANDARD
BEGIN:DAYLIGHT
TZNAME:CEST
TZOFFSETFROM:+0100
TZOFFSETTO:+0200
DTSTART:19810329T020000
RRULE:FREQ=YEARLY;BYMONTH=3;BYDAY=-1SU
END:DAYLIGHT
BEGIN:STANDARD
TZNAME:CET
TZOFFSETFROM:+0200
TZOFFSETTO:+0100
DTSTART:19961027T030000
RRULE:FREQ=YEARLY;BYMONTH=10;BYDAY=-1SU
END:STANDARD
END:VTIMEZONE
BEGIN:VEVENT
DTSTAMP:20260424T163223Z
DTSTART;TZID=Europe/Berlin:20171031T193000
DTEND;TZID=Europe/Berlin:20171031T223000
SUMMARY:HE 5. Liga Gr. 2 Copains Birsfelden III vs Liebrüti II (0)
UID:6010be51-447a-5356-e053-1fc7a80a74f7
STATUS:CONFIRMED
LAST-MODIFIED:20171102T120241Z
DESCRIPTION:5. Liga Herren Gruppe 2\nBegegnungs-Nr: 0\nHeim: Copains Birsfelden III\nGast: Liebrüti II\n\nAdresse: Wartenbergstrasse (Hintereingang)\, 4127 Birsfelden\n
LOCATION:Wartenbergstrasse (Hintereingang)\, 4127 Birsfelden
CATEGORIES:Saison 2017/18
END:VEVENT
BEGIN:VEVENT
DTSTAMP:20260424T163223Z
DTSTART;TZID=Europe/Berlin:20170822T193000
DTEND;TZID=Europe/Berlin:20170822T223000
SUMMARY:HE 5. Liga Gr. 2 Copains Birsfelden III vs Diepflingen (0)
UID:6010be51-449a-5356-e053-1fc7a80a74f7
STATUS:CONFIRMED
LAST-MODIFIED:20170828T075025Z
DESCRIPTION:5. Liga Herren Gruppe 2\nBegegnungs-Nr: 0\nHeim: Copains Birsfelden III\nGast: Diepflingen\n\nAdresse: Wartenbergstrasse (Hintereingang)\, 4127 Birsfelden\n
LOCATION:Wartenbergstrasse (Hintereingang)\, 4127 Birsfelden
CATEGORIES:Saison 2017/18
END:VEVENT
BEGIN:VEVENT
DTSTAMP:20260424T163223Z
DTSTART;TZID=Europe/Berlin:20170919T193000
DTEND;TZID=Europe/Berlin:20170919T223000
SUMMARY:HE 5. Liga Gr. 2 Copains Birsfelden III vs Wettstein Basel III (0)
UID:6010be51-458b-5356-e053-1fc7a80a74f7
STATUS:CONFIRMED
LAST-MODIFIED:20170922T101050Z
DESCRIPTION:5. Liga Herren Gruppe 2\nBegegnungs-Nr: 0\nHeim: Copains Birsfelden III\nGast: Wettstein Basel III\n\nAdresse: Wartenbergstrasse (Hintereingang)\, 4127 Birsfelden\n
LOCATION:Wartenbergstrasse (Hintereingang)\, 4127 Birsfelden
CATEGORIES:Saison 2017/18
END:VEVENT
BEGIN:VEVENT
DTSTAMP:20260424T163223Z
DTSTART;TZID=Europe/Berlin:20180313T193000
DTEND;TZID=Europe/Berlin:20180313T223000
SUMMARY:HE 5. Liga Gr. 2 Copains Birsfelden III vs Oberwil III (0)
UID:6010be51-419c-5356-e053-1fc7a80a74f7
STATUS:CONFIRMED
LAST-MODIFIED:20180319T091008Z
DESCRIPTION:5. Liga Herren Gruppe 2\nBegegnungs-Nr: 0\nHeim: Copains Birsfelden III\nGast: Oberwil III\n\nAdresse: Wartenbergstrasse (Hintereingang)\, 4127 Birsfelden\n
LOCATION:Wartenbergstrasse (Hintereingang)\, 4127 Birsfelden
CATEGORIES:Saison 2017/18
END:VEVENT
BEGIN:VEVENT
DTSTAMP:20260424T163223Z
DTSTART;TZID=Europe/Berlin:20180206T193000
DTEND;TZID=Europe/Berlin:20180206T223000
SUMMARY:HE 5. Liga Gr. 2 Copains Birsfelden III vs Sisseln III (0)
UID:6010be51-41d6-5356-e053-1fc7a80a74f7
STATUS:CONFIRMED
LAST-MODIFIED:20180212T085049Z
DESCRIPTION:5. Liga Herren Gruppe 2\nBegegnungs-Nr: 0\nHeim: Copains Birsfelden III\nGast: Sisseln III\n\nAdresse: Wartenbergstrasse (Hintereingang)\, 4127 Birsfelden\n
LOCATION:Wartenbergstrasse (Hintereingang)\, 4127 Birsfelden
CATEGORIES:Saison 2017/18
END:VEVENT
BEGIN:VEVENT
DTSTAMP:20260424T163223Z
DTSTART;TZID=Europe/Berlin:20180109T193000
DTEND;TZID=Europe/Berlin:20180109T223000
SUMMARY:HE 5. Liga Gr. 2 Copains Birsfelden III vs KV Liestal IV (0)
UID:6010be51-41df-5356-e053-1fc7a80a74f7
STATUS:CONFIRMED
LAST-MODIFIED:20180115T151310Z
DESCRIPTION:5. Liga Herren Gruppe 2\nBegegnungs-Nr: 0\nHeim: Copains Birsfelden III\nGast: KV Liestal IV\n\nAdresse: Wartenbergstrasse (Hintereingang)\, 4127 Birsfelden\n
LOCATION:Wartenbergstrasse (Hintereingang)\, 4127 Birsfelden
CATEGORIES:Saison 2017/18
END:VEVENT
BEGIN:VEVENT
DTSTAMP:20260424T163223Z
DTSTART;TZID=Europe/Berlin:20170904T200000
DTEND;TZID=Europe/Berlin:20170904T230000
SUMMARY:HE 5. Liga Gr. 2 KV Liestal IV vs Copains Birsfelden III (0)
UID:6010be51-4497-5356-e053-1fc7a80a74f7
STATUS:CONFIRMED
LAST-MODIFIED:20170908T074349Z
DESCRIPTION:5. Liga Herren Gruppe 2\nBegegnungs-Nr: 0\nHeim: KV Liestal IV\nGast: Copains Birsfelden III\n\nAdresse: Standweg 9\, 4410 Liestal\n
LOCATION:Standweg 9\, 4410 Liestal
CATEGORIES:Saison 2017/18
END:VEVENT
BEGIN:VEVENT
DTSTAMP:20260424T163223Z
DTSTART;TZID=Europe/Berlin:20180228T193000
DTEND;TZID=Europe/Berlin:20180228T223000
SUMMARY:HE 5. Liga Gr. 2 Liebrüti II vs Copains Birsfelden III (0)
UID:6010be51-41d1-5356-e053-1fc7a80a74f7
STATUS:CONFIRMED
LAST-MODIFIED:20180302T101451Z
DESCRIPTION:5. Liga Herren Gruppe 2\nBegegnungs-Nr: 0\nHeim: Liebrüti II\nGast: Copains Birsfelden III\n\nAdresse: Schwarzackerstr. 59\, 4303 Kaiseraugst\n
LOCATION:Schwarzackerstr. 59\, 4303 Kaiseraugst
CATEGORIES:Saison 2017/18
END:VEVENT
BEGIN:VEVENT
DTSTAMP:20260424T163223Z
DTSTART;TZID=Europe/Berlin:20171207T193000
DTEND;TZID=Europe/Berlin:20171207T223000
SUMMARY:HE 5. Liga Gr. 2 Diepflingen vs Copains Birsfelden III (0)
UID:6010be51-4213-5356-e053-1fc7a80a74f7
STATUS:CONFIRMED
LAST-MODIFIED:20171211T121558Z
DESCRIPTION:5. Liga Herren Gruppe 2\nBegegnungs-Nr: 0\nHeim: Diepflingen\nGast: Copains Birsfelden III\n\nAdresse: Schulweg 1\, 4442 Diepflingen\n
LOCATION:Schulweg 1\, 4442 Diepflingen
CATEGORIES:Saison 2017/18
END:VEVENT
BEGIN:VEVENT
DTSTAMP:20260424T163223Z
DTSTART;TZID=Europe/Berlin:20171127T193000
DTEND;TZID=Europe/Berlin:20171127T223000
SUMMARY:HE 5. Liga Gr. 2 Oberwil III vs Copains Birsfelden III (0)
UID:6010be51-5c27-5356-e053-1fc7a80a74f7
STATUS:CONFIRMED
LAST-MODIFIED:20171204T092920Z
DESCRIPTION:5. Liga Herren Gruppe 2\nBegegnungs-Nr: 0\nHeim: Oberwil III\nGast: Copains Birsfelden III\n\nAdresse: Schulstrasse\, 4104 Oberwil\n
LOCATION:Schulstrasse\, 4104 Oberwil
CATEGORIES:Saison 2017/18
END:VEVENT
BEGIN:VEVENT
DTSTAMP:20260424T163223Z
DTSTART;TZID=Europe/Berlin:20171019T203000
DTEND;TZID=Europe/Berlin:20171019T233000
SUMMARY:HE 5. Liga Gr. 2 Sisseln III vs Copains Birsfelden III (0)
UID:6010be51-5c8a-5356-e053-1fc7a80a74f7
STATUS:CONFIRMED
LAST-MODIFIED:20171023T073536Z
DESCRIPTION:5. Liga Herren Gruppe 2\nBegegnungs-Nr: 0\nHeim: Sisseln III\nGast: Copains Birsfelden III\n\nAdresse: Schulstrasse\, 4334 Sisseln\n
LOCATION:Schulstrasse\, 4334 Sisseln
CATEGORIES:Saison 2017/18
END:VEVENT
BEGIN:VEVENT
DTSTAMP:20260424T163223Z
DTSTART;TZID=Europe/Berlin:20180116T200000
DTEND;TZID=Europe/Berlin:20180116T230000
SUMMARY:HE 5. Liga Gr. 2 Wettstein Basel III vs Copains Birsfelden III (0)
UID:6010be51-41db-5356-e053-1fc7a80a74f7
STATUS:CONFIRMED
LAST-MODIFIED:20180118T085413Z
DESCRIPTION:5. Liga Herren Gruppe 2\nBegegnungs-Nr: 0\nHeim: Wettstein Basel III\nGast: Copains Birsfelden III\n\nAdresse: Zu den Drei Linden 70\, 4058 Basel\n
LOCATION:Zu den Drei Linden 70\, 4058 Basel
CATEGORIES:Saison 2017/18
END:VEVENT
END:VCALENDAR
