BEGIN:VCALENDAR
PRODID:-//nuDatenautomaten//framework iCal4j //DE
VERSION:2.0
CALSCALE:GREGORIAN
BEGIN:VTIMEZONE
TZID:Europe/Berlin
LAST-MODIFIED:20260306T231828Z
TZURL:https://www.tzurl.org/zoneinfo/Europe/Berlin
X-LIC-LOCATION:Europe/Berlin
X-PROLEPTIC-TZNAME:LMT
BEGIN:STANDARD
TZNAME:CET
TZOFFSETFROM:+005328
TZOFFSETTO:+0100
DTSTART:18930401T000000
END:STANDARD
BEGIN:DAYLIGHT
TZNAME:CEST
TZOFFSETFROM:+0100
TZOFFSETTO:+0200
DTSTART:19160430T230000
RDATE:19400401T020000
RDATE:19430329T020000
RDATE:19460414T020000
RDATE:19470406T030000
RDATE:19480418T020000
RDATE:19490410T020000
RDATE:19800406T020000
END:DAYLIGHT
BEGIN:STANDARD
TZNAME:CET
TZOFFSETFROM:+0200
TZOFFSETTO:+0100
DTSTART:19161001T010000
RDATE:19421102T030000
RDATE:19431004T030000
RDATE:19441002T030000
RDATE:19451118T030000
RDATE:19461007T030000
END:STANDARD
BEGIN:DAYLIGHT
TZNAME:CEST
TZOFFSETFROM:+0100
TZOFFSETTO:+0200
DTSTART:19170416T020000
RRULE:FREQ=YEARLY;UNTIL=19180415T010000Z;BYMONTH=4;BYDAY=3MO
END:DAYLIGHT
BEGIN:STANDARD
TZNAME:CET
TZOFFSETFROM:+0200
TZOFFSETTO:+0100
DTSTART:19170917T030000
RRULE:FREQ=YEARLY;UNTIL=19180916T010000Z;BYMONTH=9;BYDAY=3MO
END:STANDARD
BEGIN:DAYLIGHT
TZNAME:CEST
TZOFFSETFROM:+0100
TZOFFSETTO:+0200
DTSTART:19440403T020000
RRULE:FREQ=YEARLY;UNTIL=19450402T010000Z;BYMONTH=4;BYDAY=1MO
END:DAYLIGHT
BEGIN:DAYLIGHT
TZNAME:CEMT
TZOFFSETFROM:+0200
TZOFFSETTO:+0300
DTSTART:19450524T020000
RDATE:19470511T030000
END:DAYLIGHT
BEGIN:DAYLIGHT
TZNAME:CEST
TZOFFSETFROM:+0300
TZOFFSETTO:+0200
DTSTART:19450924T030000
RDATE:19470629T030000
END:DAYLIGHT
BEGIN:STANDARD
TZNAME:CET
TZOFFSETFROM:+0100
TZOFFSETTO:+0100
DTSTART:19460101T000000
RDATE:19800101T000000
END:STANDARD
BEGIN:STANDARD
TZNAME:CET
TZOFFSETFROM:+0200
TZOFFSETTO:+0100
DTSTART:19471005T030000
RRULE:FREQ=YEARLY;UNTIL=19491002T010000Z;BYMONTH=10;BYDAY=1SU
END:STANDARD
BEGIN:STANDARD
TZNAME:CET
TZOFFSETFROM:+0200
TZOFFSETTO:+0100
DTSTART:19800928T030000
RRULE:FREQ=YEARLY;UNTIL=19950924T010000Z;BYMONTH=9;BYDAY=-1SU
END:STANDARD
BEGIN:DAYLIGHT
TZNAME:CEST
TZOFFSETFROM:+0100
TZOFFSETTO:+0200
DTSTART:19810329T020000
RRULE:FREQ=YEARLY;BYMONTH=3;BYDAY=-1SU
END:DAYLIGHT
BEGIN:STANDARD
TZNAME:CET
TZOFFSETFROM:+0200
TZOFFSETTO:+0100
DTSTART:19961027T030000
RRULE:FREQ=YEARLY;BYMONTH=10;BYDAY=-1SU
END:STANDARD
END:VTIMEZONE
BEGIN:VEVENT
DTSTAMP:20260424T193424Z
DTSTART;TZID=Europe/Berlin:20171116T201500
DTEND;TZID=Europe/Berlin:20171116T231500
SUMMARY:HE 5.Liga Gr.1 Romanshorn IV vs St. Gallen IX (0)
UID:6010be51-47ae-5356-e053-1fc7a80a74f7
STATUS:CONFIRMED
LAST-MODIFIED:20171121T102340Z
DESCRIPTION:5. Liga Herren Gruppe 1\nBegegnungs-Nr: 0\nHeim: Romanshorn IV\nGast: St. Gallen IX\n\nAdresse: Florastrasse\, 8590 Romanshorn\n
LOCATION:Florastrasse\, 8590 Romanshorn
CATEGORIES:Saison 2017/18
END:VEVENT
BEGIN:VEVENT
DTSTAMP:20260424T193424Z
DTSTART;TZID=Europe/Berlin:20170914T201500
DTEND;TZID=Europe/Berlin:20170914T231500
SUMMARY:HE 5.Liga Gr.1 Romanshorn IV vs Arbon (0)
UID:6010be51-47e9-5356-e053-1fc7a80a74f7
STATUS:CONFIRMED
LAST-MODIFIED:20170920T081252Z
DESCRIPTION:5. Liga Herren Gruppe 1\nBegegnungs-Nr: 0\nHeim: Romanshorn IV\nGast: Arbon\n\nAdresse: Florastrasse\, 8590 Romanshorn\n
LOCATION:Florastrasse\, 8590 Romanshorn
CATEGORIES:Saison 2017/18
END:VEVENT
BEGIN:VEVENT
DTSTAMP:20260424T193424Z
DTSTART;TZID=Europe/Berlin:20180322T201500
DTEND;TZID=Europe/Berlin:20180322T231500
SUMMARY:HE 5.Liga Gr.1 Romanshorn IV vs Wolfhalden II (0)
UID:6010be51-4cba-5356-e053-1fc7a80a74f7
STATUS:CONFIRMED
LAST-MODIFIED:20180323T104438Z
DESCRIPTION:5. Liga Herren Gruppe 1\nBegegnungs-Nr: 0\nHeim: Romanshorn IV\nGast: Wolfhalden II\n\nAdresse: Florastrasse\, 8590 Romanshorn\n
LOCATION:Florastrasse\, 8590 Romanshorn
CATEGORIES:Saison 2017/18
END:VEVENT
BEGIN:VEVENT
DTSTAMP:20260424T193424Z
DTSTART;TZID=Europe/Berlin:20180308T201500
DTEND;TZID=Europe/Berlin:20180308T231500
SUMMARY:HE 5.Liga Gr.1 Romanshorn IV vs Horn (0)
UID:6010be51-4cbd-5356-e053-1fc7a80a74f7
STATUS:CONFIRMED
LAST-MODIFIED:20180309T145431Z
DESCRIPTION:5. Liga Herren Gruppe 1\nBegegnungs-Nr: 0\nHeim: Romanshorn IV\nGast: Horn\n\nAdresse: Florastrasse\, 8590 Romanshorn\n
LOCATION:Florastrasse\, 8590 Romanshorn
CATEGORIES:Saison 2017/18
END:VEVENT
BEGIN:VEVENT
DTSTAMP:20260424T193424Z
DTSTART;TZID=Europe/Berlin:20180125T201500
DTEND;TZID=Europe/Berlin:20180125T231500
SUMMARY:HE 5.Liga Gr.1 Romanshorn IV vs Gossau St.Gallen IV (0)
UID:6010be51-4cf7-5356-e053-1fc7a80a74f7
STATUS:CONFIRMED
LAST-MODIFIED:20180129T121929Z
DESCRIPTION:5. Liga Herren Gruppe 1\nBegegnungs-Nr: 0\nHeim: Romanshorn IV\nGast: Gossau St.Gallen IV\n\nAdresse: Florastrasse\, 8590 Romanshorn\n
LOCATION:Florastrasse\, 8590 Romanshorn
CATEGORIES:Saison 2017/18
END:VEVENT
BEGIN:VEVENT
DTSTAMP:20260424T193424Z
DTSTART;TZID=Europe/Berlin:20171005T201500
DTEND;TZID=Europe/Berlin:20171005T231500
SUMMARY:HE 5.Liga Gr.1 Romanshorn IV vs Oberriet II (0)
UID:6010be51-598e-5356-e053-1fc7a80a74f7
STATUS:CONFIRMED
LAST-MODIFIED:20171009T113742Z
DESCRIPTION:5. Liga Herren Gruppe 1\nBegegnungs-Nr: 0\nHeim: Romanshorn IV\nGast: Oberriet II\n\nAdresse: Florastrasse\, 8590 Romanshorn\n
LOCATION:Florastrasse\, 8590 Romanshorn
CATEGORIES:Saison 2017/18
END:VEVENT
BEGIN:VEVENT
DTSTAMP:20260424T193424Z
DTSTART;TZID=Europe/Berlin:20171207T201500
DTEND;TZID=Europe/Berlin:20171207T231500
SUMMARY:HE 5.Liga Gr.1 Romanshorn IV vs Rorschach III (0)
UID:6010be51-5b58-5356-e053-1fc7a80a74f7
STATUS:CONFIRMED
LAST-MODIFIED:20171213T154953Z
DESCRIPTION:5. Liga Herren Gruppe 1\nBegegnungs-Nr: 0\nHeim: Romanshorn IV\nGast: Rorschach III\n\nAdresse: Florastrasse\, 8590 Romanshorn\n
LOCATION:Florastrasse\, 8590 Romanshorn
CATEGORIES:Saison 2017/18
END:VEVENT
BEGIN:VEVENT
DTSTAMP:20260424T193424Z
DTSTART;TZID=Europe/Berlin:20171106T200000
DTEND;TZID=Europe/Berlin:20171106T230000
SUMMARY:HE 5.Liga Gr.1 Wolfhalden II vs Romanshorn IV (0)
UID:6010be51-47df-5356-e053-1fc7a80a74f7
STATUS:CONFIRMED
LAST-MODIFIED:20171113T133828Z
DESCRIPTION:5. Liga Herren Gruppe 1\nBegegnungs-Nr: 0\nHeim: Wolfhalden II\nGast: Romanshorn IV\n\nAdresse: -\, 9427 Wolfhalden\n
LOCATION:-\, 9427 Wolfhalden
CATEGORIES:Saison 2017/18
END:VEVENT
BEGIN:VEVENT
DTSTAMP:20260424T193424Z
DTSTART;TZID=Europe/Berlin:20170829T201500
DTEND;TZID=Europe/Berlin:20170829T231500
SUMMARY:HE 5.Liga Gr.1 Gossau St.Gallen IV vs Romanshorn IV (0)
UID:6010be51-47e5-5356-e053-1fc7a80a74f7
STATUS:CONFIRMED
LAST-MODIFIED:20170902T084627Z
DESCRIPTION:5. Liga Herren Gruppe 1\nBegegnungs-Nr: 0\nHeim: Gossau St.Gallen IV\nGast: Romanshorn IV\n\nAdresse: Falkenstrasse 21\, 9200 Gossau\n
LOCATION:Falkenstrasse 21\, 9200 Gossau
CATEGORIES:Saison 2017/18
END:VEVENT
BEGIN:VEVENT
DTSTAMP:20260424T193424Z
DTSTART;TZID=Europe/Berlin:20180320T200000
DTEND;TZID=Europe/Berlin:20180320T230000
SUMMARY:HE 5.Liga Gr.1 St. Gallen IX vs Romanshorn IV (0)
UID:6010be51-4cb7-5356-e053-1fc7a80a74f7
STATUS:CONFIRMED
LAST-MODIFIED:20180321T161939Z
DESCRIPTION:5. Liga Herren Gruppe 1\nBegegnungs-Nr: 0\nHeim: St. Gallen IX\nGast: Romanshorn IV\n\nAdresse: Zilstrasse 61\, 9016 St.Gallen\n
LOCATION:Zilstrasse 61\, 9016 St.Gallen
CATEGORIES:Saison 2017/18
END:VEVENT
BEGIN:VEVENT
DTSTAMP:20260424T193424Z
DTSTART;TZID=Europe/Berlin:20180220T200000
DTEND;TZID=Europe/Berlin:20180220T230000
SUMMARY:HE 5.Liga Gr.1 Rorschach III vs Romanshorn IV (0)
UID:6010be51-4c80-5356-e053-1fc7a80a74f7
STATUS:CONFIRMED
LAST-MODIFIED:20180221T132908Z
DESCRIPTION:5. Liga Herren Gruppe 1\nBegegnungs-Nr: 0\nHeim: Rorschach III\nGast: Romanshorn IV\n\nAdresse: Mariabergstrasse 33\, 9400 Rorschach\n
LOCATION:Mariabergstrasse 33\, 9400 Rorschach
CATEGORIES:Saison 2017/18
END:VEVENT
BEGIN:VEVENT
DTSTAMP:20260424T193424Z
DTSTART;TZID=Europe/Berlin:20180209T201500
DTEND;TZID=Europe/Berlin:20180209T231500
SUMMARY:HE 5.Liga Gr.1 Oberriet II vs Romanshorn IV (0)
UID:6010be51-4cc2-5356-e053-1fc7a80a74f7
STATUS:CONFIRMED
LAST-MODIFIED:20180213T092057Z
DESCRIPTION:5. Liga Herren Gruppe 1\nBegegnungs-Nr: 0\nHeim: Oberriet II\nGast: Romanshorn IV\n\nAdresse: Neugutstrasse 2\, 9463 Oberriet SG\n
LOCATION:Neugutstrasse 2\, 9463 Oberriet SG
CATEGORIES:Saison 2017/18
END:VEVENT
BEGIN:VEVENT
DTSTAMP:20260424T193424Z
DTSTART;TZID=Europe/Berlin:20180109T200000
DTEND;TZID=Europe/Berlin:20180109T230000
SUMMARY:HE 5.Liga Gr.1 Arbon vs Romanshorn IV (0)
UID:6010be51-4cfb-5356-e053-1fc7a80a74f7
STATUS:CONFIRMED
LAST-MODIFIED:20180110T123429Z
DESCRIPTION:5. Liga Herren Gruppe 1\nBegegnungs-Nr: 0\nHeim: Arbon\nGast: Romanshorn IV\n\nAdresse: Promenadenstrasse 17\, 9320 Arbon\n
LOCATION:Promenadenstrasse 17\, 9320 Arbon
CATEGORIES:Saison 2017/18
END:VEVENT
BEGIN:VEVENT
DTSTAMP:20260424T193424Z
DTSTART;TZID=Europe/Berlin:20171102T200000
DTEND;TZID=Europe/Berlin:20171102T230000
SUMMARY:HE 5.Liga Gr.1 Horn vs Romanshorn IV (0)
UID:6010be51-5ba4-5356-e053-1fc7a80a74f7
STATUS:CONFIRMED
LAST-MODIFIED:20171106T095059Z
DESCRIPTION:5. Liga Herren Gruppe 1\nBegegnungs-Nr: 0\nHeim: Horn\nGast: Romanshorn IV\n\nAdresse: Feldstrasse 16\, 9326 Horn\n
LOCATION:Feldstrasse 16\, 9326 Horn
CATEGORIES:Saison 2017/18
END:VEVENT
END:VCALENDAR
