BEGIN:VCALENDAR
PRODID:-//nuDatenautomaten//framework iCal4j //DE
VERSION:2.0
CALSCALE:GREGORIAN
BEGIN:VTIMEZONE
TZID:Europe/Berlin
LAST-MODIFIED:20260306T231828Z
TZURL:https://www.tzurl.org/zoneinfo/Europe/Berlin
X-LIC-LOCATION:Europe/Berlin
X-PROLEPTIC-TZNAME:LMT
BEGIN:STANDARD
TZNAME:CET
TZOFFSETFROM:+005328
TZOFFSETTO:+0100
DTSTART:18930401T000000
END:STANDARD
BEGIN:DAYLIGHT
TZNAME:CEST
TZOFFSETFROM:+0100
TZOFFSETTO:+0200
DTSTART:19160430T230000
RDATE:19400401T020000
RDATE:19430329T020000
RDATE:19460414T020000
RDATE:19470406T030000
RDATE:19480418T020000
RDATE:19490410T020000
RDATE:19800406T020000
END:DAYLIGHT
BEGIN:STANDARD
TZNAME:CET
TZOFFSETFROM:+0200
TZOFFSETTO:+0100
DTSTART:19161001T010000
RDATE:19421102T030000
RDATE:19431004T030000
RDATE:19441002T030000
RDATE:19451118T030000
RDATE:19461007T030000
END:STANDARD
BEGIN:DAYLIGHT
TZNAME:CEST
TZOFFSETFROM:+0100
TZOFFSETTO:+0200
DTSTART:19170416T020000
RRULE:FREQ=YEARLY;UNTIL=19180415T010000Z;BYMONTH=4;BYDAY=3MO
END:DAYLIGHT
BEGIN:STANDARD
TZNAME:CET
TZOFFSETFROM:+0200
TZOFFSETTO:+0100
DTSTART:19170917T030000
RRULE:FREQ=YEARLY;UNTIL=19180916T010000Z;BYMONTH=9;BYDAY=3MO
END:STANDARD
BEGIN:DAYLIGHT
TZNAME:CEST
TZOFFSETFROM:+0100
TZOFFSETTO:+0200
DTSTART:19440403T020000
RRULE:FREQ=YEARLY;UNTIL=19450402T010000Z;BYMONTH=4;BYDAY=1MO
END:DAYLIGHT
BEGIN:DAYLIGHT
TZNAME:CEMT
TZOFFSETFROM:+0200
TZOFFSETTO:+0300
DTSTART:19450524T020000
RDATE:19470511T030000
END:DAYLIGHT
BEGIN:DAYLIGHT
TZNAME:CEST
TZOFFSETFROM:+0300
TZOFFSETTO:+0200
DTSTART:19450924T030000
RDATE:19470629T030000
END:DAYLIGHT
BEGIN:STANDARD
TZNAME:CET
TZOFFSETFROM:+0100
TZOFFSETTO:+0100
DTSTART:19460101T000000
RDATE:19800101T000000
END:STANDARD
BEGIN:STANDARD
TZNAME:CET
TZOFFSETFROM:+0200
TZOFFSETTO:+0100
DTSTART:19471005T030000
RRULE:FREQ=YEARLY;UNTIL=19491002T010000Z;BYMONTH=10;BYDAY=1SU
END:STANDARD
BEGIN:STANDARD
TZNAME:CET
TZOFFSETFROM:+0200
TZOFFSETTO:+0100
DTSTART:19800928T030000
RRULE:FREQ=YEARLY;UNTIL=19950924T010000Z;BYMONTH=9;BYDAY=-1SU
END:STANDARD
BEGIN:DAYLIGHT
TZNAME:CEST
TZOFFSETFROM:+0100
TZOFFSETTO:+0200
DTSTART:19810329T020000
RRULE:FREQ=YEARLY;BYMONTH=3;BYDAY=-1SU
END:DAYLIGHT
BEGIN:STANDARD
TZNAME:CET
TZOFFSETFROM:+0200
TZOFFSETTO:+0100
DTSTART:19961027T030000
RRULE:FREQ=YEARLY;BYMONTH=10;BYDAY=-1SU
END:STANDARD
END:VTIMEZONE
BEGIN:VEVENT
DTSTAMP:20260424T151703Z
DTSTART;TZID=Europe/Berlin:20171129T194500
DTEND;TZID=Europe/Berlin:20171129T224500
SUMMARY:Ligue 3 Gr.3\, Ph.A Bernex vs ZZ-Lancy X (24)
UID:6010be51-53dd-5356-e053-1fc7a80a74f7
STATUS:CONFIRMED
LAST-MODIFIED:20171130T153434Z
DESCRIPTION:3ème ligue Hommes Gr. 3 Phase A\nBegegnungs-Nr: 24\nHeim: Bernex\nGast: ZZ-Lancy X\n\nAdresse: Chemin de Saule 120\, 1233 Bernex\n
LOCATION:Chemin de Saule 120\, 1233 Bernex
CATEGORIES:Saison 2017/18
END:VEVENT
BEGIN:VEVENT
DTSTAMP:20260424T151703Z
DTSTART;TZID=Europe/Berlin:20170920T194500
DTEND;TZID=Europe/Berlin:20170920T224500
SUMMARY:Ligue 3 Gr.3\, Ph.A Bernex vs Silver Star IV (5)
UID:6010be51-5485-5356-e053-1fc7a80a74f7
STATUS:CONFIRMED
LAST-MODIFIED:20170921T131541Z
DESCRIPTION:3ème ligue Hommes Gr. 3 Phase A\nBegegnungs-Nr: 5\nHeim: Bernex\nGast: Silver Star IV\n\nAdresse: Chemin de Saule 120\, 1233 Bernex\n
LOCATION:Chemin de Saule 120\, 1233 Bernex
CATEGORIES:Saison 2017/18
END:VEVENT
BEGIN:VEVENT
DTSTAMP:20260424T151703Z
DTSTART;TZID=Europe/Berlin:20171108T194500
DTEND;TZID=Europe/Berlin:20171108T224500
SUMMARY:Ligue 3 Gr.3\, Ph.A Bernex vs Veyrier VI (16)
UID:6010be51-553d-5356-e053-1fc7a80a74f7
STATUS:CONFIRMED
LAST-MODIFIED:20171109T193228Z
DESCRIPTION:3ème ligue Hommes Gr. 3 Phase A\nBegegnungs-Nr: 16\nHeim: Bernex\nGast: Veyrier VI\n\nAdresse: Chemin de Saule 120\, 1233 Bernex\n
LOCATION:Chemin de Saule 120\, 1233 Bernex
CATEGORIES:Saison 2017/18
END:VEVENT
BEGIN:VEVENT
DTSTAMP:20260424T151703Z
DTSTART;TZID=Europe/Berlin:20180411T194500
DTEND;TZID=Europe/Berlin:20180411T224500
SUMMARY:Ligue 3 Gr.3\, Ph.B Bernex vs Versoix VII (26)
UID:3011f7f7-9f8a-466e-b8d3-cf477674a1d2
STATUS:CONFIRMED
LAST-MODIFIED:20180412T121058Z
DESCRIPTION:3ème ligue Hommes Gr. 3 Phase B\nBegegnungs-Nr: 26\nHeim: Bernex\nGast: Versoix VII\n\nAdresse: Chemin de Saule 120\, 1233 Bernex\n
LOCATION:Chemin de Saule 120\, 1233 Bernex
CATEGORIES:Saison 2017/18
END:VEVENT
BEGIN:VEVENT
DTSTAMP:20260424T151703Z
DTSTART;TZID=Europe/Berlin:20180321T194500
DTEND;TZID=Europe/Berlin:20180321T224500
SUMMARY:Ligue 3 Gr.3\, Ph.B Bernex vs Rapid-Genève III (22)
UID:be7bc80e-4103-4f54-b8aa-cb616eafa746
STATUS:CONFIRMED
LAST-MODIFIED:20180322T183126Z
DESCRIPTION:3ème ligue Hommes Gr. 3 Phase B\nBegegnungs-Nr: 22\nHeim: Bernex\nGast: Rapid-Genève III\n\nAdresse: Chemin de Saule 120\, 1233 Bernex\n
LOCATION:Chemin de Saule 120\, 1233 Bernex
CATEGORIES:Saison 2017/18
END:VEVENT
BEGIN:VEVENT
DTSTAMP:20260424T151703Z
DTSTART;TZID=Europe/Berlin:20171011T194500
DTEND;TZID=Europe/Berlin:20171011T224500
SUMMARY:Ligue 3 Gr.3\, Ph.A Bernex vs Meyrin V (11)
UID:6010be51-5a6a-5356-e053-1fc7a80a74f7
STATUS:CONFIRMED
LAST-MODIFIED:20171012T113636Z
DESCRIPTION:3ème ligue Hommes Gr. 3 Phase A\nBegegnungs-Nr: 11\nHeim: Bernex\nGast: Meyrin V\n\nAdresse: Chemin de Saule 120\, 1233 Bernex\n
LOCATION:Chemin de Saule 120\, 1233 Bernex
CATEGORIES:Saison 2017/18
END:VEVENT
BEGIN:VEVENT
DTSTAMP:20260424T151703Z
DTSTART;TZID=Europe/Berlin:20180117T194500
DTEND;TZID=Europe/Berlin:20180117T224500
SUMMARY:Ligue 3 Gr.3\, Ph.B Bernex vs ZZ-Lancy X (4)
UID:6a66e12c-10fa-4e89-94a7-d07895cc78f6
STATUS:CONFIRMED
LAST-MODIFIED:20180119T084614Z
DESCRIPTION:3ème ligue Hommes Gr. 3 Phase B\nBegegnungs-Nr: 4\nHeim: Bernex\nGast: ZZ-Lancy X\n\nAdresse: Chemin de Saule 120\, 1233 Bernex\n
LOCATION:Chemin de Saule 120\, 1233 Bernex
CATEGORIES:Saison 2017/18
END:VEVENT
BEGIN:VEVENT
DTSTAMP:20260424T151703Z
DTSTART;TZID=Europe/Berlin:20180307T194500
DTEND;TZID=Europe/Berlin:20180307T224500
SUMMARY:Ligue 3 Gr.3\, Ph.B Bernex vs Meyrin IX (17)
UID:a1d61c85-efce-4700-bda8-6e0c5c0240b8
STATUS:CONFIRMED
LAST-MODIFIED:20180308T205738Z
DESCRIPTION:3ème ligue Hommes Gr. 3 Phase B\nBegegnungs-Nr: 17\nHeim: Bernex\nGast: Meyrin IX\n\nAdresse: Chemin de Saule 120\, 1233 Bernex\n
LOCATION:Chemin de Saule 120\, 1233 Bernex
CATEGORIES:Saison 2017/18
END:VEVENT
BEGIN:VEVENT
DTSTAMP:20260424T151703Z
DTSTART;TZID=Europe/Berlin:20180228T194500
DTEND;TZID=Europe/Berlin:20180228T224500
SUMMARY:Ligue 3 Gr.3\, Ph.B Bernex vs Carouge V (15)
UID:1abce9c3-8950-4797-886a-63a12db2275a
STATUS:CONFIRMED
LAST-MODIFIED:20180301T195842Z
DESCRIPTION:3ème ligue Hommes Gr. 3 Phase B\nBegegnungs-Nr: 15\nHeim: Bernex\nGast: Carouge V\n\nAdresse: Chemin de Saule 120\, 1233 Bernex\n
LOCATION:Chemin de Saule 120\, 1233 Bernex
CATEGORIES:Saison 2017/18
END:VEVENT
BEGIN:VEVENT
DTSTAMP:20260424T151703Z
DTSTART;TZID=Europe/Berlin:20171213T194500
DTEND;TZID=Europe/Berlin:20171213T224500
SUMMARY:Ligue 3 Gr.3\, Ph.A Bernex vs Grand-Saconnex (29)
UID:6010be51-548a-5356-e053-1fc7a80a74f7
STATUS:CONFIRMED
LAST-MODIFIED:20171214T144144Z
DESCRIPTION:3ème ligue Hommes Gr. 3 Phase A\nBegegnungs-Nr: 29\nHeim: Bernex\nGast: Grand-Saconnex\n\nAdresse: Chemin de Saule 120\, 1233 Bernex\n
LOCATION:Chemin de Saule 120\, 1233 Bernex
CATEGORIES:Saison 2017/18
END:VEVENT
BEGIN:VEVENT
DTSTAMP:20260424T151703Z
DTSTART;TZID=Europe/Berlin:20171206T194500
DTEND;TZID=Europe/Berlin:20171206T224500
SUMMARY:Ligue 3 Gr.3\, Ph.A Meyrin V vs Bernex (26)
UID:6010be51-53db-5356-e053-1fc7a80a74f7
STATUS:CONFIRMED
LAST-MODIFIED:20171207T134320Z
DESCRIPTION:3ème ligue Hommes Gr. 3 Phase A\nBegegnungs-Nr: 26\nHeim: Meyrin V\nGast: Bernex\n
LOCATION:
CATEGORIES:Saison 2017/18
END:VEVENT
BEGIN:VEVENT
DTSTAMP:20260424T151703Z
DTSTART;TZID=Europe/Berlin:20170913T194500
DTEND;TZID=Europe/Berlin:20170913T224500
SUMMARY:Ligue 3 Gr.3\, Ph.A Veyrier VI vs Bernex (1)
UID:6010be51-5489-5356-e053-1fc7a80a74f7
STATUS:CONFIRMED
LAST-MODIFIED:20170914T114503Z
DESCRIPTION:3ème ligue Hommes Gr. 3 Phase A\nBegegnungs-Nr: 1\nHeim: Veyrier VI\nGast: Bernex\n\nAdresse: -\, 1255 Veyrier\n
LOCATION:-\, 1255 Veyrier
CATEGORIES:Saison 2017/18
END:VEVENT
BEGIN:VEVENT
DTSTAMP:20260424T151703Z
DTSTART;TZID=Europe/Berlin:20171018T194500
DTEND;TZID=Europe/Berlin:20171018T224500
SUMMARY:Ligue 3 Gr.3\, Ph.A Grand-Saconnex vs Bernex (13)
UID:6010be51-553f-5356-e053-1fc7a80a74f7
STATUS:CONFIRMED
LAST-MODIFIED:20171019T115103Z
DESCRIPTION:3ème ligue Hommes Gr. 3 Phase A\nBegegnungs-Nr: 13\nHeim: Grand-Saconnex\nGast: Bernex\n
LOCATION:
CATEGORIES:Saison 2017/18
END:VEVENT
BEGIN:VEVENT
DTSTAMP:20260424T151703Z
DTSTART;TZID=Europe/Berlin:20170927T201500
DTEND;TZID=Europe/Berlin:20170927T231500
SUMMARY:Ligue 3 Gr.3\, Ph.A ZZ-Lancy X vs Bernex (9)
UID:6010be51-5543-5356-e053-1fc7a80a74f7
STATUS:CONFIRMED
LAST-MODIFIED:20170928T181637Z
DESCRIPTION:3ème ligue Hommes Gr. 3 Phase A\nBegegnungs-Nr: 9\nHeim: ZZ-Lancy X\nGast: Bernex\n\nAdresse: Avenue du Curé-Baud 40\, 1212 Grand-Lancy\n
LOCATION:Avenue du Curé-Baud 40\, 1212 Grand-Lancy
CATEGORIES:Saison 2017/18
END:VEVENT
BEGIN:VEVENT
DTSTAMP:20260424T151703Z
DTSTART;TZID=Europe/Berlin:20171115T194500
DTEND;TZID=Europe/Berlin:20171115T224500
SUMMARY:Ligue 3 Gr.3\, Ph.A Silver Star IV vs Bernex (20)
UID:6010be51-572d-5356-e053-1fc7a80a74f7
STATUS:CONFIRMED
LAST-MODIFIED:20171116T130018Z
DESCRIPTION:3ème ligue Hommes Gr. 3 Phase A\nBegegnungs-Nr: 20\nHeim: Silver Star IV\nGast: Bernex\n\nAdresse: Rue de Vermont 33\, 1202 Genève\n
LOCATION:Rue de Vermont 33\, 1202 Genève
CATEGORIES:Saison 2017/18
END:VEVENT
BEGIN:VEVENT
DTSTAMP:20260424T151703Z
DTSTART;TZID=Europe/Berlin:20180207T194500
DTEND;TZID=Europe/Berlin:20180207T224500
SUMMARY:Ligue 3 Gr.3\, Ph.B Versoix VII vs Bernex (11)
UID:e5e78d2a-b10f-4402-b440-9c42457ad01b
STATUS:CONFIRMED
LAST-MODIFIED:20180208T135337Z
DESCRIPTION:3ème ligue Hommes Gr. 3 Phase B\nBegegnungs-Nr: 11\nHeim: Versoix VII\nGast: Bernex\n
LOCATION:
CATEGORIES:Saison 2017/18
END:VEVENT
BEGIN:VEVENT
DTSTAMP:20260424T151703Z
DTSTART;TZID=Europe/Berlin:20180131T194500
DTEND;TZID=Europe/Berlin:20180131T224500
SUMMARY:Ligue 3 Gr.3\, Ph.B Rapid-Genève III vs Bernex (7)
UID:da2ad044-6663-4409-a7df-41fa66cf7b0f
STATUS:CONFIRMED
LAST-MODIFIED:20180201T132652Z
DESCRIPTION:3ème ligue Hommes Gr. 3 Phase B\nBegegnungs-Nr: 7\nHeim: Rapid-Genève III\nGast: Bernex\n
LOCATION:
CATEGORIES:Saison 2017/18
END:VEVENT
BEGIN:VEVENT
DTSTAMP:20260424T151703Z
DTSTART;TZID=Europe/Berlin:20180418T194500
DTEND;TZID=Europe/Berlin:20180418T224500
SUMMARY:Ligue 3 Gr.3\, Ph.B Carouge V vs Bernex (30)
UID:b3b49a27-a87b-482b-ba6d-7345444f18a7
STATUS:CONFIRMED
LAST-MODIFIED:20180419T120957Z
DESCRIPTION:3ème ligue Hommes Gr. 3 Phase B\nBegegnungs-Nr: 30\nHeim: Carouge V\nGast: Bernex\n
LOCATION:
CATEGORIES:Saison 2017/18
END:VEVENT
BEGIN:VEVENT
DTSTAMP:20260424T151703Z
DTSTART;TZID=Europe/Berlin:20180314T201500
DTEND;TZID=Europe/Berlin:20180314T231500
SUMMARY:Ligue 3 Gr.3\, Ph.B ZZ-Lancy X vs Bernex (19)
UID:1ecc2b88-b1eb-41e0-ad5d-e9b6d19bb542
STATUS:CONFIRMED
LAST-MODIFIED:20180315T125514Z
DESCRIPTION:3ème ligue Hommes Gr. 3 Phase B\nBegegnungs-Nr: 19\nHeim: ZZ-Lancy X\nGast: Bernex\n\nAdresse: Avenue du Curé-Baud 40\, 1212 Grand-Lancy\n
LOCATION:Avenue du Curé-Baud 40\, 1212 Grand-Lancy
CATEGORIES:Saison 2017/18
END:VEVENT
BEGIN:VEVENT
DTSTAMP:20260424T151703Z
DTSTART;TZID=Europe/Berlin:20180110T194500
DTEND;TZID=Europe/Berlin:20180110T224500
SUMMARY:Ligue 3 Gr.3\, Ph.B Meyrin IX vs Bernex (2)
UID:b3a2a12e-089a-4ef8-b977-c3ff2daf9948
STATUS:CONFIRMED
LAST-MODIFIED:20180111T174013Z
DESCRIPTION:3ème ligue Hommes Gr. 3 Phase B\nBegegnungs-Nr: 2\nHeim: Meyrin IX\nGast: Bernex\n
LOCATION:
CATEGORIES:Saison 2017/18
END:VEVENT
END:VCALENDAR
