BEGIN:VCALENDAR
PRODID:-//nuDatenautomaten//framework iCal4j //DE
VERSION:2.0
CALSCALE:GREGORIAN
BEGIN:VTIMEZONE
TZID:Europe/Berlin
LAST-MODIFIED:20260306T231828Z
TZURL:https://www.tzurl.org/zoneinfo/Europe/Berlin
X-LIC-LOCATION:Europe/Berlin
X-PROLEPTIC-TZNAME:LMT
BEGIN:STANDARD
TZNAME:CET
TZOFFSETFROM:+005328
TZOFFSETTO:+0100
DTSTART:18930401T000000
END:STANDARD
BEGIN:DAYLIGHT
TZNAME:CEST
TZOFFSETFROM:+0100
TZOFFSETTO:+0200
DTSTART:19160430T230000
RDATE:19400401T020000
RDATE:19430329T020000
RDATE:19460414T020000
RDATE:19470406T030000
RDATE:19480418T020000
RDATE:19490410T020000
RDATE:19800406T020000
END:DAYLIGHT
BEGIN:STANDARD
TZNAME:CET
TZOFFSETFROM:+0200
TZOFFSETTO:+0100
DTSTART:19161001T010000
RDATE:19421102T030000
RDATE:19431004T030000
RDATE:19441002T030000
RDATE:19451118T030000
RDATE:19461007T030000
END:STANDARD
BEGIN:DAYLIGHT
TZNAME:CEST
TZOFFSETFROM:+0100
TZOFFSETTO:+0200
DTSTART:19170416T020000
RRULE:FREQ=YEARLY;UNTIL=19180415T010000Z;BYMONTH=4;BYDAY=3MO
END:DAYLIGHT
BEGIN:STANDARD
TZNAME:CET
TZOFFSETFROM:+0200
TZOFFSETTO:+0100
DTSTART:19170917T030000
RRULE:FREQ=YEARLY;UNTIL=19180916T010000Z;BYMONTH=9;BYDAY=3MO
END:STANDARD
BEGIN:DAYLIGHT
TZNAME:CEST
TZOFFSETFROM:+0100
TZOFFSETTO:+0200
DTSTART:19440403T020000
RRULE:FREQ=YEARLY;UNTIL=19450402T010000Z;BYMONTH=4;BYDAY=1MO
END:DAYLIGHT
BEGIN:DAYLIGHT
TZNAME:CEMT
TZOFFSETFROM:+0200
TZOFFSETTO:+0300
DTSTART:19450524T020000
RDATE:19470511T030000
END:DAYLIGHT
BEGIN:DAYLIGHT
TZNAME:CEST
TZOFFSETFROM:+0300
TZOFFSETTO:+0200
DTSTART:19450924T030000
RDATE:19470629T030000
END:DAYLIGHT
BEGIN:STANDARD
TZNAME:CET
TZOFFSETFROM:+0100
TZOFFSETTO:+0100
DTSTART:19460101T000000
RDATE:19800101T000000
END:STANDARD
BEGIN:STANDARD
TZNAME:CET
TZOFFSETFROM:+0200
TZOFFSETTO:+0100
DTSTART:19471005T030000
RRULE:FREQ=YEARLY;UNTIL=19491002T010000Z;BYMONTH=10;BYDAY=1SU
END:STANDARD
BEGIN:STANDARD
TZNAME:CET
TZOFFSETFROM:+0200
TZOFFSETTO:+0100
DTSTART:19800928T030000
RRULE:FREQ=YEARLY;UNTIL=19950924T010000Z;BYMONTH=9;BYDAY=-1SU
END:STANDARD
BEGIN:DAYLIGHT
TZNAME:CEST
TZOFFSETFROM:+0100
TZOFFSETTO:+0200
DTSTART:19810329T020000
RRULE:FREQ=YEARLY;BYMONTH=3;BYDAY=-1SU
END:DAYLIGHT
BEGIN:STANDARD
TZNAME:CET
TZOFFSETFROM:+0200
TZOFFSETTO:+0100
DTSTART:19961027T030000
RRULE:FREQ=YEARLY;BYMONTH=10;BYDAY=-1SU
END:STANDARD
END:VTIMEZONE
BEGIN:VEVENT
DTSTAMP:20260424T181712Z
DTSTART;TZID=Europe/Berlin:20171213T200000
DTEND;TZID=Europe/Berlin:20171213T230000
SUMMARY:O40 3.Liga Gr.3 BW-Wollishofen vs Toggenburg (0)
UID:6010be51-4a11-5356-e053-1fc7a80a74f7
STATUS:CONFIRMED
LAST-MODIFIED:20171219T154427Z
DESCRIPTION:3. Liga O40 Gruppe 3\nBegegnungs-Nr: 0\nHeim: BW-Wollishofen\nGast: Toggenburg\n\nAdresse: Kilchbergstr. 28\, 8038 Zürich\n
LOCATION:Kilchbergstr. 28\, 8038 Zürich
CATEGORIES:Saison 2017/18
END:VEVENT
BEGIN:VEVENT
DTSTAMP:20260424T181712Z
DTSTART;TZID=Europe/Berlin:20171025T200000
DTEND;TZID=Europe/Berlin:20171025T230000
SUMMARY:O40 3.Liga Gr.3 BW-Wollishofen vs Rapperswil-Jona (0)
UID:6010be51-4a17-5356-e053-1fc7a80a74f7
STATUS:CONFIRMED
LAST-MODIFIED:20171026T055018Z
DESCRIPTION:3. Liga O40 Gruppe 3\nBegegnungs-Nr: 0\nHeim: BW-Wollishofen\nGast: Rapperswil-Jona\n\nAdresse: Kilchbergstr. 28\, 8038 Zürich\n
LOCATION:Kilchbergstr. 28\, 8038 Zürich
CATEGORIES:Saison 2017/18
END:VEVENT
BEGIN:VEVENT
DTSTAMP:20260424T181712Z
DTSTART;TZID=Europe/Berlin:20171122T200000
DTEND;TZID=Europe/Berlin:20171122T230000
SUMMARY:O40 3.Liga Gr.3 BW-Wollishofen vs Rüti (0)
UID:6010be51-4a4c-5356-e053-1fc7a80a74f7
STATUS:CONFIRMED
LAST-MODIFIED:20171127T140654Z
DESCRIPTION:3. Liga O40 Gruppe 3\nBegegnungs-Nr: 0\nHeim: BW-Wollishofen\nGast: Rüti\n\nAdresse: Kilchbergstr. 28\, 8038 Zürich\n
LOCATION:Kilchbergstr. 28\, 8038 Zürich
CATEGORIES:Saison 2017/18
END:VEVENT
BEGIN:VEVENT
DTSTAMP:20260424T181712Z
DTSTART;TZID=Europe/Berlin:20180328T200000
DTEND;TZID=Europe/Berlin:20180328T230000
SUMMARY:O40 3.Liga Gr.3 BW-Wollishofen vs Chur II (0)
UID:6010be51-4a84-5356-e053-1fc7a80a74f7
STATUS:CONFIRMED
LAST-MODIFIED:20180329T130721Z
DESCRIPTION:3. Liga O40 Gruppe 3\nBegegnungs-Nr: 0\nHeim: BW-Wollishofen\nGast: Chur II\n\nAdresse: Kilchbergstr. 28\, 8038 Zürich\n
LOCATION:Kilchbergstr. 28\, 8038 Zürich
CATEGORIES:Saison 2017/18
END:VEVENT
BEGIN:VEVENT
DTSTAMP:20260424T181712Z
DTSTART;TZID=Europe/Berlin:20180117T200000
DTEND;TZID=Europe/Berlin:20180117T230000
SUMMARY:O40 3.Liga Gr.3 BW-Wollishofen vs Wolfhausen (0)
UID:6010be51-4a90-5356-e053-1fc7a80a74f7
STATUS:CONFIRMED
LAST-MODIFIED:20180118T110514Z
DESCRIPTION:3. Liga O40 Gruppe 3\nBegegnungs-Nr: 0\nHeim: BW-Wollishofen\nGast: Wolfhausen\n\nAdresse: Kilchbergstr. 28\, 8038 Zürich\n
LOCATION:Kilchbergstr. 28\, 8038 Zürich
CATEGORIES:Saison 2017/18
END:VEVENT
BEGIN:VEVENT
DTSTAMP:20260424T181712Z
DTSTART;TZID=Europe/Berlin:20180509T200000
DTEND;TZID=Europe/Berlin:20180509T230000
SUMMARY:O40 3.Liga Gr.3 BW-Wollishofen vs Zürich-Affoltern III (0)
UID:6010be51-4abc-5356-e053-1fc7a80a74f7
STATUS:CONFIRMED
LAST-MODIFIED:20180515T124600Z
DESCRIPTION:3. Liga O40 Gruppe 3\nBegegnungs-Nr: 0\nHeim: BW-Wollishofen\nGast: Zürich-Affoltern III\n\nAdresse: Kilchbergstr. 28\, 8038 Zürich\n
LOCATION:Kilchbergstr. 28\, 8038 Zürich
CATEGORIES:Saison 2017/18
END:VEVENT
BEGIN:VEVENT
DTSTAMP:20260424T181712Z
DTSTART;TZID=Europe/Berlin:20171130T200000
DTEND;TZID=Europe/Berlin:20171130T230000
SUMMARY:O40 3.Liga Gr.3 Chur II vs BW-Wollishofen (0)
UID:6010be51-4a14-5356-e053-1fc7a80a74f7
STATUS:CONFIRMED
LAST-MODIFIED:20171201T151235Z
DESCRIPTION:3. Liga O40 Gruppe 3\nBegegnungs-Nr: 0\nHeim: Chur II\nGast: BW-Wollishofen\n\nAdresse: Sandstr. 35\, 7000 Chur\n
LOCATION:Sandstr. 35\, 7000 Chur
CATEGORIES:Saison 2017/18
END:VEVENT
BEGIN:VEVENT
DTSTAMP:20260424T181712Z
DTSTART;TZID=Europe/Berlin:20170922T200000
DTEND;TZID=Europe/Berlin:20170922T230000
SUMMARY:O40 3.Liga Gr.3 Zürich-Affoltern III vs BW-Wollishofen (0)
UID:6010be51-4a47-5356-e053-1fc7a80a74f7
STATUS:CONFIRMED
LAST-MODIFIED:20170926T141345Z
DESCRIPTION:3. Liga O40 Gruppe 3\nBegegnungs-Nr: 0\nHeim: Zürich-Affoltern III\nGast: BW-Wollishofen\n\nAdresse: Rümlangstr. 89\, 8052 Zürich\n
LOCATION:Rümlangstr. 89\, 8052 Zürich
CATEGORIES:Saison 2017/18
END:VEVENT
BEGIN:VEVENT
DTSTAMP:20260424T181712Z
DTSTART;TZID=Europe/Berlin:20170828T200000
DTEND;TZID=Europe/Berlin:20170828T230000
SUMMARY:O40 3.Liga Gr.3 Wolfhausen vs BW-Wollishofen (0)
UID:6010be51-4a4d-5356-e053-1fc7a80a74f7
STATUS:CONFIRMED
LAST-MODIFIED:20170829T151656Z
DESCRIPTION:3. Liga O40 Gruppe 3\nBegegnungs-Nr: 0\nHeim: Wolfhausen\nGast: BW-Wollishofen\n\nAdresse: Schulstrasse 9\, 8633 Wolfhausen\n
LOCATION:Schulstrasse 9\, 8633 Wolfhausen
CATEGORIES:Saison 2017/18
END:VEVENT
BEGIN:VEVENT
DTSTAMP:20260424T181712Z
DTSTART;TZID=Europe/Berlin:20180406T200000
DTEND;TZID=Europe/Berlin:20180406T230000
SUMMARY:O40 3.Liga Gr.3 Toggenburg vs BW-Wollishofen (0)
UID:6010be51-4e73-5356-e053-1fc7a80a74f7
STATUS:CONFIRMED
LAST-MODIFIED:20180419T085412Z
DESCRIPTION:3. Liga O40 Gruppe 3\nBegegnungs-Nr: 0\nHeim: Toggenburg\nGast: BW-Wollishofen\n\nAdresse: Frohmaderweg\, 9630 Wattwil\n
LOCATION:Frohmaderweg\, 9630 Wattwil
CATEGORIES:Saison 2017/18
END:VEVENT
BEGIN:VEVENT
DTSTAMP:20260424T181712Z
DTSTART;TZID=Europe/Berlin:20180302T200000
DTEND;TZID=Europe/Berlin:20180302T230000
SUMMARY:O40 3.Liga Gr.3 Rapperswil-Jona vs BW-Wollishofen (0)
UID:6010be51-4a88-5356-e053-1fc7a80a74f7
STATUS:CONFIRMED
LAST-MODIFIED:20180309T150405Z
DESCRIPTION:3. Liga O40 Gruppe 3\nBegegnungs-Nr: 0\nHeim: Rapperswil-Jona\nGast: BW-Wollishofen\n\nAdresse: Kreuzstrasse 43\, 8640 Rapperswil\n
LOCATION:Kreuzstrasse 43\, 8640 Rapperswil
CATEGORIES:Saison 2017/18
END:VEVENT
BEGIN:VEVENT
DTSTAMP:20260424T181712Z
DTSTART;TZID=Europe/Berlin:20180116T200000
DTEND;TZID=Europe/Berlin:20180116T230000
SUMMARY:O40 3.Liga Gr.3 Rüti vs BW-Wollishofen (0)
UID:6010be51-4a8f-5356-e053-1fc7a80a74f7
STATUS:CONFIRMED
LAST-MODIFIED:20180118T110332Z
DESCRIPTION:3. Liga O40 Gruppe 3\nBegegnungs-Nr: 0\nHeim: Rüti\nGast: BW-Wollishofen\n\nAdresse: Spitalstrasse 20\, 8630 Rüti\n
LOCATION:Spitalstrasse 20\, 8630 Rüti
CATEGORIES:Saison 2017/18
END:VEVENT
END:VCALENDAR
