BEGIN:VCALENDAR
PRODID:-//nuDatenautomaten//framework iCal4j //DE
VERSION:2.0
CALSCALE:GREGORIAN
BEGIN:VTIMEZONE
TZID:Europe/Berlin
LAST-MODIFIED:20260306T231828Z
TZURL:https://www.tzurl.org/zoneinfo/Europe/Berlin
X-LIC-LOCATION:Europe/Berlin
X-PROLEPTIC-TZNAME:LMT
BEGIN:STANDARD
TZNAME:CET
TZOFFSETFROM:+005328
TZOFFSETTO:+0100
DTSTART:18930401T000000
END:STANDARD
BEGIN:DAYLIGHT
TZNAME:CEST
TZOFFSETFROM:+0100
TZOFFSETTO:+0200
DTSTART:19160430T230000
RDATE:19400401T020000
RDATE:19430329T020000
RDATE:19460414T020000
RDATE:19470406T030000
RDATE:19480418T020000
RDATE:19490410T020000
RDATE:19800406T020000
END:DAYLIGHT
BEGIN:STANDARD
TZNAME:CET
TZOFFSETFROM:+0200
TZOFFSETTO:+0100
DTSTART:19161001T010000
RDATE:19421102T030000
RDATE:19431004T030000
RDATE:19441002T030000
RDATE:19451118T030000
RDATE:19461007T030000
END:STANDARD
BEGIN:DAYLIGHT
TZNAME:CEST
TZOFFSETFROM:+0100
TZOFFSETTO:+0200
DTSTART:19170416T020000
RRULE:FREQ=YEARLY;UNTIL=19180415T010000Z;BYMONTH=4;BYDAY=3MO
END:DAYLIGHT
BEGIN:STANDARD
TZNAME:CET
TZOFFSETFROM:+0200
TZOFFSETTO:+0100
DTSTART:19170917T030000
RRULE:FREQ=YEARLY;UNTIL=19180916T010000Z;BYMONTH=9;BYDAY=3MO
END:STANDARD
BEGIN:DAYLIGHT
TZNAME:CEST
TZOFFSETFROM:+0100
TZOFFSETTO:+0200
DTSTART:19440403T020000
RRULE:FREQ=YEARLY;UNTIL=19450402T010000Z;BYMONTH=4;BYDAY=1MO
END:DAYLIGHT
BEGIN:DAYLIGHT
TZNAME:CEMT
TZOFFSETFROM:+0200
TZOFFSETTO:+0300
DTSTART:19450524T020000
RDATE:19470511T030000
END:DAYLIGHT
BEGIN:DAYLIGHT
TZNAME:CEST
TZOFFSETFROM:+0300
TZOFFSETTO:+0200
DTSTART:19450924T030000
RDATE:19470629T030000
END:DAYLIGHT
BEGIN:STANDARD
TZNAME:CET
TZOFFSETFROM:+0100
TZOFFSETTO:+0100
DTSTART:19460101T000000
RDATE:19800101T000000
END:STANDARD
BEGIN:STANDARD
TZNAME:CET
TZOFFSETFROM:+0200
TZOFFSETTO:+0100
DTSTART:19471005T030000
RRULE:FREQ=YEARLY;UNTIL=19491002T010000Z;BYMONTH=10;BYDAY=1SU
END:STANDARD
BEGIN:STANDARD
TZNAME:CET
TZOFFSETFROM:+0200
TZOFFSETTO:+0100
DTSTART:19800928T030000
RRULE:FREQ=YEARLY;UNTIL=19950924T010000Z;BYMONTH=9;BYDAY=-1SU
END:STANDARD
BEGIN:DAYLIGHT
TZNAME:CEST
TZOFFSETFROM:+0100
TZOFFSETTO:+0200
DTSTART:19810329T020000
RRULE:FREQ=YEARLY;BYMONTH=3;BYDAY=-1SU
END:DAYLIGHT
BEGIN:STANDARD
TZNAME:CET
TZOFFSETFROM:+0200
TZOFFSETTO:+0100
DTSTART:19961027T030000
RRULE:FREQ=YEARLY;BYMONTH=10;BYDAY=-1SU
END:STANDARD
END:VTIMEZONE
BEGIN:VEVENT
DTSTAMP:20260424T181613Z
DTSTART;TZID=Europe/Berlin:20170909T160000
DTEND;TZID=Europe/Berlin:20170909T190000
SUMMARY:JUG 3.Liga Gr.1B Vorrunde Weinfelden vs Steckborn-Homburg (6)
UID:6010be51-5620-5356-e053-1fc7a80a74f7
STATUS:CONFIRMED
LAST-MODIFIED:20170910T085804Z
DESCRIPTION:3. Liga Jugend Gruppe 1B Vorrunde\nBegegnungs-Nr: 6\nHeim: Weinfelden\nGast: Steckborn-Homburg\nHalle: Poule in Romanshorn Pestalozzihalle\nAdresse: Bleichestrasse 3 (neben Hallenbad)\, 8570 Weinfelden\n
LOCATION:Poule in Romanshorn Pestalozzihalle Bleichestrasse 3 (neben Hallenbad)\, 8570 Weinfelden
CATEGORIES:Saison 2017/18
END:VEVENT
BEGIN:VEVENT
DTSTAMP:20260424T181613Z
DTSTART;TZID=Europe/Berlin:20180324T160000
DTEND;TZID=Europe/Berlin:20180324T190000
SUMMARY:JUG 3.Liga Gr.2B Final Weinfelden vs Bronschhofen (6)
UID:1589875a-fae5-445f-b113-94bb0f887912
STATUS:CONFIRMED
LAST-MODIFIED:20180327T083228Z
DESCRIPTION:3. Liga Jugend Gruppe 2B Final\nBegegnungs-Nr: 6\nHeim: Weinfelden\nGast: Bronschhofen\nHalle: Poule in Bronschhofen Halle Obermatt\nAdresse: Bleichestrasse 3 (neben Hallenbad)\, 8570 Weinfelden\n
LOCATION:Poule in Bronschhofen Halle Obermatt Bleichestrasse 3 (neben Hallenbad)\, 8570 Weinfelden
CATEGORIES:Saison 2017/18
END:VEVENT
BEGIN:VEVENT
DTSTAMP:20260424T181613Z
DTSTART;TZID=Europe/Berlin:20171202T143000
DTEND;TZID=Europe/Berlin:20171202T173000
SUMMARY:JUG 3.Liga Gr.1B Zw-Rde. Weinfelden vs Chur II (3)
UID:6010be51-59a7-5356-e053-1fc7a80a74f7
STATUS:CONFIRMED
LAST-MODIFIED:20171204T142059Z
DESCRIPTION:3. Liga Jugend Gruppe 1B Zw-Runde\nBegegnungs-Nr: 3\nHeim: Weinfelden\nGast: Chur II\nHalle: Poule in Rapperswil Kreuzstrasse\nAdresse: Bleichestrasse 3 (neben Hallenbad)\, 8570 Weinfelden\n
LOCATION:Poule in Rapperswil Kreuzstrasse Bleichestrasse 3 (neben Hallenbad)\, 8570 Weinfelden
CATEGORIES:Saison 2017/18
END:VEVENT
BEGIN:VEVENT
DTSTAMP:20260424T181613Z
DTSTART;TZID=Europe/Berlin:20170909T130000
DTEND;TZID=Europe/Berlin:20170909T160000
SUMMARY:JUG 3.Liga Gr.1B Vorrunde Romanshorn vs Weinfelden (2)
UID:6010be51-5622-5356-e053-1fc7a80a74f7
STATUS:CONFIRMED
LAST-MODIFIED:20170914T153016Z
DESCRIPTION:3. Liga Jugend Gruppe 1B Vorrunde\nBegegnungs-Nr: 2\nHeim: Romanshorn\nGast: Weinfelden\nHalle: Poule in Romanshorn Pestalozzihalle\nAdresse: Florastrasse\, 8590 Romanshorn\n
LOCATION:Poule in Romanshorn Pestalozzihalle Florastrasse\, 8590 Romanshorn
CATEGORIES:Saison 2017/18
END:VEVENT
BEGIN:VEVENT
DTSTAMP:20260424T181613Z
DTSTART;TZID=Europe/Berlin:20171202T160000
DTEND;TZID=Europe/Berlin:20171202T190000
SUMMARY:JUG 3.Liga Gr.1B Zw-Rde. Wuppenau vs Weinfelden (5)
UID:6010be51-59a9-5356-e053-1fc7a80a74f7
STATUS:CONFIRMED
LAST-MODIFIED:20171204T142144Z
DESCRIPTION:3. Liga Jugend Gruppe 1B Zw-Runde\nBegegnungs-Nr: 5\nHeim: Wuppenau\nGast: Weinfelden\nHalle: Poule in Rapperswil Kreuzstrasse\nAdresse: Nollenstrasse\, 9514 Wuppenau\n
LOCATION:Poule in Rapperswil Kreuzstrasse Nollenstrasse\, 9514 Wuppenau
CATEGORIES:Saison 2017/18
END:VEVENT
BEGIN:VEVENT
DTSTAMP:20260424T181613Z
DTSTART;TZID=Europe/Berlin:20171202T130000
DTEND;TZID=Europe/Berlin:20171202T160000
SUMMARY:JUG 3.Liga Gr.1B Zw-Rde. Rapperswil-Jona II vs Weinfelden (1)
UID:6010be51-59aa-5356-e053-1fc7a80a74f7
STATUS:CONFIRMED
LAST-MODIFIED:20171204T142020Z
DESCRIPTION:3. Liga Jugend Gruppe 1B Zw-Runde\nBegegnungs-Nr: 1\nHeim: Rapperswil-Jona II\nGast: Weinfelden\nHalle: Poule in Rapperswil Kreuzstrasse\nAdresse: Kreuzstrasse 43\, 8640 Rapperswil\n
LOCATION:Poule in Rapperswil Kreuzstrasse Kreuzstrasse 43\, 8640 Rapperswil
CATEGORIES:Saison 2017/18
END:VEVENT
BEGIN:VEVENT
DTSTAMP:20260424T181613Z
DTSTART;TZID=Europe/Berlin:20170909T143000
DTEND;TZID=Europe/Berlin:20170909T173000
SUMMARY:JUG 3.Liga Gr.1B Vorrunde St. Gallen III vs Weinfelden (3)
UID:6010be51-5904-5356-e053-1fc7a80a74f7
STATUS:CONFIRMED
LAST-MODIFIED:20170910T085746Z
DESCRIPTION:3. Liga Jugend Gruppe 1B Vorrunde\nBegegnungs-Nr: 3\nHeim: St. Gallen III\nGast: Weinfelden\nHalle: Poule in Romanshorn Pestalozzihalle\nAdresse: Zilstrasse 61\, 9016 St.Gallen\n
LOCATION:Poule in Romanshorn Pestalozzihalle Zilstrasse 61\, 9016 St.Gallen
CATEGORIES:Saison 2017/18
END:VEVENT
BEGIN:VEVENT
DTSTAMP:20260424T181613Z
DTSTART;TZID=Europe/Berlin:20180324T130000
DTEND;TZID=Europe/Berlin:20180324T160000
SUMMARY:JUG 3.Liga Gr.2B Final Buchs Zürich vs Weinfelden (2)
UID:8ae1a93e-5957-41cc-a39a-0a3ee53a3bad
STATUS:CONFIRMED
LAST-MODIFIED:20180327T083014Z
DESCRIPTION:3. Liga Jugend Gruppe 2B Final\nBegegnungs-Nr: 2\nHeim: Buchs Zürich\nGast: Weinfelden\nHalle: Poule in Bronschhofen Halle Obermatt\nAdresse: Drisglerstrasse 3\, 8107 Buchs ZH\n
LOCATION:Poule in Bronschhofen Halle Obermatt Drisglerstrasse 3\, 8107 Buchs ZH
CATEGORIES:Saison 2017/18
END:VEVENT
BEGIN:VEVENT
DTSTAMP:20260424T181613Z
DTSTART;TZID=Europe/Berlin:20180324T143000
DTEND;TZID=Europe/Berlin:20180324T173000
SUMMARY:JUG 3.Liga Gr.2B Final Niederhasli vs Weinfelden (3)
UID:a088b213-b939-48d6-b6db-6dab12bb6e62
STATUS:CONFIRMED
LAST-MODIFIED:20180327T083043Z
DESCRIPTION:3. Liga Jugend Gruppe 2B Final\nBegegnungs-Nr: 3\nHeim: Niederhasli\nGast: Weinfelden\nHalle: Poule in Bronschhofen Halle Obermatt\nAdresse: Dorfstrasse 22\, 8155 Niederhasli\n
LOCATION:Poule in Bronschhofen Halle Obermatt Dorfstrasse 22\, 8155 Niederhasli
CATEGORIES:Saison 2017/18
END:VEVENT
END:VCALENDAR
