BEGIN:VCALENDAR
PRODID:-//nuDatenautomaten//framework iCal4j //DE
VERSION:2.0
CALSCALE:GREGORIAN
BEGIN:VTIMEZONE
TZID:Europe/Berlin
LAST-MODIFIED:20260306T231828Z
TZURL:https://www.tzurl.org/zoneinfo/Europe/Berlin
X-LIC-LOCATION:Europe/Berlin
X-PROLEPTIC-TZNAME:LMT
BEGIN:STANDARD
TZNAME:CET
TZOFFSETFROM:+005328
TZOFFSETTO:+0100
DTSTART:18930401T000000
END:STANDARD
BEGIN:DAYLIGHT
TZNAME:CEST
TZOFFSETFROM:+0100
TZOFFSETTO:+0200
DTSTART:19160430T230000
RDATE:19400401T020000
RDATE:19430329T020000
RDATE:19460414T020000
RDATE:19470406T030000
RDATE:19480418T020000
RDATE:19490410T020000
RDATE:19800406T020000
END:DAYLIGHT
BEGIN:STANDARD
TZNAME:CET
TZOFFSETFROM:+0200
TZOFFSETTO:+0100
DTSTART:19161001T010000
RDATE:19421102T030000
RDATE:19431004T030000
RDATE:19441002T030000
RDATE:19451118T030000
RDATE:19461007T030000
END:STANDARD
BEGIN:DAYLIGHT
TZNAME:CEST
TZOFFSETFROM:+0100
TZOFFSETTO:+0200
DTSTART:19170416T020000
RRULE:FREQ=YEARLY;UNTIL=19180415T010000Z;BYMONTH=4;BYDAY=3MO
END:DAYLIGHT
BEGIN:STANDARD
TZNAME:CET
TZOFFSETFROM:+0200
TZOFFSETTO:+0100
DTSTART:19170917T030000
RRULE:FREQ=YEARLY;UNTIL=19180916T010000Z;BYMONTH=9;BYDAY=3MO
END:STANDARD
BEGIN:DAYLIGHT
TZNAME:CEST
TZOFFSETFROM:+0100
TZOFFSETTO:+0200
DTSTART:19440403T020000
RRULE:FREQ=YEARLY;UNTIL=19450402T010000Z;BYMONTH=4;BYDAY=1MO
END:DAYLIGHT
BEGIN:DAYLIGHT
TZNAME:CEMT
TZOFFSETFROM:+0200
TZOFFSETTO:+0300
DTSTART:19450524T020000
RDATE:19470511T030000
END:DAYLIGHT
BEGIN:DAYLIGHT
TZNAME:CEST
TZOFFSETFROM:+0300
TZOFFSETTO:+0200
DTSTART:19450924T030000
RDATE:19470629T030000
END:DAYLIGHT
BEGIN:STANDARD
TZNAME:CET
TZOFFSETFROM:+0100
TZOFFSETTO:+0100
DTSTART:19460101T000000
RDATE:19800101T000000
END:STANDARD
BEGIN:STANDARD
TZNAME:CET
TZOFFSETFROM:+0200
TZOFFSETTO:+0100
DTSTART:19471005T030000
RRULE:FREQ=YEARLY;UNTIL=19491002T010000Z;BYMONTH=10;BYDAY=1SU
END:STANDARD
BEGIN:STANDARD
TZNAME:CET
TZOFFSETFROM:+0200
TZOFFSETTO:+0100
DTSTART:19800928T030000
RRULE:FREQ=YEARLY;UNTIL=19950924T010000Z;BYMONTH=9;BYDAY=-1SU
END:STANDARD
BEGIN:DAYLIGHT
TZNAME:CEST
TZOFFSETFROM:+0100
TZOFFSETTO:+0200
DTSTART:19810329T020000
RRULE:FREQ=YEARLY;BYMONTH=3;BYDAY=-1SU
END:DAYLIGHT
BEGIN:STANDARD
TZNAME:CET
TZOFFSETFROM:+0200
TZOFFSETTO:+0100
DTSTART:19961027T030000
RRULE:FREQ=YEARLY;BYMONTH=10;BYDAY=-1SU
END:STANDARD
END:VTIMEZONE
BEGIN:VEVENT
DTSTAMP:20260424T164556Z
DTSTART;TZID=Europe/Berlin:20180326T200000
DTEND;TZID=Europe/Berlin:20180326T230000
SUMMARY:He 1. Liga PO1 Schenkon vs Rapid Luzern III (0)
UID:e0c870f6-dc72-4461-994f-940fd32b5e95
STATUS:CONFIRMED
LAST-MODIFIED:20180402T115329Z
DESCRIPTION:1. Liga Herren Playoff Final\nBegegnungs-Nr: 0\nHeim: Schenkon\nGast: Rapid Luzern III\n
LOCATION:
CATEGORIES:Saison 2017/18
END:VEVENT
BEGIN:VEVENT
DTSTAMP:20260424T164556Z
DTSTART;TZID=Europe/Berlin:20170925T200000
DTEND;TZID=Europe/Berlin:20170925T230000
SUMMARY:He 1. Liga Gr. 2 Schenkon vs Kriens II (0)
UID:6010be51-4026-5356-e053-1fc7a80a74f7
STATUS:CONFIRMED
LAST-MODIFIED:20170927T064704Z
DESCRIPTION:1. Liga Herren Gruppe 2\nBegegnungs-Nr: 0\nHeim: Schenkon\nGast: Kriens II\n
LOCATION:
CATEGORIES:Saison 2017/18
END:VEVENT
BEGIN:VEVENT
DTSTAMP:20260424T164556Z
DTSTART;TZID=Europe/Berlin:20171106T200000
DTEND;TZID=Europe/Berlin:20171106T230000
SUMMARY:He 1. Liga Gr. 2 Schenkon vs Rapid Luzern IV (0)
UID:6010be51-420a-5356-e053-1fc7a80a74f7
STATUS:CONFIRMED
LAST-MODIFIED:20171109T222315Z
DESCRIPTION:1. Liga Herren Gruppe 2\nBegegnungs-Nr: 0\nHeim: Schenkon\nGast: Rapid Luzern IV\n
LOCATION:
CATEGORIES:Saison 2017/18
END:VEVENT
BEGIN:VEVENT
DTSTAMP:20260424T164556Z
DTSTART;TZID=Europe/Berlin:20171211T200000
DTEND;TZID=Europe/Berlin:20171211T230000
SUMMARY:He 1. Liga Gr. 2 Schenkon vs Rothenburg (0)
UID:6010be51-4247-5356-e053-1fc7a80a74f7
STATUS:CONFIRMED
LAST-MODIFIED:20171217T145004Z
DESCRIPTION:1. Liga Herren Gruppe 2\nBegegnungs-Nr: 0\nHeim: Schenkon\nGast: Rothenburg\n
LOCATION:
CATEGORIES:Saison 2017/18
END:VEVENT
BEGIN:VEVENT
DTSTAMP:20260424T164556Z
DTSTART;TZID=Europe/Berlin:20171204T200000
DTEND;TZID=Europe/Berlin:20171204T230000
SUMMARY:He 1. Liga Gr. 2 Schenkon vs Baar II (0)
UID:6010be51-580c-5356-e053-1fc7a80a74f7
STATUS:CONFIRMED
LAST-MODIFIED:20171206T165636Z
DESCRIPTION:1. Liga Herren Gruppe 2\nBegegnungs-Nr: 0\nHeim: Schenkon\nGast: Baar II\n
LOCATION:
CATEGORIES:Saison 2017/18
END:VEVENT
BEGIN:VEVENT
DTSTAMP:20260424T164556Z
DTSTART;TZID=Europe/Berlin:20170918T200000
DTEND;TZID=Europe/Berlin:20170918T230000
SUMMARY:He 1. Liga Gr. 2 Schenkon vs Steinhausen (0)
UID:6010be51-5933-5356-e053-1fc7a80a74f7
STATUS:CONFIRMED
LAST-MODIFIED:20170924T152219Z
DESCRIPTION:1. Liga Herren Gruppe 2\nBegegnungs-Nr: 0\nHeim: Schenkon\nGast: Steinhausen\n
LOCATION:
CATEGORIES:Saison 2017/18
END:VEVENT
BEGIN:VEVENT
DTSTAMP:20260424T164556Z
DTSTART;TZID=Europe/Berlin:20180108T200000
DTEND;TZID=Europe/Berlin:20180108T230000
SUMMARY:He 1.Liga PO 4 Schenkon vs Hünenberg (2)
UID:58893e06-f266-40d4-b215-0e98c018b89b
STATUS:CONFIRMED
LAST-MODIFIED:20180112T084201Z
DESCRIPTION:1. Liga Herren Playoff 1/4 Finals\nBegegnungs-Nr: 2\nHeim: Schenkon\nGast: Hünenberg\n
LOCATION:
CATEGORIES:Saison 2017/18
END:VEVENT
BEGIN:VEVENT
DTSTAMP:20260424T164556Z
DTSTART;TZID=Europe/Berlin:20180129T200000
DTEND;TZID=Europe/Berlin:20180129T230000
SUMMARY:He 1.Liga PO2 Schenkon vs Kriens II (0)
UID:4037a29a-991f-49a5-9cc2-2ccf361882af
STATUS:CONFIRMED
LAST-MODIFIED:20180131T215235Z
DESCRIPTION:1. Liga Herren Playoff 1/2 Finals\nBegegnungs-Nr: 0\nHeim: Schenkon\nGast: Kriens II\n
LOCATION:
CATEGORIES:Saison 2017/18
END:VEVENT
BEGIN:VEVENT
DTSTAMP:20260424T164556Z
DTSTART;TZID=Europe/Berlin:20180324T153000
DTEND;TZID=Europe/Berlin:20180324T183000
SUMMARY:He 1. Liga PO1 Rapid Luzern III vs Schenkon (0)
UID:c9436452-5eeb-4a86-8698-86fef998a4c0
STATUS:CONFIRMED
LAST-MODIFIED:20180402T115313Z
DESCRIPTION:1. Liga Herren Playoff Final\nBegegnungs-Nr: 0\nHeim: Rapid Luzern III\nGast: Schenkon\n\nAdresse: Kreuzbuchstr. 60\, 6006 Luzern\n
LOCATION:Kreuzbuchstr. 60\, 6006 Luzern
CATEGORIES:Saison 2017/18
END:VEVENT
BEGIN:VEVENT
DTSTAMP:20260424T164556Z
DTSTART;TZID=Europe/Berlin:20170916T153000
DTEND;TZID=Europe/Berlin:20170916T183000
SUMMARY:He 1. Liga Gr. 2 Rapid Luzern IV vs Schenkon (0)
UID:6010be51-3fe0-5356-e053-1fc7a80a74f7
STATUS:CONFIRMED
LAST-MODIFIED:20170924T152116Z
DESCRIPTION:1. Liga Herren Gruppe 2\nBegegnungs-Nr: 0\nHeim: Rapid Luzern IV\nGast: Schenkon\n\nAdresse: Kreuzbuchstr. 60\, 6006 Luzern\n
LOCATION:Kreuzbuchstr. 60\, 6006 Luzern
CATEGORIES:Saison 2017/18
END:VEVENT
BEGIN:VEVENT
DTSTAMP:20260424T164556Z
DTSTART;TZID=Europe/Berlin:20170828T194500
DTEND;TZID=Europe/Berlin:20170828T224500
SUMMARY:He 1. Liga Gr. 2 Baar II vs Schenkon (0)
UID:6010be51-4019-5356-e053-1fc7a80a74f7
STATUS:CONFIRMED
LAST-MODIFIED:20170830T205024Z
DESCRIPTION:1. Liga Herren Gruppe 2\nBegegnungs-Nr: 0\nHeim: Baar II\nGast: Schenkon\n\nAdresse: Rigistrasse 175/177\, 6340 Baar\n
LOCATION:Rigistrasse 175/177\, 6340 Baar
CATEGORIES:Saison 2017/18
END:VEVENT
BEGIN:VEVENT
DTSTAMP:20260424T164556Z
DTSTART;TZID=Europe/Berlin:20170901T200000
DTEND;TZID=Europe/Berlin:20170901T230000
SUMMARY:He 1. Liga Gr. 2 Rothenburg vs Schenkon (0)
UID:6010be51-401b-5356-e053-1fc7a80a74f7
STATUS:CONFIRMED
LAST-MODIFIED:20170905T201017Z
DESCRIPTION:1. Liga Herren Gruppe 2\nBegegnungs-Nr: 0\nHeim: Rothenburg\nGast: Schenkon\n\nAdresse: Schulhausstrasse 6a\, 6023 Rothenburg\n
LOCATION:Schulhausstrasse 6a\, 6023 Rothenburg
CATEGORIES:Saison 2017/18
END:VEVENT
BEGIN:VEVENT
DTSTAMP:20260424T164556Z
DTSTART;TZID=Europe/Berlin:20171116T200000
DTEND;TZID=Europe/Berlin:20171116T230000
SUMMARY:He 1. Liga Gr. 2 Steinhausen vs Schenkon (0)
UID:6010be51-420c-5356-e053-1fc7a80a74f7
STATUS:CONFIRMED
LAST-MODIFIED:20171119T120907Z
DESCRIPTION:1. Liga Herren Gruppe 2\nBegegnungs-Nr: 0\nHeim: Steinhausen\nGast: Schenkon\n\nAdresse: Blickensdorferstrasse\, 6312 Steinhausen\n
LOCATION:Blickensdorferstrasse\, 6312 Steinhausen
CATEGORIES:Saison 2017/18
END:VEVENT
BEGIN:VEVENT
DTSTAMP:20260424T164556Z
DTSTART;TZID=Europe/Berlin:20171127T200000
DTEND;TZID=Europe/Berlin:20171127T230000
SUMMARY:He 1. Liga Gr. 2 Kriens II vs Schenkon (0)
UID:6010be51-420f-5356-e053-1fc7a80a74f7
STATUS:CONFIRMED
LAST-MODIFIED:20171201T124312Z
DESCRIPTION:1. Liga Herren Gruppe 2\nBegegnungs-Nr: 0\nHeim: Kriens II\nGast: Schenkon\n\nAdresse: Krauerstrasse 1\, 6010 Kriens\n
LOCATION:Krauerstrasse 1\, 6010 Kriens
CATEGORIES:Saison 2017/18
END:VEVENT
BEGIN:VEVENT
DTSTAMP:20260424T164556Z
DTSTART;TZID=Europe/Berlin:20180115T200000
DTEND;TZID=Europe/Berlin:20180115T230000
SUMMARY:He 1.Liga PO 4 Hünenberg vs Schenkon (6)
UID:3bf1c8d4-9a58-40a8-b38e-c999de556a07
STATUS:CONFIRMED
LAST-MODIFIED:20180119T101322Z
DESCRIPTION:1. Liga Herren Playoff 1/4 Finals\nBegegnungs-Nr: 6\nHeim: Hünenberg\nGast: Schenkon\n
LOCATION:
CATEGORIES:Saison 2017/18
END:VEVENT
BEGIN:VEVENT
DTSTAMP:20260424T164556Z
DTSTART;TZID=Europe/Berlin:20180219T200000
DTEND;TZID=Europe/Berlin:20180219T230000
SUMMARY:He 1.Liga PO2 Kriens II vs Schenkon (0)
UID:5710118b-e1cb-4b7d-9cb4-4b4b8b1fd377
STATUS:CONFIRMED
LAST-MODIFIED:20180221T165047Z
DESCRIPTION:1. Liga Herren Playoff 1/2 Finals\nBegegnungs-Nr: 0\nHeim: Kriens II\nGast: Schenkon\n
LOCATION:
CATEGORIES:Saison 2017/18
END:VEVENT
END:VCALENDAR
