BEGIN:VCALENDAR
PRODID:-//nuDatenautomaten//framework iCal4j //DE
VERSION:2.0
CALSCALE:GREGORIAN
BEGIN:VTIMEZONE
TZID:Europe/Berlin
LAST-MODIFIED:20260306T231828Z
TZURL:https://www.tzurl.org/zoneinfo/Europe/Berlin
X-LIC-LOCATION:Europe/Berlin
X-PROLEPTIC-TZNAME:LMT
BEGIN:STANDARD
TZNAME:CET
TZOFFSETFROM:+005328
TZOFFSETTO:+0100
DTSTART:18930401T000000
END:STANDARD
BEGIN:DAYLIGHT
TZNAME:CEST
TZOFFSETFROM:+0100
TZOFFSETTO:+0200
DTSTART:19160430T230000
RDATE:19400401T020000
RDATE:19430329T020000
RDATE:19460414T020000
RDATE:19470406T030000
RDATE:19480418T020000
RDATE:19490410T020000
RDATE:19800406T020000
END:DAYLIGHT
BEGIN:STANDARD
TZNAME:CET
TZOFFSETFROM:+0200
TZOFFSETTO:+0100
DTSTART:19161001T010000
RDATE:19421102T030000
RDATE:19431004T030000
RDATE:19441002T030000
RDATE:19451118T030000
RDATE:19461007T030000
END:STANDARD
BEGIN:DAYLIGHT
TZNAME:CEST
TZOFFSETFROM:+0100
TZOFFSETTO:+0200
DTSTART:19170416T020000
RRULE:FREQ=YEARLY;UNTIL=19180415T010000Z;BYMONTH=4;BYDAY=3MO
END:DAYLIGHT
BEGIN:STANDARD
TZNAME:CET
TZOFFSETFROM:+0200
TZOFFSETTO:+0100
DTSTART:19170917T030000
RRULE:FREQ=YEARLY;UNTIL=19180916T010000Z;BYMONTH=9;BYDAY=3MO
END:STANDARD
BEGIN:DAYLIGHT
TZNAME:CEST
TZOFFSETFROM:+0100
TZOFFSETTO:+0200
DTSTART:19440403T020000
RRULE:FREQ=YEARLY;UNTIL=19450402T010000Z;BYMONTH=4;BYDAY=1MO
END:DAYLIGHT
BEGIN:DAYLIGHT
TZNAME:CEMT
TZOFFSETFROM:+0200
TZOFFSETTO:+0300
DTSTART:19450524T020000
RDATE:19470511T030000
END:DAYLIGHT
BEGIN:DAYLIGHT
TZNAME:CEST
TZOFFSETFROM:+0300
TZOFFSETTO:+0200
DTSTART:19450924T030000
RDATE:19470629T030000
END:DAYLIGHT
BEGIN:STANDARD
TZNAME:CET
TZOFFSETFROM:+0100
TZOFFSETTO:+0100
DTSTART:19460101T000000
RDATE:19800101T000000
END:STANDARD
BEGIN:STANDARD
TZNAME:CET
TZOFFSETFROM:+0200
TZOFFSETTO:+0100
DTSTART:19471005T030000
RRULE:FREQ=YEARLY;UNTIL=19491002T010000Z;BYMONTH=10;BYDAY=1SU
END:STANDARD
BEGIN:STANDARD
TZNAME:CET
TZOFFSETFROM:+0200
TZOFFSETTO:+0100
DTSTART:19800928T030000
RRULE:FREQ=YEARLY;UNTIL=19950924T010000Z;BYMONTH=9;BYDAY=-1SU
END:STANDARD
BEGIN:DAYLIGHT
TZNAME:CEST
TZOFFSETFROM:+0100
TZOFFSETTO:+0200
DTSTART:19810329T020000
RRULE:FREQ=YEARLY;BYMONTH=3;BYDAY=-1SU
END:DAYLIGHT
BEGIN:STANDARD
TZNAME:CET
TZOFFSETFROM:+0200
TZOFFSETTO:+0100
DTSTART:19961027T030000
RRULE:FREQ=YEARLY;BYMONTH=10;BYDAY=-1SU
END:STANDARD
END:VTIMEZONE
BEGIN:VEVENT
DTSTAMP:20260424T163259Z
DTSTART;TZID=Europe/Berlin:20170919T194500
DTEND;TZID=Europe/Berlin:20170919T224500
SUMMARY:Ligue 2 Gr.1\, Ph.A Châtelaine V vs Meyrin IV (4)
UID:6010be51-5328-5356-e053-1fc7a80a74f7
STATUS:CONFIRMED
LAST-MODIFIED:20170920T113327Z
DESCRIPTION:2ème ligue Hommes Gr. 1 Phase A\nBegegnungs-Nr: 4\nHeim: Châtelaine V\nGast: Meyrin IV\n
LOCATION:
CATEGORIES:Saison 2017/18
END:VEVENT
BEGIN:VEVENT
DTSTAMP:20260424T163259Z
DTSTART;TZID=Europe/Berlin:20171212T194500
DTEND;TZID=Europe/Berlin:20171212T224500
SUMMARY:Ligue 2 Gr.1\, Ph.A Châtelaine V vs UGS-Chênois V (29)
UID:6010be51-5359-5356-e053-1fc7a80a74f7
STATUS:CONFIRMED
LAST-MODIFIED:20171213T194108Z
DESCRIPTION:2ème ligue Hommes Gr. 1 Phase A\nBegegnungs-Nr: 29\nHeim: Châtelaine V\nGast: UGS-Chênois V\n
LOCATION:
CATEGORIES:Saison 2017/18
END:VEVENT
BEGIN:VEVENT
DTSTAMP:20260424T163259Z
DTSTART;TZID=Europe/Berlin:20171128T194500
DTEND;TZID=Europe/Berlin:20171128T224500
SUMMARY:Ligue 2 Gr.1\, Ph.A Châtelaine V vs UGS-Chênois VIII (24)
UID:6010be51-535d-5356-e053-1fc7a80a74f7
STATUS:CONFIRMED
LAST-MODIFIED:20171129T133121Z
DESCRIPTION:2ème ligue Hommes Gr. 1 Phase A\nBegegnungs-Nr: 24\nHeim: Châtelaine V\nGast: UGS-Chênois VIII\n
LOCATION:
CATEGORIES:Saison 2017/18
END:VEVENT
BEGIN:VEVENT
DTSTAMP:20260424T163259Z
DTSTART;TZID=Europe/Berlin:20171107T194500
DTEND;TZID=Europe/Berlin:20171107T224500
SUMMARY:Ligue 2 Gr.1\, Ph.A Châtelaine V vs ZZ-Lancy VII (17)
UID:6010be51-5364-5356-e053-1fc7a80a74f7
STATUS:CONFIRMED
LAST-MODIFIED:20171107T212649Z
DESCRIPTION:2ème ligue Hommes Gr. 1 Phase A\nBegegnungs-Nr: 17\nHeim: Châtelaine V\nGast: ZZ-Lancy VII\n
LOCATION:
CATEGORIES:Saison 2017/18
END:VEVENT
BEGIN:VEVENT
DTSTAMP:20260424T163259Z
DTSTART;TZID=Europe/Berlin:20171010T194500
DTEND;TZID=Europe/Berlin:20171010T224500
SUMMARY:Ligue 2 Gr.1\, Ph.A Châtelaine V vs Mandement III (11)
UID:6010be51-5397-5356-e053-1fc7a80a74f7
STATUS:CONFIRMED
LAST-MODIFIED:20171011T124456Z
DESCRIPTION:2ème ligue Hommes Gr. 1 Phase A\nBegegnungs-Nr: 11\nHeim: Châtelaine V\nGast: Mandement III\n
LOCATION:
CATEGORIES:Saison 2017/18
END:VEVENT
BEGIN:VEVENT
DTSTAMP:20260424T163259Z
DTSTART;TZID=Europe/Berlin:20180411T194500
DTEND;TZID=Europe/Berlin:20180411T224500
SUMMARY:Ligue 3 Gr.4\, Ph.B Châtelaine V vs Veyrier VII (27)
UID:3d339b9f-d06a-4632-8ba0-3e2046fa26ae
STATUS:CONFIRMED
LAST-MODIFIED:20180315T202718Z
DESCRIPTION:3ème ligue Hommes Gr. 4 Phase B\nBegegnungs-Nr: 27\nHeim: Châtelaine V\nGast: Veyrier VII\n
LOCATION:
CATEGORIES:Saison 2017/18
END:VEVENT
BEGIN:VEVENT
DTSTAMP:20260424T163259Z
DTSTART;TZID=Europe/Berlin:20180131T194500
DTEND;TZID=Europe/Berlin:20180131T224500
SUMMARY:Ligue 3 Gr.4\, Ph.B Châtelaine V vs Vernier V (9)
UID:7957cd18-ac73-4cb6-a166-831bc09a9747
STATUS:CONFIRMED
LAST-MODIFIED:20180201T133926Z
DESCRIPTION:3ème ligue Hommes Gr. 4 Phase B\nBegegnungs-Nr: 9\nHeim: Châtelaine V\nGast: Vernier V\n
LOCATION:
CATEGORIES:Saison 2017/18
END:VEVENT
BEGIN:VEVENT
DTSTAMP:20260424T163259Z
DTSTART;TZID=Europe/Berlin:20180117T194500
DTEND;TZID=Europe/Berlin:20180117T224500
SUMMARY:Ligue 3 Gr.4\, Ph.B Châtelaine V vs Versoix IV (6)
UID:35574ec4-b436-4798-84c4-c0497a1f34ff
STATUS:CONFIRMED
LAST-MODIFIED:20180118T165532Z
DESCRIPTION:3ème ligue Hommes Gr. 4 Phase B\nBegegnungs-Nr: 6\nHeim: Châtelaine V\nGast: Versoix IV\n
LOCATION:
CATEGORIES:Saison 2017/18
END:VEVENT
BEGIN:VEVENT
DTSTAMP:20260424T163259Z
DTSTART;TZID=Europe/Berlin:20180418T194500
DTEND;TZID=Europe/Berlin:20180418T224500
SUMMARY:Ligue 3 Gr.4\, Ph.B Châtelaine V vs Carouge IX (30)
UID:b59393fd-169e-4aaa-ad02-0530e30c8479
STATUS:CONFIRMED
LAST-MODIFIED:20180419T121413Z
DESCRIPTION:3ème ligue Hommes Gr. 4 Phase B\nBegegnungs-Nr: 30\nHeim: Châtelaine V\nGast: Carouge IX\n
LOCATION:
CATEGORIES:Saison 2017/18
END:VEVENT
BEGIN:VEVENT
DTSTAMP:20260424T163259Z
DTSTART;TZID=Europe/Berlin:20180308T194500
DTEND;TZID=Europe/Berlin:20180308T224500
SUMMARY:Ligue 3 Gr.4\, Ph.B Châtelaine V vs ZZ-Lancy VIII (18)
UID:fdc3ff68-e16f-4e43-86a1-97cac7985d71
STATUS:CONFIRMED
LAST-MODIFIED:20180309T090940Z
DESCRIPTION:3ème ligue Hommes Gr. 4 Phase B\nBegegnungs-Nr: 18\nHeim: Châtelaine V\nGast: ZZ-Lancy VIII\n
LOCATION:
CATEGORIES:Saison 2017/18
END:VEVENT
BEGIN:VEVENT
DTSTAMP:20260424T163259Z
DTSTART;TZID=Europe/Berlin:20171205T194500
DTEND;TZID=Europe/Berlin:20171205T224500
SUMMARY:Ligue 2 Gr.1\, Ph.A Mandement III vs Châtelaine V (25)
UID:6010be51-535c-5356-e053-1fc7a80a74f7
STATUS:CONFIRMED
LAST-MODIFIED:20171206T203716Z
DESCRIPTION:2ème ligue Hommes Gr. 1 Phase A\nBegegnungs-Nr: 25\nHeim: Mandement III\nGast: Châtelaine V\n
LOCATION:
CATEGORIES:Saison 2017/18
END:VEVENT
BEGIN:VEVENT
DTSTAMP:20260424T163259Z
DTSTART;TZID=Europe/Berlin:20171114T194500
DTEND;TZID=Europe/Berlin:20171114T224500
SUMMARY:Ligue 2 Gr.1\, Ph.A Meyrin IV vs Châtelaine V (20)
UID:6010be51-5360-5356-e053-1fc7a80a74f7
STATUS:CONFIRMED
LAST-MODIFIED:20171115T203106Z
DESCRIPTION:2ème ligue Hommes Gr. 1 Phase A\nBegegnungs-Nr: 20\nHeim: Meyrin IV\nGast: Châtelaine V\n
LOCATION:
CATEGORIES:Saison 2017/18
END:VEVENT
BEGIN:VEVENT
DTSTAMP:20260424T163259Z
DTSTART;TZID=Europe/Berlin:20170912T194500
DTEND;TZID=Europe/Berlin:20170912T224500
SUMMARY:Ligue 2 Gr.1\, Ph.A ZZ-Lancy VII vs Châtelaine V (1)
UID:6010be51-5362-5356-e053-1fc7a80a74f7
STATUS:CONFIRMED
LAST-MODIFIED:20170913T154506Z
DESCRIPTION:2ème ligue Hommes Gr. 1 Phase A\nBegegnungs-Nr: 1\nHeim: ZZ-Lancy VII\nGast: Châtelaine V\n\nAdresse: Avenue du Curé-Baud 40\, 1212 Grand-Lancy\n
LOCATION:Avenue du Curé-Baud 40\, 1212 Grand-Lancy
CATEGORIES:Saison 2017/18
END:VEVENT
BEGIN:VEVENT
DTSTAMP:20260424T163259Z
DTSTART;TZID=Europe/Berlin:20171017T194500
DTEND;TZID=Europe/Berlin:20171017T224500
SUMMARY:Ligue 2 Gr.1\, Ph.A UGS-Chênois V vs Châtelaine V (13)
UID:6010be51-5395-5356-e053-1fc7a80a74f7
STATUS:CONFIRMED
LAST-MODIFIED:20171018T193746Z
DESCRIPTION:2ème ligue Hommes Gr. 1 Phase A\nBegegnungs-Nr: 13\nHeim: UGS-Chênois V\nGast: Châtelaine V\n
LOCATION:
CATEGORIES:Saison 2017/18
END:VEVENT
BEGIN:VEVENT
DTSTAMP:20260424T163259Z
DTSTART;TZID=Europe/Berlin:20170926T194500
DTEND;TZID=Europe/Berlin:20170926T224500
SUMMARY:Ligue 2 Gr.1\, Ph.A UGS-Chênois VIII vs Châtelaine V (9)
UID:6010be51-5399-5356-e053-1fc7a80a74f7
STATUS:CONFIRMED
LAST-MODIFIED:20170927T121801Z
DESCRIPTION:2ème ligue Hommes Gr. 1 Phase A\nBegegnungs-Nr: 9\nHeim: UGS-Chênois VIII\nGast: Châtelaine V\n
LOCATION:
CATEGORIES:Saison 2017/18
END:VEVENT
BEGIN:VEVENT
DTSTAMP:20260424T163259Z
DTSTART;TZID=Europe/Berlin:20180110T201500
DTEND;TZID=Europe/Berlin:20180110T231500
SUMMARY:Ligue 3 Gr.4\, Ph.B ZZ-Lancy VIII vs Châtelaine V (3)
UID:a55bf937-c81e-4be0-a9f4-814c5e94d71a
STATUS:CONFIRMED
LAST-MODIFIED:20180111T174426Z
DESCRIPTION:3ème ligue Hommes Gr. 4 Phase B\nBegegnungs-Nr: 3\nHeim: ZZ-Lancy VIII\nGast: Châtelaine V\n\nAdresse: Avenue du Curé-Baud 40\, 1212 Grand-Lancy\n
LOCATION:Avenue du Curé-Baud 40\, 1212 Grand-Lancy
CATEGORIES:Saison 2017/18
END:VEVENT
BEGIN:VEVENT
DTSTAMP:20260424T163259Z
DTSTART;TZID=Europe/Berlin:20180321T194500
DTEND;TZID=Europe/Berlin:20180321T224500
SUMMARY:Ligue 3 Gr.4\, Ph.B Vernier V vs Châtelaine V (24)
UID:ab84296a-5b0d-410a-bdfa-c6447e28a194
STATUS:CONFIRMED
LAST-MODIFIED:20180322T183453Z
DESCRIPTION:3ème ligue Hommes Gr. 4 Phase B\nBegegnungs-Nr: 24\nHeim: Vernier V\nGast: Châtelaine V\n\nAdresse: Rue du Village 6\, 1214 Vernier\n
LOCATION:Rue du Village 6\, 1214 Vernier
CATEGORIES:Saison 2017/18
END:VEVENT
BEGIN:VEVENT
DTSTAMP:20260424T163259Z
DTSTART;TZID=Europe/Berlin:20180314T194500
DTEND;TZID=Europe/Berlin:20180314T224500
SUMMARY:Ligue 3 Gr.4\, Ph.B Versoix IV vs Châtelaine V (21)
UID:c76f1742-de18-42e2-ae6b-a68f87457c2f
STATUS:CONFIRMED
LAST-MODIFIED:20180315T162113Z
DESCRIPTION:3ème ligue Hommes Gr. 4 Phase B\nBegegnungs-Nr: 21\nHeim: Versoix IV\nGast: Châtelaine V\n
LOCATION:
CATEGORIES:Saison 2017/18
END:VEVENT
BEGIN:VEVENT
DTSTAMP:20260424T163259Z
DTSTART;TZID=Europe/Berlin:20180228T194500
DTEND;TZID=Europe/Berlin:20180228T224500
SUMMARY:Ligue 3 Gr.4\, Ph.B Carouge IX vs Châtelaine V (15)
UID:3559e446-ec7c-41f6-9fa7-633ca04ffe3d
STATUS:CONFIRMED
LAST-MODIFIED:20180301T140104Z
DESCRIPTION:3ème ligue Hommes Gr. 4 Phase B\nBegegnungs-Nr: 15\nHeim: Carouge IX\nGast: Châtelaine V\n
LOCATION:
CATEGORIES:Saison 2017/18
END:VEVENT
BEGIN:VEVENT
DTSTAMP:20260424T163259Z
DTSTART;TZID=Europe/Berlin:20180207T194500
DTEND;TZID=Europe/Berlin:20180207T224500
SUMMARY:Ligue 3 Gr.4\, Ph.B Veyrier VII vs Châtelaine V (12)
UID:324f36d1-1248-4606-811c-d6a1d8aed395
STATUS:CONFIRMED
LAST-MODIFIED:20180315T202539Z
DESCRIPTION:3ème ligue Hommes Gr. 4 Phase B\nBegegnungs-Nr: 12\nHeim: Veyrier VII\nGast: Châtelaine V\n\nAdresse: -\, 1255 Veyrier\n
LOCATION:-\, 1255 Veyrier
CATEGORIES:Saison 2017/18
END:VEVENT
END:VCALENDAR
