BEGIN:VCALENDAR
PRODID:-//nuDatenautomaten//framework iCal4j //DE
VERSION:2.0
CALSCALE:GREGORIAN
BEGIN:VTIMEZONE
TZID:Europe/Berlin
LAST-MODIFIED:20260306T231828Z
TZURL:https://www.tzurl.org/zoneinfo/Europe/Berlin
X-LIC-LOCATION:Europe/Berlin
X-PROLEPTIC-TZNAME:LMT
BEGIN:STANDARD
TZNAME:CET
TZOFFSETFROM:+005328
TZOFFSETTO:+0100
DTSTART:18930401T000000
END:STANDARD
BEGIN:DAYLIGHT
TZNAME:CEST
TZOFFSETFROM:+0100
TZOFFSETTO:+0200
DTSTART:19160430T230000
RDATE:19400401T020000
RDATE:19430329T020000
RDATE:19460414T020000
RDATE:19470406T030000
RDATE:19480418T020000
RDATE:19490410T020000
RDATE:19800406T020000
END:DAYLIGHT
BEGIN:STANDARD
TZNAME:CET
TZOFFSETFROM:+0200
TZOFFSETTO:+0100
DTSTART:19161001T010000
RDATE:19421102T030000
RDATE:19431004T030000
RDATE:19441002T030000
RDATE:19451118T030000
RDATE:19461007T030000
END:STANDARD
BEGIN:DAYLIGHT
TZNAME:CEST
TZOFFSETFROM:+0100
TZOFFSETTO:+0200
DTSTART:19170416T020000
RRULE:FREQ=YEARLY;UNTIL=19180415T010000Z;BYMONTH=4;BYDAY=3MO
END:DAYLIGHT
BEGIN:STANDARD
TZNAME:CET
TZOFFSETFROM:+0200
TZOFFSETTO:+0100
DTSTART:19170917T030000
RRULE:FREQ=YEARLY;UNTIL=19180916T010000Z;BYMONTH=9;BYDAY=3MO
END:STANDARD
BEGIN:DAYLIGHT
TZNAME:CEST
TZOFFSETFROM:+0100
TZOFFSETTO:+0200
DTSTART:19440403T020000
RRULE:FREQ=YEARLY;UNTIL=19450402T010000Z;BYMONTH=4;BYDAY=1MO
END:DAYLIGHT
BEGIN:DAYLIGHT
TZNAME:CEMT
TZOFFSETFROM:+0200
TZOFFSETTO:+0300
DTSTART:19450524T020000
RDATE:19470511T030000
END:DAYLIGHT
BEGIN:DAYLIGHT
TZNAME:CEST
TZOFFSETFROM:+0300
TZOFFSETTO:+0200
DTSTART:19450924T030000
RDATE:19470629T030000
END:DAYLIGHT
BEGIN:STANDARD
TZNAME:CET
TZOFFSETFROM:+0100
TZOFFSETTO:+0100
DTSTART:19460101T000000
RDATE:19800101T000000
END:STANDARD
BEGIN:STANDARD
TZNAME:CET
TZOFFSETFROM:+0200
TZOFFSETTO:+0100
DTSTART:19471005T030000
RRULE:FREQ=YEARLY;UNTIL=19491002T010000Z;BYMONTH=10;BYDAY=1SU
END:STANDARD
BEGIN:STANDARD
TZNAME:CET
TZOFFSETFROM:+0200
TZOFFSETTO:+0100
DTSTART:19800928T030000
RRULE:FREQ=YEARLY;UNTIL=19950924T010000Z;BYMONTH=9;BYDAY=-1SU
END:STANDARD
BEGIN:DAYLIGHT
TZNAME:CEST
TZOFFSETFROM:+0100
TZOFFSETTO:+0200
DTSTART:19810329T020000
RRULE:FREQ=YEARLY;BYMONTH=3;BYDAY=-1SU
END:DAYLIGHT
BEGIN:STANDARD
TZNAME:CET
TZOFFSETFROM:+0200
TZOFFSETTO:+0100
DTSTART:19961027T030000
RRULE:FREQ=YEARLY;BYMONTH=10;BYDAY=-1SU
END:STANDARD
END:VTIMEZONE
BEGIN:VEVENT
DTSTAMP:20260424T181547Z
DTSTART;TZID=Europe/Berlin:20170905T201500
DTEND;TZID=Europe/Berlin:20170905T231500
SUMMARY:HE 3. Liga Gr. 4 Lyss III vs Port III (9)
UID:6010be51-3b72-5356-e053-1fc7a80a74f7
STATUS:CONFIRMED
LAST-MODIFIED:20170906T162822Z
DESCRIPTION:3. Liga Herren Gruppe 4\nBegegnungs-Nr: 9\nHeim: Lyss III\nGast: Port III\n\nAdresse: Stegmattweg 15-17\, 3250 Lyss\n
LOCATION:Stegmattweg 15-17\, 3250 Lyss
CATEGORIES:Saison 2017/18
END:VEVENT
BEGIN:VEVENT
DTSTAMP:20260424T181547Z
DTSTART;TZID=Europe/Berlin:20180227T201500
DTEND;TZID=Europe/Berlin:20180227T231500
SUMMARY:HE 3. Liga Gr. 4 Lyss III vs Brügg II (30)
UID:6010be51-3b82-5356-e053-1fc7a80a74f7
STATUS:CONFIRMED
LAST-MODIFIED:20180228T162516Z
DESCRIPTION:3. Liga Herren Gruppe 4\nBegegnungs-Nr: 30\nHeim: Lyss III\nGast: Brügg II\n\nAdresse: Stegmattweg 15-17\, 3250 Lyss\n
LOCATION:Stegmattweg 15-17\, 3250 Lyss
CATEGORIES:Saison 2017/18
END:VEVENT
BEGIN:VEVENT
DTSTAMP:20260424T181547Z
DTSTART;TZID=Europe/Berlin:20180222T201500
DTEND;TZID=Europe/Berlin:20180222T231500
SUMMARY:HE 3. Liga Gr. 4 Lyss III vs Pieterlen (22)
UID:6010be51-3b8b-5356-e053-1fc7a80a74f7
STATUS:CONFIRMED
LAST-MODIFIED:20180224T091435Z
DESCRIPTION:3. Liga Herren Gruppe 4\nBegegnungs-Nr: 22\nHeim: Lyss III\nGast: Pieterlen\n\nAdresse: Stegmattweg 15-17\, 3250 Lyss\n
LOCATION:Stegmattweg 15-17\, 3250 Lyss
CATEGORIES:Saison 2017/18
END:VEVENT
BEGIN:VEVENT
DTSTAMP:20260424T181547Z
DTSTART;TZID=Europe/Berlin:20171114T201500
DTEND;TZID=Europe/Berlin:20171114T231500
SUMMARY:HE 3. Liga Gr. 4 Lyss III vs Solothurn IV (34)
UID:6010be51-3bb3-5356-e053-1fc7a80a74f7
STATUS:CONFIRMED
LAST-MODIFIED:20171115T113925Z
DESCRIPTION:3. Liga Herren Gruppe 4\nBegegnungs-Nr: 34\nHeim: Lyss III\nGast: Solothurn IV\n\nAdresse: Stegmattweg 15-17\, 3250 Lyss\n
LOCATION:Stegmattweg 15-17\, 3250 Lyss
CATEGORIES:Saison 2017/18
END:VEVENT
BEGIN:VEVENT
DTSTAMP:20260424T181547Z
DTSTART;TZID=Europe/Berlin:20171219T201500
DTEND;TZID=Europe/Berlin:20171219T231500
SUMMARY:HE 3. Liga Gr. 4 Lyss III vs Langenthal II (3)
UID:6010be51-3c00-5356-e053-1fc7a80a74f7
STATUS:CONFIRMED
LAST-MODIFIED:20171220T080403Z
DESCRIPTION:3. Liga Herren Gruppe 4\nBegegnungs-Nr: 3\nHeim: Lyss III\nGast: Langenthal II\n\nAdresse: Stegmattweg 15-17\, 3250 Lyss\n
LOCATION:Stegmattweg 15-17\, 3250 Lyss
CATEGORIES:Saison 2017/18
END:VEVENT
BEGIN:VEVENT
DTSTAMP:20260424T181547Z
DTSTART;TZID=Europe/Berlin:20170919T201500
DTEND;TZID=Europe/Berlin:20170919T231500
SUMMARY:HE 3. Liga Gr. 4 Lyss III vs Grenchen (16)
UID:6010be51-3eab-5356-e053-1fc7a80a74f7
STATUS:CONFIRMED
LAST-MODIFIED:20170921T163939Z
DESCRIPTION:3. Liga Herren Gruppe 4\nBegegnungs-Nr: 16\nHeim: Lyss III\nGast: Grenchen\n\nAdresse: Stegmattweg 15-17\, 3250 Lyss\n
LOCATION:Stegmattweg 15-17\, 3250 Lyss
CATEGORIES:Saison 2017/18
END:VEVENT
BEGIN:VEVENT
DTSTAMP:20260424T181547Z
DTSTART;TZID=Europe/Berlin:20180327T201500
DTEND;TZID=Europe/Berlin:20180327T231500
SUMMARY:HE 3. Liga Gr. 4 Lyss III vs Aarberg IV (43)
UID:6010be51-3ee5-5356-e053-1fc7a80a74f7
STATUS:CONFIRMED
LAST-MODIFIED:20180330T071424Z
DESCRIPTION:3. Liga Herren Gruppe 4\nBegegnungs-Nr: 43\nHeim: Lyss III\nGast: Aarberg IV\n\nAdresse: Stegmattweg 15-17\, 3250 Lyss\n
LOCATION:Stegmattweg 15-17\, 3250 Lyss
CATEGORIES:Saison 2017/18
END:VEVENT
BEGIN:VEVENT
DTSTAMP:20260424T181547Z
DTSTART;TZID=Europe/Berlin:20180320T201500
DTEND;TZID=Europe/Berlin:20180320T231500
SUMMARY:HE 3. Liga Gr. 4 Lyss III vs Regio Moossee (40)
UID:6010be51-3ee8-5356-e053-1fc7a80a74f7
STATUS:CONFIRMED
LAST-MODIFIED:20180322T175739Z
DESCRIPTION:3. Liga Herren Gruppe 4\nBegegnungs-Nr: 40\nHeim: Lyss III\nGast: Regio Moossee\n\nAdresse: Stegmattweg 15-17\, 3250 Lyss\n
LOCATION:Stegmattweg 15-17\, 3250 Lyss
CATEGORIES:Saison 2017/18
END:VEVENT
BEGIN:VEVENT
DTSTAMP:20260424T181547Z
DTSTART;TZID=Europe/Berlin:20180123T201500
DTEND;TZID=Europe/Berlin:20180123T231500
SUMMARY:HE 3. Liga Gr. 4 Lyss III vs Burgdorf V (15)
UID:6010be51-3bf4-5356-e053-1fc7a80a74f7
STATUS:CONFIRMED
LAST-MODIFIED:20180124T174500Z
DESCRIPTION:3. Liga Herren Gruppe 4\nBegegnungs-Nr: 15\nHeim: Lyss III\nGast: Burgdorf V\n\nAdresse: Stegmattweg 15-17\, 3250 Lyss\n
LOCATION:Stegmattweg 15-17\, 3250 Lyss
CATEGORIES:Saison 2017/18
END:VEVENT
BEGIN:VEVENT
DTSTAMP:20260424T181547Z
DTSTART;TZID=Europe/Berlin:20170828T200000
DTEND;TZID=Europe/Berlin:20170828T230000
SUMMARY:HE 3. Liga Gr. 4 Langenthal II vs Lyss III (3)
UID:6010be51-3b76-5356-e053-1fc7a80a74f7
STATUS:CONFIRMED
LAST-MODIFIED:20170829T144538Z
DESCRIPTION:3. Liga Herren Gruppe 4\nBegegnungs-Nr: 3\nHeim: Langenthal II\nGast: Lyss III\n\nAdresse: Weststrasse 29\, 4900 Langenthal\n
LOCATION:Weststrasse 29\, 4900 Langenthal
CATEGORIES:Saison 2017/18
END:VEVENT
BEGIN:VEVENT
DTSTAMP:20260424T181547Z
DTSTART;TZID=Europe/Berlin:20171208T194500
DTEND;TZID=Europe/Berlin:20171208T224500
SUMMARY:HE 3. Liga Gr. 4 Aarberg IV vs Lyss III (43)
UID:6010be51-3b79-5356-e053-1fc7a80a74f7
STATUS:CONFIRMED
LAST-MODIFIED:20171209T070843Z
DESCRIPTION:3. Liga Herren Gruppe 4\nBegegnungs-Nr: 43\nHeim: Aarberg IV\nGast: Lyss III\n\nAdresse: Nidaustrasse 7\, 3270 Aarberg\n
LOCATION:Nidaustrasse 7\, 3270 Aarberg
CATEGORIES:Saison 2017/18
END:VEVENT
BEGIN:VEVENT
DTSTAMP:20260424T181547Z
DTSTART;TZID=Europe/Berlin:20180309T200000
DTEND;TZID=Europe/Berlin:20180309T230000
SUMMARY:HE 3. Liga Gr. 4 Solothurn IV vs Lyss III (34)
UID:6010be51-3b7e-5356-e053-1fc7a80a74f7
STATUS:CONFIRMED
LAST-MODIFIED:20180310T184949Z
DESCRIPTION:3. Liga Herren Gruppe 4\nBegegnungs-Nr: 34\nHeim: Solothurn IV\nGast: Lyss III\n\nAdresse: Untere Sternengasse 24\, 4500 Solothurn\n
LOCATION:Untere Sternengasse 24\, 4500 Solothurn
CATEGORIES:Saison 2017/18
END:VEVENT
BEGIN:VEVENT
DTSTAMP:20260424T181547Z
DTSTART;TZID=Europe/Berlin:20171019T200000
DTEND;TZID=Europe/Berlin:20171019T230000
SUMMARY:HE 3. Liga Gr. 4 Pieterlen vs Lyss III (22)
UID:6010be51-3bed-5356-e053-1fc7a80a74f7
STATUS:CONFIRMED
LAST-MODIFIED:20171020T165514Z
DESCRIPTION:3. Liga Herren Gruppe 4\nBegegnungs-Nr: 22\nHeim: Pieterlen\nGast: Lyss III\n\nAdresse: Bielstrasse 9\, 2542 Pieterlen\n
LOCATION:Bielstrasse 9\, 2542 Pieterlen
CATEGORIES:Saison 2017/18
END:VEVENT
BEGIN:VEVENT
DTSTAMP:20260424T181547Z
DTSTART;TZID=Europe/Berlin:20180202T200000
DTEND;TZID=Europe/Berlin:20180202T230000
SUMMARY:HE 3. Liga Gr. 4 Grenchen vs Lyss III (16)
UID:6010be51-3bf3-5356-e053-1fc7a80a74f7
STATUS:CONFIRMED
LAST-MODIFIED:20180205T181453Z
DESCRIPTION:3. Liga Herren Gruppe 4\nBegegnungs-Nr: 16\nHeim: Grenchen\nGast: Lyss III\n\nAdresse: Witmattstrasse\, 2540 Grenchen\n
LOCATION:Witmattstrasse\, 2540 Grenchen
CATEGORIES:Saison 2017/18
END:VEVENT
BEGIN:VEVENT
DTSTAMP:20260424T181547Z
DTSTART;TZID=Europe/Berlin:20180116T194500
DTEND;TZID=Europe/Berlin:20180116T224500
SUMMARY:HE 3. Liga Gr. 4 Port III vs Lyss III (9)
UID:6010be51-3bfa-5356-e053-1fc7a80a74f7
STATUS:CONFIRMED
LAST-MODIFIED:20180117T165446Z
DESCRIPTION:3. Liga Herren Gruppe 4\nBegegnungs-Nr: 9\nHeim: Port III\nGast: Lyss III\n\nAdresse: Allmendstrasse 23\, 2562 Port\n
LOCATION:Allmendstrasse 23\, 2562 Port
CATEGORIES:Saison 2017/18
END:VEVENT
BEGIN:VEVENT
DTSTAMP:20260424T181547Z
DTSTART;TZID=Europe/Berlin:20171205T200000
DTEND;TZID=Europe/Berlin:20171205T230000
SUMMARY:HE 3. Liga Gr. 4 Regio Moossee vs Lyss III (40)
UID:6010be51-58d5-5356-e053-1fc7a80a74f7
STATUS:CONFIRMED
LAST-MODIFIED:20171206T170119Z
DESCRIPTION:3. Liga Herren Gruppe 4\nBegegnungs-Nr: 40\nHeim: Regio Moossee\nGast: Lyss III\n\nAdresse: Schulhausstrasse 23-25\, 3302 Moosseedorf\n
LOCATION:Schulhausstrasse 23-25\, 3302 Moosseedorf
CATEGORIES:Saison 2017/18
END:VEVENT
BEGIN:VEVENT
DTSTAMP:20260424T181547Z
DTSTART;TZID=Europe/Berlin:20170922T193000
DTEND;TZID=Europe/Berlin:20170922T223000
SUMMARY:HE 3. Liga Gr. 4 Burgdorf V vs Lyss III (15)
UID:6010be51-592d-5356-e053-1fc7a80a74f7
STATUS:CONFIRMED
LAST-MODIFIED:20170923T091856Z
DESCRIPTION:3. Liga Herren Gruppe 4\nBegegnungs-Nr: 15\nHeim: Burgdorf V\nGast: Lyss III\n\nAdresse: Pestalozzistrasse 69\, 3400 Burgdorf\n
LOCATION:Pestalozzistrasse 69\, 3400 Burgdorf
CATEGORIES:Saison 2017/18
END:VEVENT
BEGIN:VEVENT
DTSTAMP:20260424T181547Z
DTSTART;TZID=Europe/Berlin:20171101T200000
DTEND;TZID=Europe/Berlin:20171101T230000
SUMMARY:HE 3. Liga Gr. 4 Brügg II vs Lyss III (30)
UID:6010be51-59f9-5356-e053-1fc7a80a74f7
STATUS:CONFIRMED
LAST-MODIFIED:20171104T172800Z
DESCRIPTION:3. Liga Herren Gruppe 4\nBegegnungs-Nr: 30\nHeim: Brügg II\nGast: Lyss III\n\nAdresse: Bärletweg 7\, 2555 Brügg\n
LOCATION:Bärletweg 7\, 2555 Brügg
CATEGORIES:Saison 2017/18
END:VEVENT
END:VCALENDAR
