BEGIN:VCALENDAR
PRODID:-//nuDatenautomaten//framework iCal4j //DE
VERSION:2.0
CALSCALE:GREGORIAN
BEGIN:VTIMEZONE
TZID:Europe/Berlin
LAST-MODIFIED:20260306T231828Z
TZURL:https://www.tzurl.org/zoneinfo/Europe/Berlin
X-LIC-LOCATION:Europe/Berlin
X-PROLEPTIC-TZNAME:LMT
BEGIN:STANDARD
TZNAME:CET
TZOFFSETFROM:+005328
TZOFFSETTO:+0100
DTSTART:18930401T000000
END:STANDARD
BEGIN:DAYLIGHT
TZNAME:CEST
TZOFFSETFROM:+0100
TZOFFSETTO:+0200
DTSTART:19160430T230000
RDATE:19400401T020000
RDATE:19430329T020000
RDATE:19460414T020000
RDATE:19470406T030000
RDATE:19480418T020000
RDATE:19490410T020000
RDATE:19800406T020000
END:DAYLIGHT
BEGIN:STANDARD
TZNAME:CET
TZOFFSETFROM:+0200
TZOFFSETTO:+0100
DTSTART:19161001T010000
RDATE:19421102T030000
RDATE:19431004T030000
RDATE:19441002T030000
RDATE:19451118T030000
RDATE:19461007T030000
END:STANDARD
BEGIN:DAYLIGHT
TZNAME:CEST
TZOFFSETFROM:+0100
TZOFFSETTO:+0200
DTSTART:19170416T020000
RRULE:FREQ=YEARLY;UNTIL=19180415T010000Z;BYMONTH=4;BYDAY=3MO
END:DAYLIGHT
BEGIN:STANDARD
TZNAME:CET
TZOFFSETFROM:+0200
TZOFFSETTO:+0100
DTSTART:19170917T030000
RRULE:FREQ=YEARLY;UNTIL=19180916T010000Z;BYMONTH=9;BYDAY=3MO
END:STANDARD
BEGIN:DAYLIGHT
TZNAME:CEST
TZOFFSETFROM:+0100
TZOFFSETTO:+0200
DTSTART:19440403T020000
RRULE:FREQ=YEARLY;UNTIL=19450402T010000Z;BYMONTH=4;BYDAY=1MO
END:DAYLIGHT
BEGIN:DAYLIGHT
TZNAME:CEMT
TZOFFSETFROM:+0200
TZOFFSETTO:+0300
DTSTART:19450524T020000
RDATE:19470511T030000
END:DAYLIGHT
BEGIN:DAYLIGHT
TZNAME:CEST
TZOFFSETFROM:+0300
TZOFFSETTO:+0200
DTSTART:19450924T030000
RDATE:19470629T030000
END:DAYLIGHT
BEGIN:STANDARD
TZNAME:CET
TZOFFSETFROM:+0100
TZOFFSETTO:+0100
DTSTART:19460101T000000
RDATE:19800101T000000
END:STANDARD
BEGIN:STANDARD
TZNAME:CET
TZOFFSETFROM:+0200
TZOFFSETTO:+0100
DTSTART:19471005T030000
RRULE:FREQ=YEARLY;UNTIL=19491002T010000Z;BYMONTH=10;BYDAY=1SU
END:STANDARD
BEGIN:STANDARD
TZNAME:CET
TZOFFSETFROM:+0200
TZOFFSETTO:+0100
DTSTART:19800928T030000
RRULE:FREQ=YEARLY;UNTIL=19950924T010000Z;BYMONTH=9;BYDAY=-1SU
END:STANDARD
BEGIN:DAYLIGHT
TZNAME:CEST
TZOFFSETFROM:+0100
TZOFFSETTO:+0200
DTSTART:19810329T020000
RRULE:FREQ=YEARLY;BYMONTH=3;BYDAY=-1SU
END:DAYLIGHT
BEGIN:STANDARD
TZNAME:CET
TZOFFSETFROM:+0200
TZOFFSETTO:+0100
DTSTART:19961027T030000
RRULE:FREQ=YEARLY;BYMONTH=10;BYDAY=-1SU
END:STANDARD
END:VTIMEZONE
BEGIN:VEVENT
DTSTAMP:20260424T181547Z
DTSTART;TZID=Europe/Berlin:20180117T201500
DTEND;TZID=Europe/Berlin:20180117T231500
SUMMARY:HE 4.Liga Gr.7 Thalwil IV vs Glarus II (0)
UID:6010be51-51d9-5356-e053-1fc7a80a74f7
STATUS:CONFIRMED
LAST-MODIFIED:20180118T103525Z
DESCRIPTION:4. Liga Herren Gruppe 7\nBegegnungs-Nr: 0\nHeim: Thalwil IV\nGast: Glarus II\n\nAdresse: Bergstrasse 2\, 8800 Thalwil\n
LOCATION:Bergstrasse 2\, 8800 Thalwil
CATEGORIES:Saison 2017/18
END:VEVENT
BEGIN:VEVENT
DTSTAMP:20260424T181547Z
DTSTART;TZID=Europe/Berlin:20180207T201500
DTEND;TZID=Europe/Berlin:20180207T231500
SUMMARY:HE 4.Liga Gr.7 Thalwil IV vs Wettswil II (0)
UID:6010be51-51d3-5356-e053-1fc7a80a74f7
STATUS:CONFIRMED
LAST-MODIFIED:20180213T091216Z
DESCRIPTION:4. Liga Herren Gruppe 7\nBegegnungs-Nr: 0\nHeim: Thalwil IV\nGast: Wettswil II\n\nAdresse: Bergstrasse 2\, 8800 Thalwil\n
LOCATION:Bergstrasse 2\, 8800 Thalwil
CATEGORIES:Saison 2017/18
END:VEVENT
BEGIN:VEVENT
DTSTAMP:20260424T181547Z
DTSTART;TZID=Europe/Berlin:20171101T201500
DTEND;TZID=Europe/Berlin:20171101T231500
SUMMARY:HE 4.Liga Gr.7 Thalwil IV vs Oberrieden (0)
UID:6010be51-4c8d-5356-e053-1fc7a80a74f7
STATUS:CONFIRMED
LAST-MODIFIED:20171102T143051Z
DESCRIPTION:4. Liga Herren Gruppe 7\nBegegnungs-Nr: 0\nHeim: Thalwil IV\nGast: Oberrieden\n\nAdresse: Bergstrasse 2\, 8800 Thalwil\n
LOCATION:Bergstrasse 2\, 8800 Thalwil
CATEGORIES:Saison 2017/18
END:VEVENT
BEGIN:VEVENT
DTSTAMP:20260424T181547Z
DTSTART;TZID=Europe/Berlin:20170913T201500
DTEND;TZID=Europe/Berlin:20170913T231500
SUMMARY:HE 4.Liga Gr.7 Thalwil IV vs Pinguin Zuerich II (0)
UID:6010be51-4ccb-5356-e053-1fc7a80a74f7
STATUS:CONFIRMED
LAST-MODIFIED:20170914T084337Z
DESCRIPTION:4. Liga Herren Gruppe 7\nBegegnungs-Nr: 0\nHeim: Thalwil IV\nGast: Pinguin Zuerich II\n\nAdresse: Bergstrasse 2\, 8800 Thalwil\n
LOCATION:Bergstrasse 2\, 8800 Thalwil
CATEGORIES:Saison 2017/18
END:VEVENT
BEGIN:VEVENT
DTSTAMP:20260424T181547Z
DTSTART;TZID=Europe/Berlin:20180314T201500
DTEND;TZID=Europe/Berlin:20180314T231500
SUMMARY:HE 4.Liga Gr.7 Thalwil IV vs Wädenswil VII (0)
UID:6010be51-519a-5356-e053-1fc7a80a74f7
STATUS:CONFIRMED
LAST-MODIFIED:20180319T171824Z
DESCRIPTION:4. Liga Herren Gruppe 7\nBegegnungs-Nr: 0\nHeim: Thalwil IV\nGast: Wädenswil VII\n\nAdresse: Bergstrasse 2\, 8800 Thalwil\n
LOCATION:Bergstrasse 2\, 8800 Thalwil
CATEGORIES:Saison 2017/18
END:VEVENT
BEGIN:VEVENT
DTSTAMP:20260424T181547Z
DTSTART;TZID=Europe/Berlin:20170906T201500
DTEND;TZID=Europe/Berlin:20170906T231500
SUMMARY:HE 4.Liga Gr.7 Thalwil IV vs Glarus II (0)
UID:6010be51-5871-5356-e053-1fc7a80a74f7
STATUS:CONFIRMED
LAST-MODIFIED:20170908T110349Z
DESCRIPTION:4. Liga Herren Gruppe 7\nBegegnungs-Nr: 0\nHeim: Thalwil IV\nGast: Glarus II\n\nAdresse: Bergstrasse 2\, 8800 Thalwil\n
LOCATION:Bergstrasse 2\, 8800 Thalwil
CATEGORIES:Saison 2017/18
END:VEVENT
BEGIN:VEVENT
DTSTAMP:20260424T181547Z
DTSTART;TZID=Europe/Berlin:20171115T201500
DTEND;TZID=Europe/Berlin:20171115T231500
SUMMARY:HE 4.Liga Gr.7 Thalwil IV vs BW-Wollishofen II (0)
UID:6010be51-5b4d-5356-e053-1fc7a80a74f7
STATUS:CONFIRMED
LAST-MODIFIED:20171116T142129Z
DESCRIPTION:4. Liga Herren Gruppe 7\nBegegnungs-Nr: 0\nHeim: Thalwil IV\nGast: BW-Wollishofen II\n\nAdresse: Bergstrasse 2\, 8800 Thalwil\n
LOCATION:Bergstrasse 2\, 8800 Thalwil
CATEGORIES:Saison 2017/18
END:VEVENT
BEGIN:VEVENT
DTSTAMP:20260424T181547Z
DTSTART;TZID=Europe/Berlin:20171206T201500
DTEND;TZID=Europe/Berlin:20171206T231500
SUMMARY:HE 4.Liga Gr.7 Thalwil IV vs Wollerau II (0)
UID:6010be51-5c9a-5356-e053-1fc7a80a74f7
STATUS:CONFIRMED
LAST-MODIFIED:20171213T154346Z
DESCRIPTION:4. Liga Herren Gruppe 7\nBegegnungs-Nr: 0\nHeim: Thalwil IV\nGast: Wollerau II\n\nAdresse: Bergstrasse 2\, 8800 Thalwil\n
LOCATION:Bergstrasse 2\, 8800 Thalwil
CATEGORIES:Saison 2017/18
END:VEVENT
BEGIN:VEVENT
DTSTAMP:20260424T181547Z
DTSTART;TZID=Europe/Berlin:20180308T194500
DTEND;TZID=Europe/Berlin:20180308T224500
SUMMARY:HE 4.Liga Gr.7 Oberrieden vs Thalwil IV (0)
UID:6010be51-519e-5356-e053-1fc7a80a74f7
STATUS:CONFIRMED
LAST-MODIFIED:20180309T145259Z
DESCRIPTION:4. Liga Herren Gruppe 7\nBegegnungs-Nr: 0\nHeim: Oberrieden\nGast: Thalwil IV\n\nAdresse: Langweg 2\, 8942 Oberrieden\n
LOCATION:Langweg 2\, 8942 Oberrieden
CATEGORIES:Saison 2017/18
END:VEVENT
BEGIN:VEVENT
DTSTAMP:20260424T181547Z
DTSTART;TZID=Europe/Berlin:20180122T193000
DTEND;TZID=Europe/Berlin:20180122T223000
SUMMARY:HE 4.Liga Gr.7 Pinguin Zuerich II vs Thalwil IV (0)
UID:6010be51-51d8-5356-e053-1fc7a80a74f7
STATUS:CONFIRMED
LAST-MODIFIED:20180124T090644Z
DESCRIPTION:4. Liga Herren Gruppe 7\nBegegnungs-Nr: 0\nHeim: Pinguin Zuerich II\nGast: Thalwil IV\n\nAdresse: Basteiplatz\, 8001 Zürich\n
LOCATION:Basteiplatz\, 8001 Zürich
CATEGORIES:Saison 2017/18
END:VEVENT
BEGIN:VEVENT
DTSTAMP:20260424T181547Z
DTSTART;TZID=Europe/Berlin:20171108T201500
DTEND;TZID=Europe/Berlin:20171108T231500
SUMMARY:HE 4.Liga Gr.7 Wädenswil VII vs Thalwil IV (0)
UID:6010be51-4c89-5356-e053-1fc7a80a74f7
STATUS:CONFIRMED
LAST-MODIFIED:20171113T133532Z
DESCRIPTION:4. Liga Herren Gruppe 7\nBegegnungs-Nr: 0\nHeim: Wädenswil VII\nGast: Thalwil IV\n\nAdresse: Speerstrasse 95\, 8820 Wädenswil\n
LOCATION:Speerstrasse 95\, 8820 Wädenswil
CATEGORIES:Saison 2017/18
END:VEVENT
BEGIN:VEVENT
DTSTAMP:20260424T181547Z
DTSTART;TZID=Europe/Berlin:20171003T200000
DTEND;TZID=Europe/Berlin:20171003T230000
SUMMARY:HE 4.Liga Gr.7 Wettswil II vs Thalwil IV (0)
UID:6010be51-4cc8-5356-e053-1fc7a80a74f7
STATUS:CONFIRMED
LAST-MODIFIED:20171004T073112Z
DESCRIPTION:4. Liga Herren Gruppe 7\nBegegnungs-Nr: 0\nHeim: Wettswil II\nGast: Thalwil IV\n\nAdresse: Hirsächersteig\, 8907 Wettswil\n
LOCATION:Hirsächersteig\, 8907 Wettswil
CATEGORIES:Saison 2017/18
END:VEVENT
BEGIN:VEVENT
DTSTAMP:20260424T181547Z
DTSTART;TZID=Europe/Berlin:20180409T200000
DTEND;TZID=Europe/Berlin:20180409T230000
SUMMARY:HE 4.Liga Gr.7 Wollerau II vs Thalwil IV (0)
UID:6010be51-5191-5356-e053-1fc7a80a74f7
STATUS:CONFIRMED
LAST-MODIFIED:20180419T082149Z
DESCRIPTION:4. Liga Herren Gruppe 7\nBegegnungs-Nr: 0\nHeim: Wollerau II\nGast: Thalwil IV\n\nAdresse: Erlenstrasse 18\, 8832 Wollerau\n
LOCATION:Erlenstrasse 18\, 8832 Wollerau
CATEGORIES:Saison 2017/18
END:VEVENT
BEGIN:VEVENT
DTSTAMP:20260424T181547Z
DTSTART;TZID=Europe/Berlin:20180323T200000
DTEND;TZID=Europe/Berlin:20180323T230000
SUMMARY:HE 4.Liga Gr.7 BW-Wollishofen II vs Thalwil IV (0)
UID:6010be51-5195-5356-e053-1fc7a80a74f7
STATUS:CONFIRMED
LAST-MODIFIED:20180324T132544Z
DESCRIPTION:4. Liga Herren Gruppe 7\nBegegnungs-Nr: 0\nHeim: BW-Wollishofen II\nGast: Thalwil IV\n\nAdresse: Kilchbergstr. 28\, 8038 Zürich\n
LOCATION:Kilchbergstr. 28\, 8038 Zürich
CATEGORIES:Saison 2017/18
END:VEVENT
END:VCALENDAR
