BEGIN:VCALENDAR
PRODID:-//nuDatenautomaten//framework iCal4j //DE
VERSION:2.0
CALSCALE:GREGORIAN
BEGIN:VTIMEZONE
TZID:Europe/Berlin
LAST-MODIFIED:20260306T231828Z
TZURL:https://www.tzurl.org/zoneinfo/Europe/Berlin
X-LIC-LOCATION:Europe/Berlin
X-PROLEPTIC-TZNAME:LMT
BEGIN:STANDARD
TZNAME:CET
TZOFFSETFROM:+005328
TZOFFSETTO:+0100
DTSTART:18930401T000000
END:STANDARD
BEGIN:DAYLIGHT
TZNAME:CEST
TZOFFSETFROM:+0100
TZOFFSETTO:+0200
DTSTART:19160430T230000
RDATE:19400401T020000
RDATE:19430329T020000
RDATE:19460414T020000
RDATE:19470406T030000
RDATE:19480418T020000
RDATE:19490410T020000
RDATE:19800406T020000
END:DAYLIGHT
BEGIN:STANDARD
TZNAME:CET
TZOFFSETFROM:+0200
TZOFFSETTO:+0100
DTSTART:19161001T010000
RDATE:19421102T030000
RDATE:19431004T030000
RDATE:19441002T030000
RDATE:19451118T030000
RDATE:19461007T030000
END:STANDARD
BEGIN:DAYLIGHT
TZNAME:CEST
TZOFFSETFROM:+0100
TZOFFSETTO:+0200
DTSTART:19170416T020000
RRULE:FREQ=YEARLY;UNTIL=19180415T010000Z;BYMONTH=4;BYDAY=3MO
END:DAYLIGHT
BEGIN:STANDARD
TZNAME:CET
TZOFFSETFROM:+0200
TZOFFSETTO:+0100
DTSTART:19170917T030000
RRULE:FREQ=YEARLY;UNTIL=19180916T010000Z;BYMONTH=9;BYDAY=3MO
END:STANDARD
BEGIN:DAYLIGHT
TZNAME:CEST
TZOFFSETFROM:+0100
TZOFFSETTO:+0200
DTSTART:19440403T020000
RRULE:FREQ=YEARLY;UNTIL=19450402T010000Z;BYMONTH=4;BYDAY=1MO
END:DAYLIGHT
BEGIN:DAYLIGHT
TZNAME:CEMT
TZOFFSETFROM:+0200
TZOFFSETTO:+0300
DTSTART:19450524T020000
RDATE:19470511T030000
END:DAYLIGHT
BEGIN:DAYLIGHT
TZNAME:CEST
TZOFFSETFROM:+0300
TZOFFSETTO:+0200
DTSTART:19450924T030000
RDATE:19470629T030000
END:DAYLIGHT
BEGIN:STANDARD
TZNAME:CET
TZOFFSETFROM:+0100
TZOFFSETTO:+0100
DTSTART:19460101T000000
RDATE:19800101T000000
END:STANDARD
BEGIN:STANDARD
TZNAME:CET
TZOFFSETFROM:+0200
TZOFFSETTO:+0100
DTSTART:19471005T030000
RRULE:FREQ=YEARLY;UNTIL=19491002T010000Z;BYMONTH=10;BYDAY=1SU
END:STANDARD
BEGIN:STANDARD
TZNAME:CET
TZOFFSETFROM:+0200
TZOFFSETTO:+0100
DTSTART:19800928T030000
RRULE:FREQ=YEARLY;UNTIL=19950924T010000Z;BYMONTH=9;BYDAY=-1SU
END:STANDARD
BEGIN:DAYLIGHT
TZNAME:CEST
TZOFFSETFROM:+0100
TZOFFSETTO:+0200
DTSTART:19810329T020000
RRULE:FREQ=YEARLY;BYMONTH=3;BYDAY=-1SU
END:DAYLIGHT
BEGIN:STANDARD
TZNAME:CET
TZOFFSETFROM:+0200
TZOFFSETTO:+0100
DTSTART:19961027T030000
RRULE:FREQ=YEARLY;BYMONTH=10;BYDAY=-1SU
END:STANDARD
END:VTIMEZONE
BEGIN:VEVENT
DTSTAMP:20260419T212418Z
DTSTART;TZID=Europe/Berlin:20170921T193000
DTEND;TZID=Europe/Berlin:20170921T223000
SUMMARY:S L1 Gr 1 Crissier vs Forward-Morges (0)
UID:6010be51-51e8-5356-e053-1fc7a80a74f7
STATUS:CONFIRMED
LAST-MODIFIED:20170927T121454Z
DESCRIPTION:1ère ligue Seniors Groupe 1\nBegegnungs-Nr: 0\nHeim: Crissier\nGast: Forward-Morges\n\nAdresse: ch. des Oches du Mur\, 1023 Crissier\n
LOCATION:ch. des Oches du Mur\, 1023 Crissier
CATEGORIES:Saison 2017/18
END:VEVENT
BEGIN:VEVENT
DTSTAMP:20260419T212418Z
DTSTART;TZID=Europe/Berlin:20171109T193000
DTEND;TZID=Europe/Berlin:20171109T223000
SUMMARY:S L1 Gr 1 Crissier vs Vevey (0)
UID:6010be51-51ed-5356-e053-1fc7a80a74f7
STATUS:CONFIRMED
LAST-MODIFIED:20171116T103234Z
DESCRIPTION:1ère ligue Seniors Groupe 1\nBegegnungs-Nr: 0\nHeim: Crissier\nGast: Vevey\n\nAdresse: ch. des Oches du Mur\, 1023 Crissier\n
LOCATION:ch. des Oches du Mur\, 1023 Crissier
CATEGORIES:Saison 2017/18
END:VEVENT
BEGIN:VEVENT
DTSTAMP:20260419T212418Z
DTSTART;TZID=Europe/Berlin:20180301T193000
DTEND;TZID=Europe/Berlin:20180301T223000
SUMMARY:S L1 Gr 1 Crissier vs Bulle (0)
UID:6010be51-50a6-5356-e053-1fc7a80a74f7
STATUS:CONFIRMED
LAST-MODIFIED:20180307T164348Z
DESCRIPTION:1ère ligue Seniors Groupe 1\nBegegnungs-Nr: 0\nHeim: Crissier\nGast: Bulle\n\nAdresse: ch. des Oches du Mur\, 1023 Crissier\n
LOCATION:ch. des Oches du Mur\, 1023 Crissier
CATEGORIES:Saison 2017/18
END:VEVENT
BEGIN:VEVENT
DTSTAMP:20260419T212418Z
DTSTART;TZID=Europe/Berlin:20180322T193000
DTEND;TZID=Europe/Berlin:20180322T223000
SUMMARY:S L1 Gr 1 Crissier vs Montriond (0)
UID:6010be51-50a8-5356-e053-1fc7a80a74f7
STATUS:CONFIRMED
LAST-MODIFIED:20180328T084859Z
DESCRIPTION:1ère ligue Seniors Groupe 1\nBegegnungs-Nr: 0\nHeim: Crissier\nGast: Montriond\n\nAdresse: ch. des Oches du Mur\, 1023 Crissier\n
LOCATION:ch. des Oches du Mur\, 1023 Crissier
CATEGORIES:Saison 2017/18
END:VEVENT
BEGIN:VEVENT
DTSTAMP:20260419T212418Z
DTSTART;TZID=Europe/Berlin:20180111T193000
DTEND;TZID=Europe/Berlin:20180111T223000
SUMMARY:S L1 Gr 1 Crissier vs Collombey/Muraz (0)
UID:6010be51-50a0-5356-e053-1fc7a80a74f7
STATUS:CONFIRMED
LAST-MODIFIED:20180118T165436Z
DESCRIPTION:1ère ligue Seniors Groupe 1\nBegegnungs-Nr: 0\nHeim: Crissier\nGast: Collombey/Muraz\n\nAdresse: ch. des Oches du Mur\, 1023 Crissier\n
LOCATION:ch. des Oches du Mur\, 1023 Crissier
CATEGORIES:Saison 2017/18
END:VEVENT
BEGIN:VEVENT
DTSTAMP:20260419T212418Z
DTSTART;TZID=Europe/Berlin:20171011T193000
DTEND;TZID=Europe/Berlin:20171011T223000
SUMMARY:S L1 Gr 1 Collombey/Muraz vs Crissier (0)
UID:6010be51-51eb-5356-e053-1fc7a80a74f7
STATUS:CONFIRMED
LAST-MODIFIED:20171018T153121Z
DESCRIPTION:1ère ligue Seniors Groupe 1\nBegegnungs-Nr: 0\nHeim: Collombey/Muraz\nGast: Crissier\n\nAdresse: Route du Montagnier 81\, 1868 Collombey\n
LOCATION:Route du Montagnier 81\, 1868 Collombey
CATEGORIES:Saison 2017/18
END:VEVENT
BEGIN:VEVENT
DTSTAMP:20260419T212418Z
DTSTART;TZID=Europe/Berlin:20171122T193000
DTEND;TZID=Europe/Berlin:20171122T223000
SUMMARY:S L1 Gr 1 Bulle vs Crissier (0)
UID:6010be51-51ef-5356-e053-1fc7a80a74f7
STATUS:CONFIRMED
LAST-MODIFIED:20171128T155045Z
DESCRIPTION:1ère ligue Seniors Groupe 1\nBegegnungs-Nr: 0\nHeim: Bulle\nGast: Crissier\n\nAdresse: Rue du Stade 50\, 1630 Bulle\n
LOCATION:Rue du Stade 50\, 1630 Bulle
CATEGORIES:Saison 2017/18
END:VEVENT
BEGIN:VEVENT
DTSTAMP:20260419T212418Z
DTSTART;TZID=Europe/Berlin:20171208T193000
DTEND;TZID=Europe/Berlin:20171208T223000
SUMMARY:S L1 Gr 1 Montriond vs Crissier (0)
UID:6010be51-51f1-5356-e053-1fc7a80a74f7
STATUS:CONFIRMED
LAST-MODIFIED:20171214T152530Z
DESCRIPTION:1ère ligue Seniors Groupe 1\nBegegnungs-Nr: 0\nHeim: Montriond\nGast: Crissier\n\nAdresse: Avenue d'Ouchy 45\, 1006 Lausanne\n
LOCATION:Avenue d'Ouchy 45\, 1006 Lausanne
CATEGORIES:Saison 2017/18
END:VEVENT
BEGIN:VEVENT
DTSTAMP:20260419T212418Z
DTSTART;TZID=Europe/Berlin:20180208T193000
DTEND;TZID=Europe/Berlin:20180208T223000
SUMMARY:S L1 Gr 1 Vevey vs Crissier (0)
UID:6010be51-50a3-5356-e053-1fc7a80a74f7
STATUS:CONFIRMED
LAST-MODIFIED:20180214T172842Z
DESCRIPTION:1ère ligue Seniors Groupe 1\nBegegnungs-Nr: 0\nHeim: Vevey\nGast: Crissier\n\nAdresse: Rue Louis-Meyer\, 1800 Vevey\n
LOCATION:Rue Louis-Meyer\, 1800 Vevey
CATEGORIES:Saison 2017/18
END:VEVENT
BEGIN:VEVENT
DTSTAMP:20260419T212418Z
DTSTART;TZID=Europe/Berlin:20171211T200000
DTEND;TZID=Europe/Berlin:20171211T230000
SUMMARY:S L1 Gr 1 Forward-Morges vs Crissier (0)
UID:6010be51-509d-5356-e053-1fc7a80a74f7
STATUS:CONFIRMED
LAST-MODIFIED:20171220T101403Z
DESCRIPTION:1ère ligue Seniors Groupe 1\nBegegnungs-Nr: 0\nHeim: Forward-Morges\nGast: Crissier\n\nAdresse: Chemin de Tolochenaz\, 1110 Morges\n
LOCATION:Chemin de Tolochenaz\, 1110 Morges
CATEGORIES:Saison 2017/18
END:VEVENT
END:VCALENDAR
