BEGIN:VCALENDAR
PRODID:-//nuDatenautomaten//framework iCal4j //DE
VERSION:2.0
CALSCALE:GREGORIAN
BEGIN:VTIMEZONE
TZID:Europe/Berlin
LAST-MODIFIED:20260306T231828Z
TZURL:https://www.tzurl.org/zoneinfo/Europe/Berlin
X-LIC-LOCATION:Europe/Berlin
X-PROLEPTIC-TZNAME:LMT
BEGIN:STANDARD
TZNAME:CET
TZOFFSETFROM:+005328
TZOFFSETTO:+0100
DTSTART:18930401T000000
END:STANDARD
BEGIN:DAYLIGHT
TZNAME:CEST
TZOFFSETFROM:+0100
TZOFFSETTO:+0200
DTSTART:19160430T230000
RDATE:19400401T020000
RDATE:19430329T020000
RDATE:19460414T020000
RDATE:19470406T030000
RDATE:19480418T020000
RDATE:19490410T020000
RDATE:19800406T020000
END:DAYLIGHT
BEGIN:STANDARD
TZNAME:CET
TZOFFSETFROM:+0200
TZOFFSETTO:+0100
DTSTART:19161001T010000
RDATE:19421102T030000
RDATE:19431004T030000
RDATE:19441002T030000
RDATE:19451118T030000
RDATE:19461007T030000
END:STANDARD
BEGIN:DAYLIGHT
TZNAME:CEST
TZOFFSETFROM:+0100
TZOFFSETTO:+0200
DTSTART:19170416T020000
RRULE:FREQ=YEARLY;UNTIL=19180415T010000Z;BYMONTH=4;BYDAY=3MO
END:DAYLIGHT
BEGIN:STANDARD
TZNAME:CET
TZOFFSETFROM:+0200
TZOFFSETTO:+0100
DTSTART:19170917T030000
RRULE:FREQ=YEARLY;UNTIL=19180916T010000Z;BYMONTH=9;BYDAY=3MO
END:STANDARD
BEGIN:DAYLIGHT
TZNAME:CEST
TZOFFSETFROM:+0100
TZOFFSETTO:+0200
DTSTART:19440403T020000
RRULE:FREQ=YEARLY;UNTIL=19450402T010000Z;BYMONTH=4;BYDAY=1MO
END:DAYLIGHT
BEGIN:DAYLIGHT
TZNAME:CEMT
TZOFFSETFROM:+0200
TZOFFSETTO:+0300
DTSTART:19450524T020000
RDATE:19470511T030000
END:DAYLIGHT
BEGIN:DAYLIGHT
TZNAME:CEST
TZOFFSETFROM:+0300
TZOFFSETTO:+0200
DTSTART:19450924T030000
RDATE:19470629T030000
END:DAYLIGHT
BEGIN:STANDARD
TZNAME:CET
TZOFFSETFROM:+0100
TZOFFSETTO:+0100
DTSTART:19460101T000000
RDATE:19800101T000000
END:STANDARD
BEGIN:STANDARD
TZNAME:CET
TZOFFSETFROM:+0200
TZOFFSETTO:+0100
DTSTART:19471005T030000
RRULE:FREQ=YEARLY;UNTIL=19491002T010000Z;BYMONTH=10;BYDAY=1SU
END:STANDARD
BEGIN:STANDARD
TZNAME:CET
TZOFFSETFROM:+0200
TZOFFSETTO:+0100
DTSTART:19800928T030000
RRULE:FREQ=YEARLY;UNTIL=19950924T010000Z;BYMONTH=9;BYDAY=-1SU
END:STANDARD
BEGIN:DAYLIGHT
TZNAME:CEST
TZOFFSETFROM:+0100
TZOFFSETTO:+0200
DTSTART:19810329T020000
RRULE:FREQ=YEARLY;BYMONTH=3;BYDAY=-1SU
END:DAYLIGHT
BEGIN:STANDARD
TZNAME:CET
TZOFFSETFROM:+0200
TZOFFSETTO:+0100
DTSTART:19961027T030000
RRULE:FREQ=YEARLY;BYMONTH=10;BYDAY=-1SU
END:STANDARD
END:VTIMEZONE
BEGIN:VEVENT
DTSTAMP:20260424T193348Z
DTSTART;TZID=Europe/Berlin:20171206T195500
DTEND;TZID=Europe/Berlin:20171206T225500
SUMMARY:HE 2. Liga Gr. 2 Brügg vs Ostermundigen III (43)
UID:6010be51-3c41-5356-e053-1fc7a80a74f7
STATUS:CONFIRMED
LAST-MODIFIED:20171208T161619Z
DESCRIPTION:2. Liga Herren Gruppe 2\nBegegnungs-Nr: 43\nHeim: Brügg\nGast: Ostermundigen III\n\nAdresse: Bärletweg 7\, 2555 Brügg\n
LOCATION:Bärletweg 7\, 2555 Brügg
CATEGORIES:Saison 2017/18
END:VEVENT
BEGIN:VEVENT
DTSTAMP:20260424T193348Z
DTSTART;TZID=Europe/Berlin:20171030T200000
DTEND;TZID=Europe/Berlin:20171030T230000
SUMMARY:HE 2. Liga Gr. 2 Brügg vs Burgdorf III (24)
UID:6010be51-3c7a-5356-e053-1fc7a80a74f7
STATUS:CONFIRMED
LAST-MODIFIED:20171031T175632Z
DESCRIPTION:2. Liga Herren Gruppe 2\nBegegnungs-Nr: 24\nHeim: Brügg\nGast: Burgdorf III\n\nAdresse: Bärletweg 7\, 2555 Brügg\n
LOCATION:Bärletweg 7\, 2555 Brügg
CATEGORIES:Saison 2017/18
END:VEVENT
BEGIN:VEVENT
DTSTAMP:20260424T193348Z
DTSTART;TZID=Europe/Berlin:20170920T200000
DTEND;TZID=Europe/Berlin:20170920T230000
SUMMARY:HE 2. Liga Gr. 2 Brügg vs Port II (20)
UID:6010be51-3c7e-5356-e053-1fc7a80a74f7
STATUS:CONFIRMED
LAST-MODIFIED:20170921T163716Z
DESCRIPTION:2. Liga Herren Gruppe 2\nBegegnungs-Nr: 20\nHeim: Brügg\nGast: Port II\n\nAdresse: Bärletweg 7\, 2555 Brügg\n
LOCATION:Bärletweg 7\, 2555 Brügg
CATEGORIES:Saison 2017/18
END:VEVENT
BEGIN:VEVENT
DTSTAMP:20260424T193348Z
DTSTART;TZID=Europe/Berlin:20180321T200000
DTEND;TZID=Europe/Berlin:20180321T230000
SUMMARY:HE 2. Liga Gr. 2 Brügg vs Kirchberg (39)
UID:6010be51-3cf9-5356-e053-1fc7a80a74f7
STATUS:CONFIRMED
LAST-MODIFIED:20180322T175544Z
DESCRIPTION:2. Liga Herren Gruppe 2\nBegegnungs-Nr: 39\nHeim: Brügg\nGast: Kirchberg\n\nAdresse: Bärletweg 7\, 2555 Brügg\n
LOCATION:Bärletweg 7\, 2555 Brügg
CATEGORIES:Saison 2017/18
END:VEVENT
BEGIN:VEVENT
DTSTAMP:20260424T193348Z
DTSTART;TZID=Europe/Berlin:20180319T200000
DTEND;TZID=Europe/Berlin:20180319T230000
SUMMARY:HE 2. Liga Gr. 2 Brügg vs Herzogenbuchsee (31)
UID:6010be51-3d6d-5356-e053-1fc7a80a74f7
STATUS:CONFIRMED
LAST-MODIFIED:20180320T162531Z
DESCRIPTION:2. Liga Herren Gruppe 2\nBegegnungs-Nr: 31\nHeim: Brügg\nGast: Herzogenbuchsee\n\nAdresse: Bärletweg 7\, 2555 Brügg\n
LOCATION:Bärletweg 7\, 2555 Brügg
CATEGORIES:Saison 2017/18
END:VEVENT
BEGIN:VEVENT
DTSTAMP:20260424T193348Z
DTSTART;TZID=Europe/Berlin:20180205T200000
DTEND;TZID=Europe/Berlin:20180205T230000
SUMMARY:HE 2. Liga Gr. 2 Brügg vs Lyss (29)
UID:6010be51-3d6f-5356-e053-1fc7a80a74f7
STATUS:CONFIRMED
LAST-MODIFIED:20180206T102009Z
DESCRIPTION:2. Liga Herren Gruppe 2\nBegegnungs-Nr: 29\nHeim: Brügg\nGast: Lyss\n\nAdresse: Bärletweg 7\, 2555 Brügg\n
LOCATION:Bärletweg 7\, 2555 Brügg
CATEGORIES:Saison 2017/18
END:VEVENT
BEGIN:VEVENT
DTSTAMP:20260424T193348Z
DTSTART;TZID=Europe/Berlin:20171213T200000
DTEND;TZID=Europe/Berlin:20171213T230000
SUMMARY:HE 2. Liga Gr. 2 Brügg vs Aarberg III (2)
UID:6010be51-3da5-5356-e053-1fc7a80a74f7
STATUS:CONFIRMED
LAST-MODIFIED:20171215T172841Z
DESCRIPTION:2. Liga Herren Gruppe 2\nBegegnungs-Nr: 2\nHeim: Brügg\nGast: Aarberg III\n\nAdresse: Bärletweg 7\, 2555 Brügg\n
LOCATION:Bärletweg 7\, 2555 Brügg
CATEGORIES:Saison 2017/18
END:VEVENT
BEGIN:VEVENT
DTSTAMP:20260424T193348Z
DTSTART;TZID=Europe/Berlin:20180124T200000
DTEND;TZID=Europe/Berlin:20180124T230000
SUMMARY:HE 2. Liga Gr. 2 Brügg vs Solothurn II (14)
UID:6010be51-3e53-5356-e053-1fc7a80a74f7
STATUS:CONFIRMED
LAST-MODIFIED:20180125T162015Z
DESCRIPTION:2. Liga Herren Gruppe 2\nBegegnungs-Nr: 14\nHeim: Brügg\nGast: Solothurn II\n\nAdresse: Bärletweg 7\, 2555 Brügg\n
LOCATION:Bärletweg 7\, 2555 Brügg
CATEGORIES:Saison 2017/18
END:VEVENT
BEGIN:VEVENT
DTSTAMP:20260424T193348Z
DTSTART;TZID=Europe/Berlin:20170906T200000
DTEND;TZID=Europe/Berlin:20170906T230000
SUMMARY:HE 2. Liga Gr. 2 Brügg vs Belp (8)
UID:6010be51-5927-5356-e053-1fc7a80a74f7
STATUS:CONFIRMED
LAST-MODIFIED:20170907T165954Z
DESCRIPTION:2. Liga Herren Gruppe 2\nBegegnungs-Nr: 8\nHeim: Brügg\nGast: Belp\n\nAdresse: Bärletweg 7\, 2555 Brügg\n
LOCATION:Bärletweg 7\, 2555 Brügg
CATEGORIES:Saison 2017/18
END:VEVENT
BEGIN:VEVENT
DTSTAMP:20260424T193348Z
DTSTART;TZID=Europe/Berlin:20180112T193000
DTEND;TZID=Europe/Berlin:20180112T223000
SUMMARY:HE 2. Liga Gr. 2 Belp vs Brügg (8)
UID:6010be51-3b5f-5356-e053-1fc7a80a74f7
STATUS:CONFIRMED
LAST-MODIFIED:20180114T180511Z
DESCRIPTION:2. Liga Herren Gruppe 2\nBegegnungs-Nr: 8\nHeim: Belp\nGast: Brügg\n\nAdresse: Neumattstrasse 39\, 3123 Belp\n
LOCATION:Neumattstrasse 39\, 3123 Belp
CATEGORIES:Saison 2017/18
END:VEVENT
BEGIN:VEVENT
DTSTAMP:20260424T193348Z
DTSTART;TZID=Europe/Berlin:20171124T200000
DTEND;TZID=Europe/Berlin:20171124T230000
SUMMARY:HE 2. Liga Gr. 2 Kirchberg vs Brügg (39)
UID:6010be51-3c43-5356-e053-1fc7a80a74f7
STATUS:CONFIRMED
LAST-MODIFIED:20171125T140603Z
DESCRIPTION:2. Liga Herren Gruppe 2\nBegegnungs-Nr: 39\nHeim: Kirchberg\nGast: Brügg\n\nAdresse: Reinhardweg\, 3422 Kirchberg\n
LOCATION:Reinhardweg\, 3422 Kirchberg
CATEGORIES:Saison 2017/18
END:VEVENT
BEGIN:VEVENT
DTSTAMP:20260424T193348Z
DTSTART;TZID=Europe/Berlin:20171114T201500
DTEND;TZID=Europe/Berlin:20171114T231500
SUMMARY:HE 2. Liga Gr. 2 Herzogenbuchsee vs Brügg (31)
UID:6010be51-3c74-5356-e053-1fc7a80a74f7
STATUS:CONFIRMED
LAST-MODIFIED:20171114T223041Z
DESCRIPTION:2. Liga Herren Gruppe 2\nBegegnungs-Nr: 31\nHeim: Herzogenbuchsee\nGast: Brügg\n\nAdresse: Ringstrasse 10\, 3360 Herzogenbuchsee\n
LOCATION:Ringstrasse 10\, 3360 Herzogenbuchsee
CATEGORIES:Saison 2017/18
END:VEVENT
BEGIN:VEVENT
DTSTAMP:20260424T193348Z
DTSTART;TZID=Europe/Berlin:20171102T201500
DTEND;TZID=Europe/Berlin:20171102T231500
SUMMARY:HE 2. Liga Gr. 2 Lyss vs Brügg (29)
UID:6010be51-3c76-5356-e053-1fc7a80a74f7
STATUS:CONFIRMED
LAST-MODIFIED:20171104T172410Z
DESCRIPTION:2. Liga Herren Gruppe 2\nBegegnungs-Nr: 29\nHeim: Lyss\nGast: Brügg\n\nAdresse: Stegmattweg 15-17\, 3250 Lyss\n
LOCATION:Stegmattweg 15-17\, 3250 Lyss
CATEGORIES:Saison 2017/18
END:VEVENT
BEGIN:VEVENT
DTSTAMP:20260424T193348Z
DTSTART;TZID=Europe/Berlin:20170922T200000
DTEND;TZID=Europe/Berlin:20170922T230000
SUMMARY:HE 2. Liga Gr. 2 Solothurn II vs Brügg (14)
UID:6010be51-3cb4-5356-e053-1fc7a80a74f7
STATUS:CONFIRMED
LAST-MODIFIED:20170923T091844Z
DESCRIPTION:2. Liga Herren Gruppe 2\nBegegnungs-Nr: 14\nHeim: Solothurn II\nGast: Brügg\n\nAdresse: Untere Sternengasse 24\, 4500 Solothurn\n
LOCATION:Untere Sternengasse 24\, 4500 Solothurn
CATEGORIES:Saison 2017/18
END:VEVENT
BEGIN:VEVENT
DTSTAMP:20260424T193348Z
DTSTART;TZID=Europe/Berlin:20180326T193000
DTEND;TZID=Europe/Berlin:20180326T223000
SUMMARY:HE 2. Liga Gr. 2 Ostermundigen III vs Brügg (43)
UID:6010be51-3cf5-5356-e053-1fc7a80a74f7
STATUS:CONFIRMED
LAST-MODIFIED:20180327T152420Z
DESCRIPTION:2. Liga Herren Gruppe 2\nBegegnungs-Nr: 43\nHeim: Ostermundigen III\nGast: Brügg\n\nAdresse: Dennigkofenweg 169\, 3072 Ostermundigen\n
LOCATION:Dennigkofenweg 169\, 3072 Ostermundigen
CATEGORIES:Saison 2017/18
END:VEVENT
BEGIN:VEVENT
DTSTAMP:20260424T193348Z
DTSTART;TZID=Europe/Berlin:20180302T193000
DTEND;TZID=Europe/Berlin:20180302T223000
SUMMARY:HE 2. Liga Gr. 2 Burgdorf III vs Brügg (24)
UID:6010be51-3da6-5356-e053-1fc7a80a74f7
STATUS:CONFIRMED
LAST-MODIFIED:20180303T101200Z
DESCRIPTION:2. Liga Herren Gruppe 2\nBegegnungs-Nr: 24\nHeim: Burgdorf III\nGast: Brügg\n\nAdresse: Pestalozzistrasse 69\, 3400 Burgdorf\n
LOCATION:Pestalozzistrasse 69\, 3400 Burgdorf
CATEGORIES:Saison 2017/18
END:VEVENT
BEGIN:VEVENT
DTSTAMP:20260424T193348Z
DTSTART;TZID=Europe/Berlin:20180209T194500
DTEND;TZID=Europe/Berlin:20180209T224500
SUMMARY:HE 2. Liga Gr. 2 Port II vs Brügg (20)
UID:6010be51-3e1b-5356-e053-1fc7a80a74f7
STATUS:CONFIRMED
LAST-MODIFIED:20180212T183551Z
DESCRIPTION:2. Liga Herren Gruppe 2\nBegegnungs-Nr: 20\nHeim: Port II\nGast: Brügg\n\nAdresse: Allmendstrasse 23\, 2562 Port\n
LOCATION:Allmendstrasse 23\, 2562 Port
CATEGORIES:Saison 2017/18
END:VEVENT
BEGIN:VEVENT
DTSTAMP:20260424T193348Z
DTSTART;TZID=Europe/Berlin:20170825T194500
DTEND;TZID=Europe/Berlin:20170825T224500
SUMMARY:HE 2. Liga Gr. 2 Aarberg III vs Brügg (2)
UID:6010be51-512d-5356-e053-1fc7a80a74f7
STATUS:CONFIRMED
LAST-MODIFIED:20170826T061538Z
DESCRIPTION:2. Liga Herren Gruppe 2\nBegegnungs-Nr: 2\nHeim: Aarberg III\nGast: Brügg\n\nAdresse: Nidaustrasse 7\, 3270 Aarberg\n
LOCATION:Nidaustrasse 7\, 3270 Aarberg
CATEGORIES:Saison 2017/18
END:VEVENT
END:VCALENDAR
