BEGIN:VCALENDAR
PRODID:-//nuDatenautomaten//framework iCal4j //DE
VERSION:2.0
CALSCALE:GREGORIAN
BEGIN:VTIMEZONE
TZID:Europe/Berlin
LAST-MODIFIED:20260306T231828Z
TZURL:https://www.tzurl.org/zoneinfo/Europe/Berlin
X-LIC-LOCATION:Europe/Berlin
X-PROLEPTIC-TZNAME:LMT
BEGIN:STANDARD
TZNAME:CET
TZOFFSETFROM:+005328
TZOFFSETTO:+0100
DTSTART:18930401T000000
END:STANDARD
BEGIN:DAYLIGHT
TZNAME:CEST
TZOFFSETFROM:+0100
TZOFFSETTO:+0200
DTSTART:19160430T230000
RDATE:19400401T020000
RDATE:19430329T020000
RDATE:19460414T020000
RDATE:19470406T030000
RDATE:19480418T020000
RDATE:19490410T020000
RDATE:19800406T020000
END:DAYLIGHT
BEGIN:STANDARD
TZNAME:CET
TZOFFSETFROM:+0200
TZOFFSETTO:+0100
DTSTART:19161001T010000
RDATE:19421102T030000
RDATE:19431004T030000
RDATE:19441002T030000
RDATE:19451118T030000
RDATE:19461007T030000
END:STANDARD
BEGIN:DAYLIGHT
TZNAME:CEST
TZOFFSETFROM:+0100
TZOFFSETTO:+0200
DTSTART:19170416T020000
RRULE:FREQ=YEARLY;UNTIL=19180415T010000Z;BYMONTH=4;BYDAY=3MO
END:DAYLIGHT
BEGIN:STANDARD
TZNAME:CET
TZOFFSETFROM:+0200
TZOFFSETTO:+0100
DTSTART:19170917T030000
RRULE:FREQ=YEARLY;UNTIL=19180916T010000Z;BYMONTH=9;BYDAY=3MO
END:STANDARD
BEGIN:DAYLIGHT
TZNAME:CEST
TZOFFSETFROM:+0100
TZOFFSETTO:+0200
DTSTART:19440403T020000
RRULE:FREQ=YEARLY;UNTIL=19450402T010000Z;BYMONTH=4;BYDAY=1MO
END:DAYLIGHT
BEGIN:DAYLIGHT
TZNAME:CEMT
TZOFFSETFROM:+0200
TZOFFSETTO:+0300
DTSTART:19450524T020000
RDATE:19470511T030000
END:DAYLIGHT
BEGIN:DAYLIGHT
TZNAME:CEST
TZOFFSETFROM:+0300
TZOFFSETTO:+0200
DTSTART:19450924T030000
RDATE:19470629T030000
END:DAYLIGHT
BEGIN:STANDARD
TZNAME:CET
TZOFFSETFROM:+0100
TZOFFSETTO:+0100
DTSTART:19460101T000000
RDATE:19800101T000000
END:STANDARD
BEGIN:STANDARD
TZNAME:CET
TZOFFSETFROM:+0200
TZOFFSETTO:+0100
DTSTART:19471005T030000
RRULE:FREQ=YEARLY;UNTIL=19491002T010000Z;BYMONTH=10;BYDAY=1SU
END:STANDARD
BEGIN:STANDARD
TZNAME:CET
TZOFFSETFROM:+0200
TZOFFSETTO:+0100
DTSTART:19800928T030000
RRULE:FREQ=YEARLY;UNTIL=19950924T010000Z;BYMONTH=9;BYDAY=-1SU
END:STANDARD
BEGIN:DAYLIGHT
TZNAME:CEST
TZOFFSETFROM:+0100
TZOFFSETTO:+0200
DTSTART:19810329T020000
RRULE:FREQ=YEARLY;BYMONTH=3;BYDAY=-1SU
END:DAYLIGHT
BEGIN:STANDARD
TZNAME:CET
TZOFFSETFROM:+0200
TZOFFSETTO:+0100
DTSTART:19961027T030000
RRULE:FREQ=YEARLY;BYMONTH=10;BYDAY=-1SU
END:STANDARD
END:VTIMEZONE
BEGIN:VEVENT
DTSTAMP:20260424T181548Z
DTSTART;TZID=Europe/Berlin:20171113T201500
DTEND;TZID=Europe/Berlin:20171113T231500
SUMMARY:HE 3.Liga Gr.2 Wallenwil vs Embrach (0)
UID:6010be51-4954-5356-e053-1fc7a80a74f7
STATUS:CONFIRMED
LAST-MODIFIED:20171116T141244Z
DESCRIPTION:3. Liga Herren Gruppe 2\nBegegnungs-Nr: 0\nHeim: Wallenwil\nGast: Embrach\n\nAdresse: Stationsstrasse 29\, 8360 Wallenwil\n
LOCATION:Stationsstrasse 29\, 8360 Wallenwil
CATEGORIES:Saison 2017/18
END:VEVENT
BEGIN:VEVENT
DTSTAMP:20260424T181548Z
DTSTART;TZID=Europe/Berlin:20171109T201500
DTEND;TZID=Europe/Berlin:20171109T231500
SUMMARY:HE 3.Liga Gr.2 Wallenwil vs Winterthur II (0)
UID:6010be51-4958-5356-e053-1fc7a80a74f7
STATUS:CONFIRMED
LAST-MODIFIED:20171113T131520Z
DESCRIPTION:3. Liga Herren Gruppe 2\nBegegnungs-Nr: 0\nHeim: Wallenwil\nGast: Winterthur II\n\nAdresse: Stationsstrasse 29\, 8360 Wallenwil\n
LOCATION:Stationsstrasse 29\, 8360 Wallenwil
CATEGORIES:Saison 2017/18
END:VEVENT
BEGIN:VEVENT
DTSTAMP:20260424T181548Z
DTSTART;TZID=Europe/Berlin:20180219T201500
DTEND;TZID=Europe/Berlin:20180219T231500
SUMMARY:HE 3.Liga Gr.2 Wallenwil vs Kloten V (0)
UID:6010be51-51a8-5356-e053-1fc7a80a74f7
STATUS:CONFIRMED
LAST-MODIFIED:20180301T102052Z
DESCRIPTION:3. Liga Herren Gruppe 2\nBegegnungs-Nr: 0\nHeim: Wallenwil\nGast: Kloten V\n\nAdresse: Stationsstrasse 29\, 8360 Wallenwil\n
LOCATION:Stationsstrasse 29\, 8360 Wallenwil
CATEGORIES:Saison 2017/18
END:VEVENT
BEGIN:VEVENT
DTSTAMP:20260424T181548Z
DTSTART;TZID=Europe/Berlin:20180312T201500
DTEND;TZID=Europe/Berlin:20180312T231500
SUMMARY:HE 3.Liga Gr.2 Wallenwil vs Neuhausen V (0)
UID:6010be51-51b0-5356-e053-1fc7a80a74f7
STATUS:CONFIRMED
LAST-MODIFIED:20180315T143335Z
DESCRIPTION:3. Liga Herren Gruppe 2\nBegegnungs-Nr: 0\nHeim: Wallenwil\nGast: Neuhausen V\n\nAdresse: Stationsstrasse 29\, 8360 Wallenwil\n
LOCATION:Stationsstrasse 29\, 8360 Wallenwil
CATEGORIES:Saison 2017/18
END:VEVENT
BEGIN:VEVENT
DTSTAMP:20260424T181548Z
DTSTART;TZID=Europe/Berlin:20180205T201500
DTEND;TZID=Europe/Berlin:20180205T231500
SUMMARY:HE 3.Liga Gr.2 Wallenwil vs Frauenfeld (0)
UID:6010be51-4ac2-5356-e053-1fc7a80a74f7
STATUS:CONFIRMED
LAST-MODIFIED:20180207T063231Z
DESCRIPTION:3. Liga Herren Gruppe 2\nBegegnungs-Nr: 0\nHeim: Wallenwil\nGast: Frauenfeld\n\nAdresse: Stationsstrasse 29\, 8360 Wallenwil\n
LOCATION:Stationsstrasse 29\, 8360 Wallenwil
CATEGORIES:Saison 2017/18
END:VEVENT
BEGIN:VEVENT
DTSTAMP:20260424T181548Z
DTSTART;TZID=Europe/Berlin:20180108T201500
DTEND;TZID=Europe/Berlin:20180108T231500
SUMMARY:HE 3.Liga Gr.2 Wallenwil vs St. Gallen IV (0)
UID:6010be51-4b01-5356-e053-1fc7a80a74f7
STATUS:CONFIRMED
LAST-MODIFIED:20180110T110859Z
DESCRIPTION:3. Liga Herren Gruppe 2\nBegegnungs-Nr: 0\nHeim: Wallenwil\nGast: St. Gallen IV\n\nAdresse: Stationsstrasse 29\, 8360 Wallenwil\n
LOCATION:Stationsstrasse 29\, 8360 Wallenwil
CATEGORIES:Saison 2017/18
END:VEVENT
BEGIN:VEVENT
DTSTAMP:20260424T181548Z
DTSTART;TZID=Europe/Berlin:20170925T201500
DTEND;TZID=Europe/Berlin:20170925T231500
SUMMARY:HE 3.Liga Gr.2 Wallenwil vs Weinfelden (0)
UID:6010be51-5877-5356-e053-1fc7a80a74f7
STATUS:CONFIRMED
LAST-MODIFIED:20170926T135658Z
DESCRIPTION:3. Liga Herren Gruppe 2\nBegegnungs-Nr: 0\nHeim: Wallenwil\nGast: Weinfelden\n\nAdresse: Stationsstrasse 29\, 8360 Wallenwil\n
LOCATION:Stationsstrasse 29\, 8360 Wallenwil
CATEGORIES:Saison 2017/18
END:VEVENT
BEGIN:VEVENT
DTSTAMP:20260424T181548Z
DTSTART;TZID=Europe/Berlin:20171002T200000
DTEND;TZID=Europe/Berlin:20171002T230000
SUMMARY:HE 3.Liga Gr.2 Frauenfeld vs Wallenwil (0)
UID:6010be51-4989-5356-e053-1fc7a80a74f7
STATUS:CONFIRMED
LAST-MODIFIED:20171003T082901Z
DESCRIPTION:3. Liga Herren Gruppe 2\nBegegnungs-Nr: 0\nHeim: Frauenfeld\nGast: Wallenwil\n\nAdresse: Scheuchenstrasse\, 8500 Frauenfeld\n
LOCATION:Scheuchenstrasse\, 8500 Frauenfeld
CATEGORIES:Saison 2017/18
END:VEVENT
BEGIN:VEVENT
DTSTAMP:20260424T181548Z
DTSTART;TZID=Europe/Berlin:20170829T200000
DTEND;TZID=Europe/Berlin:20170829T230000
SUMMARY:HE 3.Liga Gr.2 St. Gallen IV vs Wallenwil (0)
UID:6010be51-4990-5356-e053-1fc7a80a74f7
STATUS:CONFIRMED
LAST-MODIFIED:20170902T083638Z
DESCRIPTION:3. Liga Herren Gruppe 2\nBegegnungs-Nr: 0\nHeim: St. Gallen IV\nGast: Wallenwil\n\nAdresse: Zilstrasse 61\, 9016 St.Gallen\n
LOCATION:Zilstrasse 61\, 9016 St.Gallen
CATEGORIES:Saison 2017/18
END:VEVENT
BEGIN:VEVENT
DTSTAMP:20260424T181548Z
DTSTART;TZID=Europe/Berlin:20180301T200000
DTEND;TZID=Europe/Berlin:20180301T230000
SUMMARY:HE 3.Liga Gr.2 Embrach vs Wallenwil (0)
UID:6010be51-51ad-5356-e053-1fc7a80a74f7
STATUS:CONFIRMED
LAST-MODIFIED:20180309T143712Z
DESCRIPTION:3. Liga Herren Gruppe 2\nBegegnungs-Nr: 0\nHeim: Embrach\nGast: Wallenwil\n\nAdresse: Schützenhausstrasse 20\, 8424 Embrach\n
LOCATION:Schützenhausstrasse 20\, 8424 Embrach
CATEGORIES:Saison 2017/18
END:VEVENT
BEGIN:VEVENT
DTSTAMP:20260424T181548Z
DTSTART;TZID=Europe/Berlin:20171110T193000
DTEND;TZID=Europe/Berlin:20171110T223000
SUMMARY:HE 3.Liga Gr.2 Neuhausen V vs Wallenwil (0)
UID:6010be51-56fc-5356-e053-1fc7a80a74f7
STATUS:CONFIRMED
LAST-MODIFIED:20171113T131552Z
DESCRIPTION:3. Liga Herren Gruppe 2\nBegegnungs-Nr: 0\nHeim: Neuhausen V\nGast: Wallenwil\n\nAdresse: Rheingoldstrasse 11\, 8212 Neuhausen am Rhf.\n
LOCATION:Rheingoldstrasse 11\, 8212 Neuhausen am Rhf.
CATEGORIES:Saison 2017/18
END:VEVENT
BEGIN:VEVENT
DTSTAMP:20260424T181548Z
DTSTART;TZID=Europe/Berlin:20180308T200000
DTEND;TZID=Europe/Berlin:20180308T230000
SUMMARY:HE 3.Liga Gr.2 Winterthur II vs Wallenwil (0)
UID:6010be51-4abd-5356-e053-1fc7a80a74f7
STATUS:CONFIRMED
LAST-MODIFIED:20180309T143808Z
DESCRIPTION:3. Liga Herren Gruppe 2\nBegegnungs-Nr: 0\nHeim: Winterthur II\nGast: Wallenwil\n\nAdresse: Buchackerstrasse 54\, 8400 Winterthur\n
LOCATION:Buchackerstrasse 54\, 8400 Winterthur
CATEGORIES:Saison 2017/18
END:VEVENT
BEGIN:VEVENT
DTSTAMP:20260424T181548Z
DTSTART;TZID=Europe/Berlin:20180123T200000
DTEND;TZID=Europe/Berlin:20180123T230000
SUMMARY:HE 3.Liga Gr.2 Weinfelden vs Wallenwil (0)
UID:6010be51-4af9-5356-e053-1fc7a80a74f7
STATUS:CONFIRMED
LAST-MODIFIED:20180124T093446Z
DESCRIPTION:3. Liga Herren Gruppe 2\nBegegnungs-Nr: 0\nHeim: Weinfelden\nGast: Wallenwil\n\nAdresse: Bleichestrasse 3 (neben Hallenbad)\, 8570 Weinfelden\n
LOCATION:Bleichestrasse 3 (neben Hallenbad)\, 8570 Weinfelden
CATEGORIES:Saison 2017/18
END:VEVENT
BEGIN:VEVENT
DTSTAMP:20260424T181548Z
DTSTART;TZID=Europe/Berlin:20171206T193000
DTEND;TZID=Europe/Berlin:20171206T223000
SUMMARY:HE 3.Liga Gr.2 Kloten V vs Wallenwil (0)
UID:6010be51-58d6-5356-e053-1fc7a80a74f7
STATUS:CONFIRMED
LAST-MODIFIED:20171213T152429Z
DESCRIPTION:3. Liga Herren Gruppe 2\nBegegnungs-Nr: 0\nHeim: Kloten V\nGast: Wallenwil\n\nAdresse: Schluefweg 10\, 8302 Kloten\n
LOCATION:Schluefweg 10\, 8302 Kloten
CATEGORIES:Saison 2017/18
END:VEVENT
END:VCALENDAR
