BEGIN:VCALENDAR
PRODID:-//nuDatenautomaten//framework iCal4j //DE
VERSION:2.0
CALSCALE:GREGORIAN
BEGIN:VTIMEZONE
TZID:Europe/Berlin
LAST-MODIFIED:20260306T231828Z
TZURL:https://www.tzurl.org/zoneinfo/Europe/Berlin
X-LIC-LOCATION:Europe/Berlin
X-PROLEPTIC-TZNAME:LMT
BEGIN:STANDARD
TZNAME:CET
TZOFFSETFROM:+005328
TZOFFSETTO:+0100
DTSTART:18930401T000000
END:STANDARD
BEGIN:DAYLIGHT
TZNAME:CEST
TZOFFSETFROM:+0100
TZOFFSETTO:+0200
DTSTART:19160430T230000
RDATE:19400401T020000
RDATE:19430329T020000
RDATE:19460414T020000
RDATE:19470406T030000
RDATE:19480418T020000
RDATE:19490410T020000
RDATE:19800406T020000
END:DAYLIGHT
BEGIN:STANDARD
TZNAME:CET
TZOFFSETFROM:+0200
TZOFFSETTO:+0100
DTSTART:19161001T010000
RDATE:19421102T030000
RDATE:19431004T030000
RDATE:19441002T030000
RDATE:19451118T030000
RDATE:19461007T030000
END:STANDARD
BEGIN:DAYLIGHT
TZNAME:CEST
TZOFFSETFROM:+0100
TZOFFSETTO:+0200
DTSTART:19170416T020000
RRULE:FREQ=YEARLY;UNTIL=19180415T010000Z;BYMONTH=4;BYDAY=3MO
END:DAYLIGHT
BEGIN:STANDARD
TZNAME:CET
TZOFFSETFROM:+0200
TZOFFSETTO:+0100
DTSTART:19170917T030000
RRULE:FREQ=YEARLY;UNTIL=19180916T010000Z;BYMONTH=9;BYDAY=3MO
END:STANDARD
BEGIN:DAYLIGHT
TZNAME:CEST
TZOFFSETFROM:+0100
TZOFFSETTO:+0200
DTSTART:19440403T020000
RRULE:FREQ=YEARLY;UNTIL=19450402T010000Z;BYMONTH=4;BYDAY=1MO
END:DAYLIGHT
BEGIN:DAYLIGHT
TZNAME:CEMT
TZOFFSETFROM:+0200
TZOFFSETTO:+0300
DTSTART:19450524T020000
RDATE:19470511T030000
END:DAYLIGHT
BEGIN:DAYLIGHT
TZNAME:CEST
TZOFFSETFROM:+0300
TZOFFSETTO:+0200
DTSTART:19450924T030000
RDATE:19470629T030000
END:DAYLIGHT
BEGIN:STANDARD
TZNAME:CET
TZOFFSETFROM:+0100
TZOFFSETTO:+0100
DTSTART:19460101T000000
RDATE:19800101T000000
END:STANDARD
BEGIN:STANDARD
TZNAME:CET
TZOFFSETFROM:+0200
TZOFFSETTO:+0100
DTSTART:19471005T030000
RRULE:FREQ=YEARLY;UNTIL=19491002T010000Z;BYMONTH=10;BYDAY=1SU
END:STANDARD
BEGIN:STANDARD
TZNAME:CET
TZOFFSETFROM:+0200
TZOFFSETTO:+0100
DTSTART:19800928T030000
RRULE:FREQ=YEARLY;UNTIL=19950924T010000Z;BYMONTH=9;BYDAY=-1SU
END:STANDARD
BEGIN:DAYLIGHT
TZNAME:CEST
TZOFFSETFROM:+0100
TZOFFSETTO:+0200
DTSTART:19810329T020000
RRULE:FREQ=YEARLY;BYMONTH=3;BYDAY=-1SU
END:DAYLIGHT
BEGIN:STANDARD
TZNAME:CET
TZOFFSETFROM:+0200
TZOFFSETTO:+0100
DTSTART:19961027T030000
RRULE:FREQ=YEARLY;BYMONTH=10;BYDAY=-1SU
END:STANDARD
END:VTIMEZONE
BEGIN:VEVENT
DTSTAMP:20260419T211312Z
DTSTART;TZID=Europe/Berlin:20170828T200000
DTEND;TZID=Europe/Berlin:20170828T230000
SUMMARY:ME L4 Gr 5\, Tours 1&2 Matran vs Montriond III (0)
UID:6010be51-5649-5356-e053-1fc7a80a74f7
STATUS:CONFIRMED
LAST-MODIFIED:20170907T154703Z
DESCRIPTION:4ème ligue Hommes Groupe 5\, Tours 1&2\nBegegnungs-Nr: 0\nHeim: Matran\nGast: Montriond III\n\nAdresse: Route de l'Ecole\, 1753 Matran\n
LOCATION:Route de l'Ecole\, 1753 Matran
CATEGORIES:Saison 2017/18
END:VEVENT
BEGIN:VEVENT
DTSTAMP:20260419T211312Z
DTSTART;TZID=Europe/Berlin:20171030T200000
DTEND;TZID=Europe/Berlin:20171030T230000
SUMMARY:ME L4 Gr 5\, Tours 1&2 Matran vs Cheyres (0)
UID:6010be51-5684-5356-e053-1fc7a80a74f7
STATUS:CONFIRMED
LAST-MODIFIED:20171106T094243Z
DESCRIPTION:4ème ligue Hommes Groupe 5\, Tours 1&2\nBegegnungs-Nr: 0\nHeim: Matran\nGast: Cheyres\n\nAdresse: Route de l'Ecole\, 1753 Matran\n
LOCATION:Route de l'Ecole\, 1753 Matran
CATEGORIES:Saison 2017/18
END:VEVENT
BEGIN:VEVENT
DTSTAMP:20260419T211312Z
DTSTART;TZID=Europe/Berlin:20171002T200000
DTEND;TZID=Europe/Berlin:20171002T230000
SUMMARY:ME L4 Gr 5\, Tours 1&2 Matran vs Villars/Glâne III (0)
UID:6010be51-56a1-5356-e053-1fc7a80a74f7
STATUS:CONFIRMED
LAST-MODIFIED:20171009T134448Z
DESCRIPTION:4ème ligue Hommes Groupe 5\, Tours 1&2\nBegegnungs-Nr: 0\nHeim: Matran\nGast: Villars/Glâne III\n\nAdresse: Route de l'Ecole\, 1753 Matran\n
LOCATION:Route de l'Ecole\, 1753 Matran
CATEGORIES:Saison 2017/18
END:VEVENT
BEGIN:VEVENT
DTSTAMP:20260419T211312Z
DTSTART;TZID=Europe/Berlin:20170925T200000
DTEND;TZID=Europe/Berlin:20170925T230000
SUMMARY:ME L4 Gr 5\, Tours 1&2 Matran vs Lausanne V (0)
UID:6010be51-5650-5356-e053-1fc7a80a74f7
STATUS:CONFIRMED
LAST-MODIFIED:20171002T090802Z
DESCRIPTION:4ème ligue Hommes Groupe 5\, Tours 1&2\nBegegnungs-Nr: 0\nHeim: Matran\nGast: Lausanne V\n\nAdresse: Route de l'Ecole\, 1753 Matran\n
LOCATION:Route de l'Ecole\, 1753 Matran
CATEGORIES:Saison 2017/18
END:VEVENT
BEGIN:VEVENT
DTSTAMP:20260419T211312Z
DTSTART;TZID=Europe/Berlin:20171009T200000
DTEND;TZID=Europe/Berlin:20171009T230000
SUMMARY:ME L4 Gr 5\, Tours 1&2 Matran vs Domdidier (0)
UID:6010be51-5948-5356-e053-1fc7a80a74f7
STATUS:CONFIRMED
LAST-MODIFIED:20171016T115216Z
DESCRIPTION:4ème ligue Hommes Groupe 5\, Tours 1&2\nBegegnungs-Nr: 0\nHeim: Matran\nGast: Domdidier\n\nAdresse: Route de l'Ecole\, 1753 Matran\n
LOCATION:Route de l'Ecole\, 1753 Matran
CATEGORIES:Saison 2017/18
END:VEVENT
BEGIN:VEVENT
DTSTAMP:20260419T211312Z
DTSTART;TZID=Europe/Berlin:20180312T200000
DTEND;TZID=Europe/Berlin:20180312T230000
SUMMARY:ME L4 Gr 5\, Tours 3&4 Matran vs Vevey IV (0)
UID:d03995f3-0ad8-47ef-a242-fbe47af324f6
STATUS:CONFIRMED
LAST-MODIFIED:20180319T151229Z
DESCRIPTION:4ème ligue Hommes Groupe 5\, Tours 3&4\nBegegnungs-Nr: 0\nHeim: Matran\nGast: Vevey IV\n\nAdresse: Route de l'Ecole\, 1753 Matran\n
LOCATION:Route de l'Ecole\, 1753 Matran
CATEGORIES:Saison 2017/18
END:VEVENT
BEGIN:VEVENT
DTSTAMP:20260419T211312Z
DTSTART;TZID=Europe/Berlin:20180219T200000
DTEND;TZID=Europe/Berlin:20180219T230000
SUMMARY:ME L4 Gr 5\, Tours 3&4 Matran vs Romont-Villaz II (0)
UID:6f8c49fb-f2e7-4b33-8a54-42b5e684a244
STATUS:CONFIRMED
LAST-MODIFIED:20180226T162418Z
DESCRIPTION:4ème ligue Hommes Groupe 5\, Tours 3&4\nBegegnungs-Nr: 0\nHeim: Matran\nGast: Romont-Villaz II\n\nAdresse: Route de l'Ecole\, 1753 Matran\n
LOCATION:Route de l'Ecole\, 1753 Matran
CATEGORIES:Saison 2017/18
END:VEVENT
BEGIN:VEVENT
DTSTAMP:20260419T211312Z
DTSTART;TZID=Europe/Berlin:20180212T200000
DTEND;TZID=Europe/Berlin:20180212T230000
SUMMARY:ME L4 Gr 5\, Tours 3&4 Matran vs Fribourg VI (0)
UID:e314f893-f9f8-45c6-9ab5-10f7db59503e
STATUS:CONFIRMED
LAST-MODIFIED:20180220T162008Z
DESCRIPTION:4ème ligue Hommes Groupe 5\, Tours 3&4\nBegegnungs-Nr: 0\nHeim: Matran\nGast: Fribourg VI\n\nAdresse: Route de l'Ecole\, 1753 Matran\n
LOCATION:Route de l'Ecole\, 1753 Matran
CATEGORIES:Saison 2017/18
END:VEVENT
BEGIN:VEVENT
DTSTAMP:20260419T211312Z
DTSTART;TZID=Europe/Berlin:20180129T200000
DTEND;TZID=Europe/Berlin:20180129T230000
SUMMARY:ME L4 Gr 5\, Tours 3&4 Matran vs Rossens IV (0)
UID:85e81f44-78db-4fd1-8b9a-9f417747cd99
STATUS:CONFIRMED
LAST-MODIFIED:20180205T144332Z
DESCRIPTION:4ème ligue Hommes Groupe 5\, Tours 3&4\nBegegnungs-Nr: 0\nHeim: Matran\nGast: Rossens IV\n\nAdresse: Route de l'Ecole\, 1753 Matran\n
LOCATION:Route de l'Ecole\, 1753 Matran
CATEGORIES:Saison 2017/18
END:VEVENT
BEGIN:VEVENT
DTSTAMP:20260419T211312Z
DTSTART;TZID=Europe/Berlin:20180117T200000
DTEND;TZID=Europe/Berlin:20180117T230000
SUMMARY:ME L4 Gr 5\, Tours 3&4 Matran vs Villars/Glâne III (0)
UID:d09d19e2-5d00-4651-a45d-ed76fca861c0
STATUS:CONFIRMED
LAST-MODIFIED:20180123T160802Z
DESCRIPTION:4ème ligue Hommes Groupe 5\, Tours 3&4\nBegegnungs-Nr: 0\nHeim: Matran\nGast: Villars/Glâne III\n\nAdresse: Route de l'Ecole\, 1753 Matran\n
LOCATION:Route de l'Ecole\, 1753 Matran
CATEGORIES:Saison 2017/18
END:VEVENT
BEGIN:VEVENT
DTSTAMP:20260419T211312Z
DTSTART;TZID=Europe/Berlin:20180521T200000
DTEND;TZID=Europe/Berlin:20180521T230000
SUMMARY:ME L4 Finales Matran vs Stalden (1)
UID:a26194f0-3d76-4f62-a0c8-806a924aaed5
STATUS:CONFIRMED
LAST-MODIFIED:20180516T085844Z
DESCRIPTION:4ème ligue Hommes Finales\nBegegnungs-Nr: 1\nHeim: Matran\nGast: Stalden\n
LOCATION:
CATEGORIES:Saison 2017/18
END:VEVENT
BEGIN:VEVENT
DTSTAMP:20260419T211312Z
DTSTART;TZID=Europe/Berlin:20170906T201500
DTEND;TZID=Europe/Berlin:20170906T231500
SUMMARY:ME L4 Gr 5\, Tours 1&2 Domdidier vs Matran (0)
UID:6010be51-564c-5356-e053-1fc7a80a74f7
STATUS:CONFIRMED
LAST-MODIFIED:20170913T154244Z
DESCRIPTION:4ème ligue Hommes Groupe 5\, Tours 1&2\nBegegnungs-Nr: 0\nHeim: Domdidier\nGast: Matran\n\nAdresse: Pré-de-la-Cour\, 1564 Domdidier\n
LOCATION:Pré-de-la-Cour\, 1564 Domdidier
CATEGORIES:Saison 2017/18
END:VEVENT
BEGIN:VEVENT
DTSTAMP:20260419T211312Z
DTSTART;TZID=Europe/Berlin:20170918T200000
DTEND;TZID=Europe/Berlin:20170918T230000
SUMMARY:ME L4 Gr 5\, Tours 1&2 Cheyres vs Matran (0)
UID:6010be51-564d-5356-e053-1fc7a80a74f7
STATUS:CONFIRMED
LAST-MODIFIED:20170925T121046Z
DESCRIPTION:4ème ligue Hommes Groupe 5\, Tours 1&2\nBegegnungs-Nr: 0\nHeim: Cheyres\nGast: Matran\n\nAdresse: Rue de la Gare 10\, 1468 Cheyres\n
LOCATION:Rue de la Gare 10\, 1468 Cheyres
CATEGORIES:Saison 2017/18
END:VEVENT
BEGIN:VEVENT
DTSTAMP:20260419T211312Z
DTSTART;TZID=Europe/Berlin:20171006T193000
DTEND;TZID=Europe/Berlin:20171006T223000
SUMMARY:ME L4 Gr 5\, Tours 1&2 Montriond III vs Matran (0)
UID:6010be51-5681-5356-e053-1fc7a80a74f7
STATUS:CONFIRMED
LAST-MODIFIED:20171012T085832Z
DESCRIPTION:4ème ligue Hommes Groupe 5\, Tours 1&2\nBegegnungs-Nr: 0\nHeim: Montriond III\nGast: Matran\n\nAdresse: Avenue d'Ouchy 45\, 1006 Lausanne\n
LOCATION:Avenue d'Ouchy 45\, 1006 Lausanne
CATEGORIES:Saison 2017/18
END:VEVENT
BEGIN:VEVENT
DTSTAMP:20260419T211312Z
DTSTART;TZID=Europe/Berlin:20171116T200000
DTEND;TZID=Europe/Berlin:20171116T230000
SUMMARY:ME L4 Gr 5\, Tours 1&2 Lausanne V vs Matran (0)
UID:6010be51-5687-5356-e053-1fc7a80a74f7
STATUS:CONFIRMED
LAST-MODIFIED:20171122T105710Z
DESCRIPTION:4ème ligue Hommes Groupe 5\, Tours 1&2\nBegegnungs-Nr: 0\nHeim: Lausanne V\nGast: Matran\n\nAdresse: Vaudoise Aréna\, Ch. du Viaduc 14\, 1008 Prilly\n
LOCATION:Vaudoise Aréna\, Ch. du Viaduc 14\, 1008 Prilly
CATEGORIES:Saison 2017/18
END:VEVENT
BEGIN:VEVENT
DTSTAMP:20260419T211312Z
DTSTART;TZID=Europe/Berlin:20171130T193000
DTEND;TZID=Europe/Berlin:20171130T223000
SUMMARY:ME L4 Gr 5\, Tours 1&2 Villars/Glâne III vs Matran (0)
UID:6010be51-5689-5356-e053-1fc7a80a74f7
STATUS:CONFIRMED
LAST-MODIFIED:20171207T100150Z
DESCRIPTION:4ème ligue Hommes Groupe 5\, Tours 1&2\nBegegnungs-Nr: 0\nHeim: Villars/Glâne III\nGast: Matran\n\nAdresse: -\, 1752 Villars-sur-Glâne\n
LOCATION:-\, 1752 Villars-sur-Glâne
CATEGORIES:Saison 2017/18
END:VEVENT
BEGIN:VEVENT
DTSTAMP:20260419T211312Z
DTSTART;TZID=Europe/Berlin:20180308T193000
DTEND;TZID=Europe/Berlin:20180308T223000
SUMMARY:ME L4 Gr 5\, Tours 3&4 Villars/Glâne III vs Matran (0)
UID:c2e26c4b-9336-4642-b24b-5319e4a8dfd6
STATUS:CONFIRMED
LAST-MODIFIED:20180315T180610Z
DESCRIPTION:4ème ligue Hommes Groupe 5\, Tours 3&4\nBegegnungs-Nr: 0\nHeim: Villars/Glâne III\nGast: Matran\n\nAdresse: -\, 1752 Villars-sur-Glâne\n
LOCATION:-\, 1752 Villars-sur-Glâne
CATEGORIES:Saison 2017/18
END:VEVENT
BEGIN:VEVENT
DTSTAMP:20260419T211312Z
DTSTART;TZID=Europe/Berlin:20180501T194500
DTEND;TZID=Europe/Berlin:20180501T224500
SUMMARY:ME L4 Gr 5\, Tours 3&4 Romont-Villaz II vs Matran (0)
UID:119ec031-adb5-4761-b01d-57abd2856429
STATUS:CONFIRMED
LAST-MODIFIED:20180507T133501Z
DESCRIPTION:4ème ligue Hommes Groupe 5\, Tours 3&4\nBegegnungs-Nr: 0\nHeim: Romont-Villaz II\nGast: Matran\n\nAdresse: Route de la Gare 5\, 1690 Villaz-St-Pierre\n
LOCATION:Route de la Gare 5\, 1690 Villaz-St-Pierre
CATEGORIES:Saison 2017/18
END:VEVENT
BEGIN:VEVENT
DTSTAMP:20260419T211312Z
DTSTART;TZID=Europe/Berlin:20180426T191500
DTEND;TZID=Europe/Berlin:20180426T221500
SUMMARY:ME L4 Gr 5\, Tours 3&4 Fribourg VI vs Matran (0)
UID:b8db1939-5628-4834-8cf9-0d290d01be7a
STATUS:CONFIRMED
LAST-MODIFIED:20180502T153833Z
DESCRIPTION:4ème ligue Hommes Groupe 5\, Tours 3&4\nBegegnungs-Nr: 0\nHeim: Fribourg VI\nGast: Matran\n\nAdresse: Avenue Général Guisan 61\, 1700 Fribourg\n
LOCATION:Avenue Général Guisan 61\, 1700 Fribourg
CATEGORIES:Saison 2017/18
END:VEVENT
BEGIN:VEVENT
DTSTAMP:20260419T211312Z
DTSTART;TZID=Europe/Berlin:20180327T200000
DTEND;TZID=Europe/Berlin:20180327T230000
SUMMARY:ME L4 Gr 5\, Tours 3&4 Rossens IV vs Matran (0)
UID:f78e4c57-0f75-4e63-b483-0350dbed47bf
STATUS:CONFIRMED
LAST-MODIFIED:20180403T094604Z
DESCRIPTION:4ème ligue Hommes Groupe 5\, Tours 3&4\nBegegnungs-Nr: 0\nHeim: Rossens IV\nGast: Matran\n\nAdresse: Route du Jordil 14\, 1728 Rossens\n
LOCATION:Route du Jordil 14\, 1728 Rossens
CATEGORIES:Saison 2017/18
END:VEVENT
BEGIN:VEVENT
DTSTAMP:20260419T211312Z
DTSTART;TZID=Europe/Berlin:20180125T193000
DTEND;TZID=Europe/Berlin:20180125T223000
SUMMARY:ME L4 Gr 5\, Tours 3&4 Vevey IV vs Matran (0)
UID:c89ca937-7c93-46a0-9ce2-84488501db5d
STATUS:CONFIRMED
LAST-MODIFIED:20180131T162838Z
DESCRIPTION:4ème ligue Hommes Groupe 5\, Tours 3&4\nBegegnungs-Nr: 0\nHeim: Vevey IV\nGast: Matran\n\nAdresse: Rue Louis-Meyer\, 1800 Vevey\n
LOCATION:Rue Louis-Meyer\, 1800 Vevey
CATEGORIES:Saison 2017/18
END:VEVENT
BEGIN:VEVENT
DTSTAMP:20260419T211312Z
DTSTART;TZID=Europe/Berlin:20180531T194500
DTEND;TZID=Europe/Berlin:20180531T224500
SUMMARY:ME L4 Finales Romanel II vs Matran (1)
UID:31556e42-b2eb-45ea-b03d-3a3f9d6d5dbc
STATUS:CONFIRMED
LAST-MODIFIED:20180528T092818Z
DESCRIPTION:4ème ligue Hommes Finales\nBegegnungs-Nr: 1\nHeim: Romanel II\nGast: Matran\n
LOCATION:
CATEGORIES:Saison 2017/18
END:VEVENT
END:VCALENDAR
