BEGIN:VCALENDAR
PRODID:-//nuDatenautomaten//framework iCal4j //DE
VERSION:2.0
CALSCALE:GREGORIAN
BEGIN:VTIMEZONE
TZID:Europe/Berlin
LAST-MODIFIED:20260306T231828Z
TZURL:https://www.tzurl.org/zoneinfo/Europe/Berlin
X-LIC-LOCATION:Europe/Berlin
X-PROLEPTIC-TZNAME:LMT
BEGIN:STANDARD
TZNAME:CET
TZOFFSETFROM:+005328
TZOFFSETTO:+0100
DTSTART:18930401T000000
END:STANDARD
BEGIN:DAYLIGHT
TZNAME:CEST
TZOFFSETFROM:+0100
TZOFFSETTO:+0200
DTSTART:19160430T230000
RDATE:19400401T020000
RDATE:19430329T020000
RDATE:19460414T020000
RDATE:19470406T030000
RDATE:19480418T020000
RDATE:19490410T020000
RDATE:19800406T020000
END:DAYLIGHT
BEGIN:STANDARD
TZNAME:CET
TZOFFSETFROM:+0200
TZOFFSETTO:+0100
DTSTART:19161001T010000
RDATE:19421102T030000
RDATE:19431004T030000
RDATE:19441002T030000
RDATE:19451118T030000
RDATE:19461007T030000
END:STANDARD
BEGIN:DAYLIGHT
TZNAME:CEST
TZOFFSETFROM:+0100
TZOFFSETTO:+0200
DTSTART:19170416T020000
RRULE:FREQ=YEARLY;UNTIL=19180415T010000Z;BYMONTH=4;BYDAY=3MO
END:DAYLIGHT
BEGIN:STANDARD
TZNAME:CET
TZOFFSETFROM:+0200
TZOFFSETTO:+0100
DTSTART:19170917T030000
RRULE:FREQ=YEARLY;UNTIL=19180916T010000Z;BYMONTH=9;BYDAY=3MO
END:STANDARD
BEGIN:DAYLIGHT
TZNAME:CEST
TZOFFSETFROM:+0100
TZOFFSETTO:+0200
DTSTART:19440403T020000
RRULE:FREQ=YEARLY;UNTIL=19450402T010000Z;BYMONTH=4;BYDAY=1MO
END:DAYLIGHT
BEGIN:DAYLIGHT
TZNAME:CEMT
TZOFFSETFROM:+0200
TZOFFSETTO:+0300
DTSTART:19450524T020000
RDATE:19470511T030000
END:DAYLIGHT
BEGIN:DAYLIGHT
TZNAME:CEST
TZOFFSETFROM:+0300
TZOFFSETTO:+0200
DTSTART:19450924T030000
RDATE:19470629T030000
END:DAYLIGHT
BEGIN:STANDARD
TZNAME:CET
TZOFFSETFROM:+0100
TZOFFSETTO:+0100
DTSTART:19460101T000000
RDATE:19800101T000000
END:STANDARD
BEGIN:STANDARD
TZNAME:CET
TZOFFSETFROM:+0200
TZOFFSETTO:+0100
DTSTART:19471005T030000
RRULE:FREQ=YEARLY;UNTIL=19491002T010000Z;BYMONTH=10;BYDAY=1SU
END:STANDARD
BEGIN:STANDARD
TZNAME:CET
TZOFFSETFROM:+0200
TZOFFSETTO:+0100
DTSTART:19800928T030000
RRULE:FREQ=YEARLY;UNTIL=19950924T010000Z;BYMONTH=9;BYDAY=-1SU
END:STANDARD
BEGIN:DAYLIGHT
TZNAME:CEST
TZOFFSETFROM:+0100
TZOFFSETTO:+0200
DTSTART:19810329T020000
RRULE:FREQ=YEARLY;BYMONTH=3;BYDAY=-1SU
END:DAYLIGHT
BEGIN:STANDARD
TZNAME:CET
TZOFFSETFROM:+0200
TZOFFSETTO:+0100
DTSTART:19961027T030000
RRULE:FREQ=YEARLY;BYMONTH=10;BYDAY=-1SU
END:STANDARD
END:VTIMEZONE
BEGIN:VEVENT
DTSTAMP:20260419T213504Z
DTSTART;TZID=Europe/Berlin:20171109T190000
DTEND;TZID=Europe/Berlin:20171109T220000
SUMMARY:Y L2 Gr2 Romanel vs Pully (0)
UID:6010be51-5a8a-5356-e053-1fc7a80a74f7
STATUS:CONFIRMED
LAST-MODIFIED:20171116T103918Z
DESCRIPTION:2ème ligue Jeunesse Groupe 2\nBegegnungs-Nr: 0\nHeim: Romanel\nGast: Pully\n\nAdresse: Ch des Epinettes 1\, 1032 Romanel-sur-Lausanne\n
LOCATION:Ch des Epinettes 1\, 1032 Romanel-sur-Lausanne
CATEGORIES:Saison 2017/18
END:VEVENT
BEGIN:VEVENT
DTSTAMP:20260419T213504Z
DTSTART;TZID=Europe/Berlin:20171025T183000
DTEND;TZID=Europe/Berlin:20171025T213000
SUMMARY:Y L2 Gr2 Romanel vs Montriond (0)
UID:6010be51-5a8e-5356-e053-1fc7a80a74f7
STATUS:CONFIRMED
LAST-MODIFIED:20171031T134055Z
DESCRIPTION:2ème ligue Jeunesse Groupe 2\nBegegnungs-Nr: 0\nHeim: Romanel\nGast: Montriond\n\nAdresse: Ch des Epinettes 1\, 1032 Romanel-sur-Lausanne\n
LOCATION:Ch des Epinettes 1\, 1032 Romanel-sur-Lausanne
CATEGORIES:Saison 2017/18
END:VEVENT
BEGIN:VEVENT
DTSTAMP:20260419T213504Z
DTSTART;TZID=Europe/Berlin:20180424T190000
DTEND;TZID=Europe/Berlin:20180424T220000
SUMMARY:Y L2 Gr2 Romanel vs Nyon (0)
UID:6010be51-5af5-5356-e053-1fc7a80a74f7
STATUS:CONFIRMED
LAST-MODIFIED:20180430T140801Z
DESCRIPTION:2ème ligue Jeunesse Groupe 2\nBegegnungs-Nr: 0\nHeim: Romanel\nGast: Nyon\n\nAdresse: Ch des Epinettes 1\, 1032 Romanel-sur-Lausanne\n
LOCATION:Ch des Epinettes 1\, 1032 Romanel-sur-Lausanne
CATEGORIES:Saison 2017/18
END:VEVENT
BEGIN:VEVENT
DTSTAMP:20260419T213504Z
DTSTART;TZID=Europe/Berlin:20180301T190000
DTEND;TZID=Europe/Berlin:20180301T220000
SUMMARY:Y L2 Gr2 Romanel vs Montriond II (0)
UID:6010be51-5af7-5356-e053-1fc7a80a74f7
STATUS:CONFIRMED
LAST-MODIFIED:20180315T182000Z
DESCRIPTION:2ème ligue Jeunesse Groupe 2\nBegegnungs-Nr: 0\nHeim: Romanel\nGast: Montriond II\n\nAdresse: Ch des Epinettes 1\, 1032 Romanel-sur-Lausanne\n
LOCATION:Ch des Epinettes 1\, 1032 Romanel-sur-Lausanne
CATEGORIES:Saison 2017/18
END:VEVENT
BEGIN:VEVENT
DTSTAMP:20260419T213504Z
DTSTART;TZID=Europe/Berlin:20171214T190000
DTEND;TZID=Europe/Berlin:20171214T220000
SUMMARY:Y L2 Gr2 Romanel vs Lausanne II (0)
UID:6010be51-5b28-5356-e053-1fc7a80a74f7
STATUS:CONFIRMED
LAST-MODIFIED:20171220T102309Z
DESCRIPTION:2ème ligue Jeunesse Groupe 2\nBegegnungs-Nr: 0\nHeim: Romanel\nGast: Lausanne II\n\nAdresse: Ch des Epinettes 1\, 1032 Romanel-sur-Lausanne\n
LOCATION:Ch des Epinettes 1\, 1032 Romanel-sur-Lausanne
CATEGORIES:Saison 2017/18
END:VEVENT
BEGIN:VEVENT
DTSTAMP:20260419T213504Z
DTSTART;TZID=Europe/Berlin:20171206T174500
DTEND;TZID=Europe/Berlin:20171206T204500
SUMMARY:Y L2 Gr2 Nyon vs Romanel (0)
UID:6010be51-5a87-5356-e053-1fc7a80a74f7
STATUS:CONFIRMED
LAST-MODIFIED:20171214T153331Z
DESCRIPTION:2ème ligue Jeunesse Groupe 2\nBegegnungs-Nr: 0\nHeim: Nyon\nGast: Romanel\n\nAdresse: Rte des Tattes-d'Oie 97\, 1260 Nyon\n
LOCATION:Rte des Tattes-d'Oie 97\, 1260 Nyon
CATEGORIES:Saison 2017/18
END:VEVENT
BEGIN:VEVENT
DTSTAMP:20260419T213504Z
DTSTART;TZID=Europe/Berlin:20171122T180000
DTEND;TZID=Europe/Berlin:20171122T210000
SUMMARY:Y L2 Gr2 Montriond II vs Romanel (0)
UID:6010be51-5a88-5356-e053-1fc7a80a74f7
STATUS:CONFIRMED
LAST-MODIFIED:20171201T104509Z
DESCRIPTION:2ème ligue Jeunesse Groupe 2\nBegegnungs-Nr: 0\nHeim: Montriond II\nGast: Romanel\n\nAdresse: Avenue d'Ouchy 45\, 1006 Lausanne\n
LOCATION:Avenue d'Ouchy 45\, 1006 Lausanne
CATEGORIES:Saison 2017/18
END:VEVENT
BEGIN:VEVENT
DTSTAMP:20260419T213504Z
DTSTART;TZID=Europe/Berlin:20170922T200000
DTEND;TZID=Europe/Berlin:20170922T230000
SUMMARY:Y L2 Gr2 Lausanne II vs Romanel (0)
UID:6010be51-5a90-5356-e053-1fc7a80a74f7
STATUS:CONFIRMED
LAST-MODIFIED:20170928T093841Z
DESCRIPTION:2ème ligue Jeunesse Groupe 2\nBegegnungs-Nr: 0\nHeim: Lausanne II\nGast: Romanel\n\nAdresse: Vaudoise Aréna\, Ch. du Viaduc 14\, 1008 Prilly\n
LOCATION:Vaudoise Aréna\, Ch. du Viaduc 14\, 1008 Prilly
CATEGORIES:Saison 2017/18
END:VEVENT
BEGIN:VEVENT
DTSTAMP:20260419T213504Z
DTSTART;TZID=Europe/Berlin:20180209T183000
DTEND;TZID=Europe/Berlin:20180209T213000
SUMMARY:Y L2 Gr2 Pully vs Romanel (0)
UID:6010be51-5afa-5356-e053-1fc7a80a74f7
STATUS:CONFIRMED
LAST-MODIFIED:20180222T164550Z
DESCRIPTION:2ème ligue Jeunesse Groupe 2\nBegegnungs-Nr: 0\nHeim: Pully\nGast: Romanel\n\nAdresse: Av. de Belmont 4\, 1009 Pully\n
LOCATION:Av. de Belmont 4\, 1009 Pully
CATEGORIES:Saison 2017/18
END:VEVENT
BEGIN:VEVENT
DTSTAMP:20260419T213504Z
DTSTART;TZID=Europe/Berlin:20180110T180000
DTEND;TZID=Europe/Berlin:20180110T210000
SUMMARY:Y L2 Gr2 Montriond vs Romanel (0)
UID:6010be51-5b26-5356-e053-1fc7a80a74f7
STATUS:CONFIRMED
LAST-MODIFIED:20180116T164605Z
DESCRIPTION:2ème ligue Jeunesse Groupe 2\nBegegnungs-Nr: 0\nHeim: Montriond\nGast: Romanel\n\nAdresse: Avenue d'Ouchy 45\, 1006 Lausanne\n
LOCATION:Avenue d'Ouchy 45\, 1006 Lausanne
CATEGORIES:Saison 2017/18
END:VEVENT
END:VCALENDAR
