BEGIN:VCALENDAR
PRODID:-//nuDatenautomaten//framework iCal4j //DE
VERSION:2.0
CALSCALE:GREGORIAN
BEGIN:VTIMEZONE
TZID:Europe/Berlin
LAST-MODIFIED:20260306T231828Z
TZURL:https://www.tzurl.org/zoneinfo/Europe/Berlin
X-LIC-LOCATION:Europe/Berlin
X-PROLEPTIC-TZNAME:LMT
BEGIN:STANDARD
TZNAME:CET
TZOFFSETFROM:+005328
TZOFFSETTO:+0100
DTSTART:18930401T000000
END:STANDARD
BEGIN:DAYLIGHT
TZNAME:CEST
TZOFFSETFROM:+0100
TZOFFSETTO:+0200
DTSTART:19160430T230000
RDATE:19400401T020000
RDATE:19430329T020000
RDATE:19460414T020000
RDATE:19470406T030000
RDATE:19480418T020000
RDATE:19490410T020000
RDATE:19800406T020000
END:DAYLIGHT
BEGIN:STANDARD
TZNAME:CET
TZOFFSETFROM:+0200
TZOFFSETTO:+0100
DTSTART:19161001T010000
RDATE:19421102T030000
RDATE:19431004T030000
RDATE:19441002T030000
RDATE:19451118T030000
RDATE:19461007T030000
END:STANDARD
BEGIN:DAYLIGHT
TZNAME:CEST
TZOFFSETFROM:+0100
TZOFFSETTO:+0200
DTSTART:19170416T020000
RRULE:FREQ=YEARLY;UNTIL=19180415T010000Z;BYMONTH=4;BYDAY=3MO
END:DAYLIGHT
BEGIN:STANDARD
TZNAME:CET
TZOFFSETFROM:+0200
TZOFFSETTO:+0100
DTSTART:19170917T030000
RRULE:FREQ=YEARLY;UNTIL=19180916T010000Z;BYMONTH=9;BYDAY=3MO
END:STANDARD
BEGIN:DAYLIGHT
TZNAME:CEST
TZOFFSETFROM:+0100
TZOFFSETTO:+0200
DTSTART:19440403T020000
RRULE:FREQ=YEARLY;UNTIL=19450402T010000Z;BYMONTH=4;BYDAY=1MO
END:DAYLIGHT
BEGIN:DAYLIGHT
TZNAME:CEMT
TZOFFSETFROM:+0200
TZOFFSETTO:+0300
DTSTART:19450524T020000
RDATE:19470511T030000
END:DAYLIGHT
BEGIN:DAYLIGHT
TZNAME:CEST
TZOFFSETFROM:+0300
TZOFFSETTO:+0200
DTSTART:19450924T030000
RDATE:19470629T030000
END:DAYLIGHT
BEGIN:STANDARD
TZNAME:CET
TZOFFSETFROM:+0100
TZOFFSETTO:+0100
DTSTART:19460101T000000
RDATE:19800101T000000
END:STANDARD
BEGIN:STANDARD
TZNAME:CET
TZOFFSETFROM:+0200
TZOFFSETTO:+0100
DTSTART:19471005T030000
RRULE:FREQ=YEARLY;UNTIL=19491002T010000Z;BYMONTH=10;BYDAY=1SU
END:STANDARD
BEGIN:STANDARD
TZNAME:CET
TZOFFSETFROM:+0200
TZOFFSETTO:+0100
DTSTART:19800928T030000
RRULE:FREQ=YEARLY;UNTIL=19950924T010000Z;BYMONTH=9;BYDAY=-1SU
END:STANDARD
BEGIN:DAYLIGHT
TZNAME:CEST
TZOFFSETFROM:+0100
TZOFFSETTO:+0200
DTSTART:19810329T020000
RRULE:FREQ=YEARLY;BYMONTH=3;BYDAY=-1SU
END:DAYLIGHT
BEGIN:STANDARD
TZNAME:CET
TZOFFSETFROM:+0200
TZOFFSETTO:+0100
DTSTART:19961027T030000
RRULE:FREQ=YEARLY;BYMONTH=10;BYDAY=-1SU
END:STANDARD
END:VTIMEZONE
BEGIN:VEVENT
DTSTAMP:20260424T175743Z
DTSTART;TZID=Europe/Berlin:20171208T201500
DTEND;TZID=Europe/Berlin:20171208T231500
SUMMARY:HE 2.Liga Gr.2 Steckborn-Homburg II vs Wetzikon III (0)
UID:6010be51-4e61-5356-e053-1fc7a80a74f7
STATUS:CONFIRMED
LAST-MODIFIED:20171213T150338Z
DESCRIPTION:2. Liga Herren Gruppe 2\nBegegnungs-Nr: 0\nHeim: Steckborn-Homburg II\nGast: Wetzikon III\n\nAdresse: Feldbach\, 8266 Steckborn\n
LOCATION:Feldbach\, 8266 Steckborn
CATEGORIES:Saison 2017/18
END:VEVENT
BEGIN:VEVENT
DTSTAMP:20260424T175743Z
DTSTART;TZID=Europe/Berlin:20171115T201500
DTEND;TZID=Europe/Berlin:20171115T231500
SUMMARY:HE 2.Liga Gr.2 Steckborn-Homburg II vs Buchs Zürich (0)
UID:6010be51-4e95-5356-e053-1fc7a80a74f7
STATUS:CONFIRMED
LAST-MODIFIED:20171116T140722Z
DESCRIPTION:2. Liga Herren Gruppe 2\nBegegnungs-Nr: 0\nHeim: Steckborn-Homburg II\nGast: Buchs Zürich\n\nAdresse: Schulstrasse 4\, 8508 Unterhörstetten\n
LOCATION:Schulstrasse 4\, 8508 Unterhörstetten
CATEGORIES:Saison 2017/18
END:VEVENT
BEGIN:VEVENT
DTSTAMP:20260424T175743Z
DTSTART;TZID=Europe/Berlin:20170913T201500
DTEND;TZID=Europe/Berlin:20170913T231500
SUMMARY:HE 2.Liga Gr.2 Steckborn-Homburg II vs Gaiserwald II (0)
UID:6010be51-4ea2-5356-e053-1fc7a80a74f7
STATUS:CONFIRMED
LAST-MODIFIED:20170914T083834Z
DESCRIPTION:2. Liga Herren Gruppe 2\nBegegnungs-Nr: 0\nHeim: Steckborn-Homburg II\nGast: Gaiserwald II\n\nAdresse: Schulstrasse 4\, 8508 Unterhörstetten\n
LOCATION:Schulstrasse 4\, 8508 Unterhörstetten
CATEGORIES:Saison 2017/18
END:VEVENT
BEGIN:VEVENT
DTSTAMP:20260424T175743Z
DTSTART;TZID=Europe/Berlin:20180314T201500
DTEND;TZID=Europe/Berlin:20180314T231500
SUMMARY:HE 2.Liga Gr.2 Steckborn-Homburg II vs Young Stars ZH III (0)
UID:6010be51-4f70-5356-e053-1fc7a80a74f7
STATUS:CONFIRMED
LAST-MODIFIED:20180315T143106Z
DESCRIPTION:2. Liga Herren Gruppe 2\nBegegnungs-Nr: 0\nHeim: Steckborn-Homburg II\nGast: Young Stars ZH III\n\nAdresse: Schulstrasse 4\, 8508 Unterhörstetten\n
LOCATION:Schulstrasse 4\, 8508 Unterhörstetten
CATEGORIES:Saison 2017/18
END:VEVENT
BEGIN:VEVENT
DTSTAMP:20260424T175743Z
DTSTART;TZID=Europe/Berlin:20180214T201500
DTEND;TZID=Europe/Berlin:20180214T231500
SUMMARY:HE 2.Liga Gr.2 Steckborn-Homburg II vs Niederhasli (0)
UID:6010be51-4fb0-5356-e053-1fc7a80a74f7
STATUS:CONFIRMED
LAST-MODIFIED:20180222T075639Z
DESCRIPTION:2. Liga Herren Gruppe 2\nBegegnungs-Nr: 0\nHeim: Steckborn-Homburg II\nGast: Niederhasli\n\nAdresse: Schulstrasse 4\, 8508 Unterhörstetten\n
LOCATION:Schulstrasse 4\, 8508 Unterhörstetten
CATEGORIES:Saison 2017/18
END:VEVENT
BEGIN:VEVENT
DTSTAMP:20260424T175743Z
DTSTART;TZID=Europe/Berlin:20180110T201500
DTEND;TZID=Europe/Berlin:20180110T231500
SUMMARY:HE 2.Liga Gr.2 Steckborn-Homburg II vs Urdorf (0)
UID:6010be51-4fb6-5356-e053-1fc7a80a74f7
STATUS:CONFIRMED
LAST-MODIFIED:20180115T093549Z
DESCRIPTION:2. Liga Herren Gruppe 2\nBegegnungs-Nr: 0\nHeim: Steckborn-Homburg II\nGast: Urdorf\n\nAdresse: Schulstrasse 4\, 8508 Unterhörstetten\n
LOCATION:Schulstrasse 4\, 8508 Unterhörstetten
CATEGORIES:Saison 2017/18
END:VEVENT
BEGIN:VEVENT
DTSTAMP:20260424T175743Z
DTSTART;TZID=Europe/Berlin:20171122T201500
DTEND;TZID=Europe/Berlin:20171122T231500
SUMMARY:HE 2.Liga Gr.2 Steckborn-Homburg II vs Wädenswil IV (0)
UID:6010be51-5a7d-5356-e053-1fc7a80a74f7
STATUS:CONFIRMED
LAST-MODIFIED:20171127T132558Z
DESCRIPTION:2. Liga Herren Gruppe 2\nBegegnungs-Nr: 0\nHeim: Steckborn-Homburg II\nGast: Wädenswil IV\n\nAdresse: Schulstrasse 4\, 8508 Unterhörstetten\n
LOCATION:Schulstrasse 4\, 8508 Unterhörstetten
CATEGORIES:Saison 2017/18
END:VEVENT
BEGIN:VEVENT
DTSTAMP:20260424T175743Z
DTSTART;TZID=Europe/Berlin:20171002T193000
DTEND;TZID=Europe/Berlin:20171002T223000
SUMMARY:HE 2.Liga Gr.2 Niederhasli vs Steckborn-Homburg II (0)
UID:6010be51-478a-5356-e053-1fc7a80a74f7
STATUS:CONFIRMED
LAST-MODIFIED:20171003T082821Z
DESCRIPTION:2. Liga Herren Gruppe 2\nBegegnungs-Nr: 0\nHeim: Niederhasli\nGast: Steckborn-Homburg II\n\nAdresse: Dorfstrasse 22\, 8155 Niederhasli\n
LOCATION:Dorfstrasse 22\, 8155 Niederhasli
CATEGORIES:Saison 2017/18
END:VEVENT
BEGIN:VEVENT
DTSTAMP:20260424T175743Z
DTSTART;TZID=Europe/Berlin:20180319T200000
DTEND;TZID=Europe/Berlin:20180319T230000
SUMMARY:HE 2.Liga Gr.2 Buchs Zürich vs Steckborn-Homburg II (0)
UID:6010be51-4f6b-5356-e053-1fc7a80a74f7
STATUS:CONFIRMED
LAST-MODIFIED:20180321T160136Z
DESCRIPTION:2. Liga Herren Gruppe 2\nBegegnungs-Nr: 0\nHeim: Buchs Zürich\nGast: Steckborn-Homburg II\n\nAdresse: Schulstrasse 73\, 8105 Regensdorf\n
LOCATION:Schulstrasse 73\, 8105 Regensdorf
CATEGORIES:Saison 2017/18
END:VEVENT
BEGIN:VEVENT
DTSTAMP:20260424T175743Z
DTSTART;TZID=Europe/Berlin:20180215T200000
DTEND;TZID=Europe/Berlin:20180215T230000
SUMMARY:HE 2.Liga Gr.2 Gaiserwald II vs Steckborn-Homburg II (0)
UID:6010be51-4fb5-5356-e053-1fc7a80a74f7
STATUS:CONFIRMED
LAST-MODIFIED:20180222T075656Z
DESCRIPTION:2. Liga Herren Gruppe 2\nBegegnungs-Nr: 0\nHeim: Gaiserwald II\nGast: Steckborn-Homburg II\n\nAdresse: Sonnenbergstrasse 15\, 9030 Abtwil\n
LOCATION:Sonnenbergstrasse 15\, 9030 Abtwil
CATEGORIES:Saison 2017/18
END:VEVENT
BEGIN:VEVENT
DTSTAMP:20260424T175743Z
DTSTART;TZID=Europe/Berlin:20170904T201500
DTEND;TZID=Europe/Berlin:20170904T231500
SUMMARY:HE 2.Liga Gr.2 Urdorf vs Steckborn-Homburg II (0)
UID:6010be51-4a81-5356-e053-1fc7a80a74f7
STATUS:CONFIRMED
LAST-MODIFIED:20170905T105906Z
DESCRIPTION:2. Liga Herren Gruppe 2\nBegegnungs-Nr: 0\nHeim: Urdorf\nGast: Steckborn-Homburg II\n\nAdresse: Weihermattstrasse 50\, 8902 Urdorf\n
LOCATION:Weihermattstrasse 50\, 8902 Urdorf
CATEGORIES:Saison 2017/18
END:VEVENT
BEGIN:VEVENT
DTSTAMP:20260424T175743Z
DTSTART;TZID=Europe/Berlin:20171108T201500
DTEND;TZID=Europe/Berlin:20171108T231500
SUMMARY:HE 2.Liga Gr.2 Young Stars ZH III vs Steckborn-Homburg II (0)
UID:6010be51-4e98-5356-e053-1fc7a80a74f7
STATUS:CONFIRMED
LAST-MODIFIED:20171113T131237Z
DESCRIPTION:2. Liga Herren Gruppe 2\nBegegnungs-Nr: 0\nHeim: Young Stars ZH III\nGast: Steckborn-Homburg II\n\nAdresse: Seefeldstrasse 93\, 8008 Zürich\n
LOCATION:Seefeldstrasse 93\, 8008 Zürich
CATEGORIES:Saison 2017/18
END:VEVENT
BEGIN:VEVENT
DTSTAMP:20260424T175743Z
DTSTART;TZID=Europe/Berlin:20180413T194500
DTEND;TZID=Europe/Berlin:20180413T224500
SUMMARY:HE 2.Liga Gr.2 Wetzikon III vs Steckborn-Homburg II (0)
UID:6010be51-4f67-5356-e053-1fc7a80a74f7
STATUS:CONFIRMED
LAST-MODIFIED:20180419T080905Z
DESCRIPTION:2. Liga Herren Gruppe 2\nBegegnungs-Nr: 0\nHeim: Wetzikon III\nGast: Steckborn-Homburg II\n\nAdresse: Usterstrasse 37\, 8620 Wetzikon\n
LOCATION:Usterstrasse 37\, 8620 Wetzikon
CATEGORIES:Saison 2017/18
END:VEVENT
BEGIN:VEVENT
DTSTAMP:20260424T175743Z
DTSTART;TZID=Europe/Berlin:20180308T201500
DTEND;TZID=Europe/Berlin:20180308T231500
SUMMARY:HE 2.Liga Gr.2 Wädenswil IV vs Steckborn-Homburg II (0)
UID:6010be51-4f74-5356-e053-1fc7a80a74f7
STATUS:CONFIRMED
LAST-MODIFIED:20180309T143138Z
DESCRIPTION:2. Liga Herren Gruppe 2\nBegegnungs-Nr: 0\nHeim: Wädenswil IV\nGast: Steckborn-Homburg II\n\nAdresse: Speerstrasse 95\, 8820 Wädenswil\n
LOCATION:Speerstrasse 95\, 8820 Wädenswil
CATEGORIES:Saison 2017/18
END:VEVENT
END:VCALENDAR
