BEGIN:VCALENDAR
PRODID:-//nuDatenautomaten//framework iCal4j //DE
VERSION:2.0
CALSCALE:GREGORIAN
BEGIN:VTIMEZONE
TZID:Europe/Berlin
LAST-MODIFIED:20260306T231828Z
TZURL:https://www.tzurl.org/zoneinfo/Europe/Berlin
X-LIC-LOCATION:Europe/Berlin
X-PROLEPTIC-TZNAME:LMT
BEGIN:STANDARD
TZNAME:CET
TZOFFSETFROM:+005328
TZOFFSETTO:+0100
DTSTART:18930401T000000
END:STANDARD
BEGIN:DAYLIGHT
TZNAME:CEST
TZOFFSETFROM:+0100
TZOFFSETTO:+0200
DTSTART:19160430T230000
RDATE:19400401T020000
RDATE:19430329T020000
RDATE:19460414T020000
RDATE:19470406T030000
RDATE:19480418T020000
RDATE:19490410T020000
RDATE:19800406T020000
END:DAYLIGHT
BEGIN:STANDARD
TZNAME:CET
TZOFFSETFROM:+0200
TZOFFSETTO:+0100
DTSTART:19161001T010000
RDATE:19421102T030000
RDATE:19431004T030000
RDATE:19441002T030000
RDATE:19451118T030000
RDATE:19461007T030000
END:STANDARD
BEGIN:DAYLIGHT
TZNAME:CEST
TZOFFSETFROM:+0100
TZOFFSETTO:+0200
DTSTART:19170416T020000
RRULE:FREQ=YEARLY;UNTIL=19180415T010000Z;BYMONTH=4;BYDAY=3MO
END:DAYLIGHT
BEGIN:STANDARD
TZNAME:CET
TZOFFSETFROM:+0200
TZOFFSETTO:+0100
DTSTART:19170917T030000
RRULE:FREQ=YEARLY;UNTIL=19180916T010000Z;BYMONTH=9;BYDAY=3MO
END:STANDARD
BEGIN:DAYLIGHT
TZNAME:CEST
TZOFFSETFROM:+0100
TZOFFSETTO:+0200
DTSTART:19440403T020000
RRULE:FREQ=YEARLY;UNTIL=19450402T010000Z;BYMONTH=4;BYDAY=1MO
END:DAYLIGHT
BEGIN:DAYLIGHT
TZNAME:CEMT
TZOFFSETFROM:+0200
TZOFFSETTO:+0300
DTSTART:19450524T020000
RDATE:19470511T030000
END:DAYLIGHT
BEGIN:DAYLIGHT
TZNAME:CEST
TZOFFSETFROM:+0300
TZOFFSETTO:+0200
DTSTART:19450924T030000
RDATE:19470629T030000
END:DAYLIGHT
BEGIN:STANDARD
TZNAME:CET
TZOFFSETFROM:+0100
TZOFFSETTO:+0100
DTSTART:19460101T000000
RDATE:19800101T000000
END:STANDARD
BEGIN:STANDARD
TZNAME:CET
TZOFFSETFROM:+0200
TZOFFSETTO:+0100
DTSTART:19471005T030000
RRULE:FREQ=YEARLY;UNTIL=19491002T010000Z;BYMONTH=10;BYDAY=1SU
END:STANDARD
BEGIN:STANDARD
TZNAME:CET
TZOFFSETFROM:+0200
TZOFFSETTO:+0100
DTSTART:19800928T030000
RRULE:FREQ=YEARLY;UNTIL=19950924T010000Z;BYMONTH=9;BYDAY=-1SU
END:STANDARD
BEGIN:DAYLIGHT
TZNAME:CEST
TZOFFSETFROM:+0100
TZOFFSETTO:+0200
DTSTART:19810329T020000
RRULE:FREQ=YEARLY;BYMONTH=3;BYDAY=-1SU
END:DAYLIGHT
BEGIN:STANDARD
TZNAME:CET
TZOFFSETFROM:+0200
TZOFFSETTO:+0100
DTSTART:19961027T030000
RRULE:FREQ=YEARLY;BYMONTH=10;BYDAY=-1SU
END:STANDARD
END:VTIMEZONE
BEGIN:VEVENT
DTSTAMP:20260424T151033Z
DTSTART;TZID=Europe/Berlin:20170905T194500
DTEND;TZID=Europe/Berlin:20170905T224500
SUMMARY:Ligue 2 G1 Veyrier II vs Meyrin II (1)
UID:6010be51-5281-5356-e053-1fc7a80a74f7
STATUS:CONFIRMED
LAST-MODIFIED:20170906T121655Z
DESCRIPTION:2ème ligue O40 1er Groupe\nBegegnungs-Nr: 1\nHeim: Veyrier II\nGast: Meyrin II\n
LOCATION:
CATEGORIES:Saison 2017/18
END:VEVENT
BEGIN:VEVENT
DTSTAMP:20260424T151033Z
DTSTART;TZID=Europe/Berlin:20171031T194500
DTEND;TZID=Europe/Berlin:20171031T224500
SUMMARY:Ligue 2 G1 Veyrier II vs Rapid-Genève (7)
UID:6010be51-52b8-5356-e053-1fc7a80a74f7
STATUS:CONFIRMED
LAST-MODIFIED:20171101T134933Z
DESCRIPTION:2ème ligue O40 1er Groupe\nBegegnungs-Nr: 7\nHeim: Veyrier II\nGast: Rapid-Genève\n
LOCATION:
CATEGORIES:Saison 2017/18
END:VEVENT
BEGIN:VEVENT
DTSTAMP:20260424T151033Z
DTSTART;TZID=Europe/Berlin:20171219T194500
DTEND;TZID=Europe/Berlin:20171219T224500
SUMMARY:Ligue 2 G1 Veyrier II vs Carouge III (13)
UID:6010be51-52bc-5356-e053-1fc7a80a74f7
STATUS:CONFIRMED
LAST-MODIFIED:20171220T061345Z
DESCRIPTION:2ème ligue O40 1er Groupe\nBegegnungs-Nr: 13\nHeim: Veyrier II\nGast: Carouge III\n
LOCATION:
CATEGORIES:Saison 2017/18
END:VEVENT
BEGIN:VEVENT
DTSTAMP:20260424T151033Z
DTSTART;TZID=Europe/Berlin:20180424T194500
DTEND;TZID=Europe/Berlin:20180424T224500
SUMMARY:Ligue 2 G1 Veyrier II vs Versoix (25)
UID:6010be51-52c1-5356-e053-1fc7a80a74f7
STATUS:CONFIRMED
LAST-MODIFIED:20180424T152001Z
DESCRIPTION:2ème ligue O40 1er Groupe\nBegegnungs-Nr: 25\nHeim: Veyrier II\nGast: Versoix\n
LOCATION:
CATEGORIES:Saison 2017/18
END:VEVENT
BEGIN:VEVENT
DTSTAMP:20260424T151033Z
DTSTART;TZID=Europe/Berlin:20180220T194500
DTEND;TZID=Europe/Berlin:20180220T224500
SUMMARY:Ligue 2 G1 Veyrier II vs ZZ-Lancy III (21)
UID:6010be51-52c7-5356-e053-1fc7a80a74f7
STATUS:CONFIRMED
LAST-MODIFIED:20180221T141248Z
DESCRIPTION:2ème ligue O40 1er Groupe\nBegegnungs-Nr: 21\nHeim: Veyrier II\nGast: ZZ-Lancy III\n
LOCATION:
CATEGORIES:Saison 2017/18
END:VEVENT
BEGIN:VEVENT
DTSTAMP:20260424T151033Z
DTSTART;TZID=Europe/Berlin:20180515T194500
DTEND;TZID=Europe/Berlin:20180515T224500
SUMMARY:Ligue 2 Titre Veyrier II vs ZZ-Lancy (1)
UID:50527383-3db8-428f-8404-a2d437f1826d
STATUS:CONFIRMED
LAST-MODIFIED:20180516T171406Z
DESCRIPTION:2ème ligue O40 Titre\nBegegnungs-Nr: 1\nHeim: Veyrier II\nGast: ZZ-Lancy\n
LOCATION:
CATEGORIES:Saison 2017/18
END:VEVENT
BEGIN:VEVENT
DTSTAMP:20260424T151033Z
DTSTART;TZID=Europe/Berlin:20171003T194500
DTEND;TZID=Europe/Berlin:20171003T224500
SUMMARY:Ligue 2 G1 ZZ-Lancy III vs Veyrier II (6)
UID:6010be51-5282-5356-e053-1fc7a80a74f7
STATUS:CONFIRMED
LAST-MODIFIED:20171004T114500Z
DESCRIPTION:2ème ligue O40 1er Groupe\nBegegnungs-Nr: 6\nHeim: ZZ-Lancy III\nGast: Veyrier II\n
LOCATION:
CATEGORIES:Saison 2017/18
END:VEVENT
BEGIN:VEVENT
DTSTAMP:20260424T151033Z
DTSTART;TZID=Europe/Berlin:20171121T194500
DTEND;TZID=Europe/Berlin:20171121T224500
SUMMARY:Ligue 2 G1 Versoix vs Veyrier II (10)
UID:6010be51-52bd-5356-e053-1fc7a80a74f7
STATUS:CONFIRMED
LAST-MODIFIED:20171122T134431Z
DESCRIPTION:2ème ligue O40 1er Groupe\nBegegnungs-Nr: 10\nHeim: Versoix\nGast: Veyrier II\n
LOCATION:
CATEGORIES:Saison 2017/18
END:VEVENT
BEGIN:VEVENT
DTSTAMP:20260424T151033Z
DTSTART;TZID=Europe/Berlin:20180123T194500
DTEND;TZID=Europe/Berlin:20180123T224500
SUMMARY:Ligue 2 G1 Meyrin II vs Veyrier II (16)
UID:6010be51-52c6-5356-e053-1fc7a80a74f7
STATUS:CONFIRMED
LAST-MODIFIED:20180124T111206Z
DESCRIPTION:2ème ligue O40 1er Groupe\nBegegnungs-Nr: 16\nHeim: Meyrin II\nGast: Veyrier II\n
LOCATION:
CATEGORIES:Saison 2017/18
END:VEVENT
BEGIN:VEVENT
DTSTAMP:20260424T151033Z
DTSTART;TZID=Europe/Berlin:20180327T194500
DTEND;TZID=Europe/Berlin:20180327T224500
SUMMARY:Ligue 2 G1 Rapid-Genève vs Veyrier II (22)
UID:6010be51-52c5-5356-e053-1fc7a80a74f7
STATUS:CONFIRMED
LAST-MODIFIED:20180328T115104Z
DESCRIPTION:2ème ligue O40 1er Groupe\nBegegnungs-Nr: 22\nHeim: Rapid-Genève\nGast: Veyrier II\n
LOCATION:
CATEGORIES:Saison 2017/18
END:VEVENT
BEGIN:VEVENT
DTSTAMP:20260424T151033Z
DTSTART;TZID=Europe/Berlin:20180508T194500
DTEND;TZID=Europe/Berlin:20180508T224500
SUMMARY:Ligue 2 G1 Carouge III vs Veyrier II (28)
UID:6010be51-4eb5-5356-e053-1fc7a80a74f7
STATUS:CONFIRMED
LAST-MODIFIED:20180509T164452Z
DESCRIPTION:2ème ligue O40 1er Groupe\nBegegnungs-Nr: 28\nHeim: Carouge III\nGast: Veyrier II\n
LOCATION:
CATEGORIES:Saison 2017/18
END:VEVENT
END:VCALENDAR
