BEGIN:VCALENDAR
PRODID:-//nuDatenautomaten//framework iCal4j //DE
VERSION:2.0
CALSCALE:GREGORIAN
BEGIN:VTIMEZONE
TZID:Europe/Berlin
LAST-MODIFIED:20260306T231828Z
TZURL:https://www.tzurl.org/zoneinfo/Europe/Berlin
X-LIC-LOCATION:Europe/Berlin
X-PROLEPTIC-TZNAME:LMT
BEGIN:STANDARD
TZNAME:CET
TZOFFSETFROM:+005328
TZOFFSETTO:+0100
DTSTART:18930401T000000
END:STANDARD
BEGIN:DAYLIGHT
TZNAME:CEST
TZOFFSETFROM:+0100
TZOFFSETTO:+0200
DTSTART:19160430T230000
RDATE:19400401T020000
RDATE:19430329T020000
RDATE:19460414T020000
RDATE:19470406T030000
RDATE:19480418T020000
RDATE:19490410T020000
RDATE:19800406T020000
END:DAYLIGHT
BEGIN:STANDARD
TZNAME:CET
TZOFFSETFROM:+0200
TZOFFSETTO:+0100
DTSTART:19161001T010000
RDATE:19421102T030000
RDATE:19431004T030000
RDATE:19441002T030000
RDATE:19451118T030000
RDATE:19461007T030000
END:STANDARD
BEGIN:DAYLIGHT
TZNAME:CEST
TZOFFSETFROM:+0100
TZOFFSETTO:+0200
DTSTART:19170416T020000
RRULE:FREQ=YEARLY;UNTIL=19180415T010000Z;BYMONTH=4;BYDAY=3MO
END:DAYLIGHT
BEGIN:STANDARD
TZNAME:CET
TZOFFSETFROM:+0200
TZOFFSETTO:+0100
DTSTART:19170917T030000
RRULE:FREQ=YEARLY;UNTIL=19180916T010000Z;BYMONTH=9;BYDAY=3MO
END:STANDARD
BEGIN:DAYLIGHT
TZNAME:CEST
TZOFFSETFROM:+0100
TZOFFSETTO:+0200
DTSTART:19440403T020000
RRULE:FREQ=YEARLY;UNTIL=19450402T010000Z;BYMONTH=4;BYDAY=1MO
END:DAYLIGHT
BEGIN:DAYLIGHT
TZNAME:CEMT
TZOFFSETFROM:+0200
TZOFFSETTO:+0300
DTSTART:19450524T020000
RDATE:19470511T030000
END:DAYLIGHT
BEGIN:DAYLIGHT
TZNAME:CEST
TZOFFSETFROM:+0300
TZOFFSETTO:+0200
DTSTART:19450924T030000
RDATE:19470629T030000
END:DAYLIGHT
BEGIN:STANDARD
TZNAME:CET
TZOFFSETFROM:+0100
TZOFFSETTO:+0100
DTSTART:19460101T000000
RDATE:19800101T000000
END:STANDARD
BEGIN:STANDARD
TZNAME:CET
TZOFFSETFROM:+0200
TZOFFSETTO:+0100
DTSTART:19471005T030000
RRULE:FREQ=YEARLY;UNTIL=19491002T010000Z;BYMONTH=10;BYDAY=1SU
END:STANDARD
BEGIN:STANDARD
TZNAME:CET
TZOFFSETFROM:+0200
TZOFFSETTO:+0100
DTSTART:19800928T030000
RRULE:FREQ=YEARLY;UNTIL=19950924T010000Z;BYMONTH=9;BYDAY=-1SU
END:STANDARD
BEGIN:DAYLIGHT
TZNAME:CEST
TZOFFSETFROM:+0100
TZOFFSETTO:+0200
DTSTART:19810329T020000
RRULE:FREQ=YEARLY;BYMONTH=3;BYDAY=-1SU
END:DAYLIGHT
BEGIN:STANDARD
TZNAME:CET
TZOFFSETFROM:+0200
TZOFFSETTO:+0100
DTSTART:19961027T030000
RRULE:FREQ=YEARLY;BYMONTH=10;BYDAY=-1SU
END:STANDARD
END:VTIMEZONE
BEGIN:VEVENT
DTSTAMP:20260424T163230Z
DTSTART;TZID=Europe/Berlin:20170918T194500
DTEND;TZID=Europe/Berlin:20170918T224500
SUMMARY:HE NLC Gr.4 Wetzikon vs Chur (8)
UID:6010be51-4602-5356-e053-1fc7a80a74f7
STATUS:CONFIRMED
LAST-MODIFIED:20170925T070430Z
DESCRIPTION:Herren Nationalliga C Gruppe 4\nBegegnungs-Nr: 8\nHeim: Wetzikon\nGast: Chur\n\nAdresse: Usterstrasse 37\, 8620 Wetzikon\n
LOCATION:Usterstrasse 37\, 8620 Wetzikon
CATEGORIES:Saison 2017/18
END:VEVENT
BEGIN:VEVENT
DTSTAMP:20260424T163230Z
DTSTART;TZID=Europe/Berlin:20180317T100000
DTEND;TZID=Europe/Berlin:20180317T130000
SUMMARY:HE NLC Gr.4 Wetzikon vs Tenero (27)
UID:6010be51-464b-5356-e053-1fc7a80a74f7
STATUS:CONFIRMED
LAST-MODIFIED:20180320T082850Z
DESCRIPTION:Herren Nationalliga C Gruppe 4\nBegegnungs-Nr: 27\nHeim: Wetzikon\nGast: Tenero\n\nAdresse: Usterstrasse 37\, 8620 Wetzikon\n
LOCATION:Usterstrasse 37\, 8620 Wetzikon
CATEGORIES:Saison 2017/18
END:VEVENT
BEGIN:VEVENT
DTSTAMP:20260424T163230Z
DTSTART;TZID=Europe/Berlin:20180212T194500
DTEND;TZID=Europe/Berlin:20180212T224500
SUMMARY:HE NLC Gr.4 Wetzikon vs St. Gallen (14)
UID:6010be51-4684-5356-e053-1fc7a80a74f7
STATUS:CONFIRMED
LAST-MODIFIED:20180219T075854Z
DESCRIPTION:Herren Nationalliga C Gruppe 4\nBegegnungs-Nr: 14\nHeim: Wetzikon\nGast: St. Gallen\n\nAdresse: Usterstrasse 37\, 8620 Wetzikon\n
LOCATION:Usterstrasse 37\, 8620 Wetzikon
CATEGORIES:Saison 2017/18
END:VEVENT
BEGIN:VEVENT
DTSTAMP:20260424T163230Z
DTSTART;TZID=Europe/Berlin:20180122T194500
DTEND;TZID=Europe/Berlin:20180122T224500
SUMMARY:HE NLC Gr.4 Wetzikon vs Wil SG II (9)
UID:6010be51-46b3-5356-e053-1fc7a80a74f7
STATUS:CONFIRMED
LAST-MODIFIED:20180126T090148Z
DESCRIPTION:Herren Nationalliga C Gruppe 4\nBegegnungs-Nr: 9\nHeim: Wetzikon\nGast: Wil SG II\n\nAdresse: Usterstrasse 37\, 8620 Wetzikon\n
LOCATION:Usterstrasse 37\, 8620 Wetzikon
CATEGORIES:Saison 2017/18
END:VEVENT
BEGIN:VEVENT
DTSTAMP:20260424T163230Z
DTSTART;TZID=Europe/Berlin:20171204T194500
DTEND;TZID=Europe/Berlin:20171204T224500
SUMMARY:HE NLC Gr.4 Wetzikon vs Kloten II (3)
UID:6010be51-46b9-5356-e053-1fc7a80a74f7
STATUS:CONFIRMED
LAST-MODIFIED:20171205T153449Z
DESCRIPTION:Herren Nationalliga C Gruppe 4\nBegegnungs-Nr: 3\nHeim: Wetzikon\nGast: Kloten II\n\nAdresse: Usterstrasse 37\, 8620 Wetzikon\n
LOCATION:Usterstrasse 37\, 8620 Wetzikon
CATEGORIES:Saison 2017/18
END:VEVENT
BEGIN:VEVENT
DTSTAMP:20260424T163230Z
DTSTART;TZID=Europe/Berlin:20180310T100000
DTEND;TZID=Europe/Berlin:20180310T130000
SUMMARY:HE NLC Gr.4 Wetzikon vs Lugano II (24)
UID:6010be51-4679-5356-e053-1fc7a80a74f7
STATUS:CONFIRMED
LAST-MODIFIED:20180312T083437Z
DESCRIPTION:Herren Nationalliga C Gruppe 4\nBegegnungs-Nr: 24\nHeim: Wetzikon\nGast: Lugano II\n\nAdresse: Usterstrasse 37\, 8620 Wetzikon\n
LOCATION:Usterstrasse 37\, 8620 Wetzikon
CATEGORIES:Saison 2017/18
END:VEVENT
BEGIN:VEVENT
DTSTAMP:20260424T163230Z
DTSTART;TZID=Europe/Berlin:20171030T194500
DTEND;TZID=Europe/Berlin:20171030T224500
SUMMARY:HE NLC Gr.4 Wetzikon vs Neuhausen II (20)
UID:6010be51-40a0-5356-e053-1fc7a80a74f7
STATUS:CONFIRMED
LAST-MODIFIED:20171031T080836Z
DESCRIPTION:Herren Nationalliga C Gruppe 4\nBegegnungs-Nr: 20\nHeim: Wetzikon\nGast: Neuhausen II\n\nAdresse: Usterstrasse 37\, 8620 Wetzikon\n
LOCATION:Usterstrasse 37\, 8620 Wetzikon
CATEGORIES:Saison 2017/18
END:VEVENT
BEGIN:VEVENT
DTSTAMP:20260424T163230Z
DTSTART;TZID=Europe/Berlin:20170908T193000
DTEND;TZID=Europe/Berlin:20170908T223000
SUMMARY:HE NLC Gr.4 Kloten II vs Wetzikon (3)
UID:6010be51-45c0-5356-e053-1fc7a80a74f7
STATUS:CONFIRMED
LAST-MODIFIED:20170911T084151Z
DESCRIPTION:Herren Nationalliga C Gruppe 4\nBegegnungs-Nr: 3\nHeim: Kloten II\nGast: Wetzikon\n\nAdresse: Schluefweg 10\, 8302 Kloten\n
LOCATION:Schluefweg 10\, 8302 Kloten
CATEGORIES:Saison 2017/18
END:VEVENT
BEGIN:VEVENT
DTSTAMP:20260424T163230Z
DTSTART;TZID=Europe/Berlin:20171118T150000
DTEND;TZID=Europe/Berlin:20171118T180000
SUMMARY:HE NLC Gr.4 Tenero vs Wetzikon (27)
UID:6010be51-45c2-5356-e053-1fc7a80a74f7
STATUS:CONFIRMED
LAST-MODIFIED:20171124T071525Z
DESCRIPTION:Herren Nationalliga C Gruppe 4\nBegegnungs-Nr: 27\nHeim: Tenero\nGast: Wetzikon\n\nAdresse: Palestra Naviglio\, Gottardo\, Squash\, 6598 Tenero\n
LOCATION:Palestra Naviglio\, Gottardo\, Squash\, 6598 Tenero
CATEGORIES:Saison 2017/18
END:VEVENT
BEGIN:VEVENT
DTSTAMP:20260424T163230Z
DTSTART;TZID=Europe/Berlin:20171111T150000
DTEND;TZID=Europe/Berlin:20171111T180000
SUMMARY:HE NLC Gr.4 Lugano II vs Wetzikon (24)
UID:6010be51-45c4-5356-e053-1fc7a80a74f7
STATUS:CONFIRMED
LAST-MODIFIED:20171115T071016Z
DESCRIPTION:Herren Nationalliga C Gruppe 4\nBegegnungs-Nr: 24\nHeim: Lugano II\nGast: Wetzikon\n\nAdresse: Via al Chioso 7\, 6900 Lugano-Cassarate\n
LOCATION:Via al Chioso 7\, 6900 Lugano-Cassarate
CATEGORIES:Saison 2017/18
END:VEVENT
BEGIN:VEVENT
DTSTAMP:20260424T163230Z
DTSTART;TZID=Europe/Berlin:20171028T160000
DTEND;TZID=Europe/Berlin:20171028T190000
SUMMARY:HE NLC Gr.4 St. Gallen vs Wetzikon (14)
UID:6010be51-45fd-5356-e053-1fc7a80a74f7
STATUS:CONFIRMED
LAST-MODIFIED:20171031T080127Z
DESCRIPTION:Herren Nationalliga C Gruppe 4\nBegegnungs-Nr: 14\nHeim: St. Gallen\nGast: Wetzikon\n\nAdresse: Zilstrasse 61\, 9016 St.Gallen\n
LOCATION:Zilstrasse 61\, 9016 St.Gallen
CATEGORIES:Saison 2017/18
END:VEVENT
BEGIN:VEVENT
DTSTAMP:20260424T163230Z
DTSTART;TZID=Europe/Berlin:20171007T150000
DTEND;TZID=Europe/Berlin:20171007T180000
SUMMARY:HE NLC Gr.4 Wil SG II vs Wetzikon (9)
UID:6010be51-4601-5356-e053-1fc7a80a74f7
STATUS:CONFIRMED
LAST-MODIFIED:20171009T074400Z
DESCRIPTION:Herren Nationalliga C Gruppe 4\nBegegnungs-Nr: 9\nHeim: Wil SG II\nGast: Wetzikon\n\nAdresse: Lindenhofstr. 23\, 9500 Wil\n
LOCATION:Lindenhofstr. 23\, 9500 Wil
CATEGORIES:Saison 2017/18
END:VEVENT
BEGIN:VEVENT
DTSTAMP:20260424T163230Z
DTSTART;TZID=Europe/Berlin:20180223T200000
DTEND;TZID=Europe/Berlin:20180223T230000
SUMMARY:HE NLC Gr.4 Neuhausen II vs Wetzikon (20)
UID:6010be51-467d-5356-e053-1fc7a80a74f7
STATUS:CONFIRMED
LAST-MODIFIED:20180226T095105Z
DESCRIPTION:Herren Nationalliga C Gruppe 4\nBegegnungs-Nr: 20\nHeim: Neuhausen II\nGast: Wetzikon\n\nAdresse: Rheingoldstrasse 11\, 8212 Neuhausen am Rhf.\n
LOCATION:Rheingoldstrasse 11\, 8212 Neuhausen am Rhf.
CATEGORIES:Saison 2017/18
END:VEVENT
BEGIN:VEVENT
DTSTAMP:20260424T163230Z
DTSTART;TZID=Europe/Berlin:20180113T170000
DTEND;TZID=Europe/Berlin:20180113T200000
SUMMARY:HE NLC Gr.4 Chur vs Wetzikon (8)
UID:6010be51-46b4-5356-e053-1fc7a80a74f7
STATUS:CONFIRMED
LAST-MODIFIED:20180115T075023Z
DESCRIPTION:Herren Nationalliga C Gruppe 4\nBegegnungs-Nr: 8\nHeim: Chur\nGast: Wetzikon\n\nAdresse: Sandstr. 35\, 7000 Chur\n
LOCATION:Sandstr. 35\, 7000 Chur
CATEGORIES:Saison 2017/18
END:VEVENT
END:VCALENDAR
