BEGIN:VCALENDAR
PRODID:-//nuDatenautomaten//framework iCal4j //DE
VERSION:2.0
CALSCALE:GREGORIAN
BEGIN:VTIMEZONE
TZID:Europe/Berlin
LAST-MODIFIED:20260306T231828Z
TZURL:https://www.tzurl.org/zoneinfo/Europe/Berlin
X-LIC-LOCATION:Europe/Berlin
X-PROLEPTIC-TZNAME:LMT
BEGIN:STANDARD
TZNAME:CET
TZOFFSETFROM:+005328
TZOFFSETTO:+0100
DTSTART:18930401T000000
END:STANDARD
BEGIN:DAYLIGHT
TZNAME:CEST
TZOFFSETFROM:+0100
TZOFFSETTO:+0200
DTSTART:19160430T230000
RDATE:19400401T020000
RDATE:19430329T020000
RDATE:19460414T020000
RDATE:19470406T030000
RDATE:19480418T020000
RDATE:19490410T020000
RDATE:19800406T020000
END:DAYLIGHT
BEGIN:STANDARD
TZNAME:CET
TZOFFSETFROM:+0200
TZOFFSETTO:+0100
DTSTART:19161001T010000
RDATE:19421102T030000
RDATE:19431004T030000
RDATE:19441002T030000
RDATE:19451118T030000
RDATE:19461007T030000
END:STANDARD
BEGIN:DAYLIGHT
TZNAME:CEST
TZOFFSETFROM:+0100
TZOFFSETTO:+0200
DTSTART:19170416T020000
RRULE:FREQ=YEARLY;UNTIL=19180415T010000Z;BYMONTH=4;BYDAY=3MO
END:DAYLIGHT
BEGIN:STANDARD
TZNAME:CET
TZOFFSETFROM:+0200
TZOFFSETTO:+0100
DTSTART:19170917T030000
RRULE:FREQ=YEARLY;UNTIL=19180916T010000Z;BYMONTH=9;BYDAY=3MO
END:STANDARD
BEGIN:DAYLIGHT
TZNAME:CEST
TZOFFSETFROM:+0100
TZOFFSETTO:+0200
DTSTART:19440403T020000
RRULE:FREQ=YEARLY;UNTIL=19450402T010000Z;BYMONTH=4;BYDAY=1MO
END:DAYLIGHT
BEGIN:DAYLIGHT
TZNAME:CEMT
TZOFFSETFROM:+0200
TZOFFSETTO:+0300
DTSTART:19450524T020000
RDATE:19470511T030000
END:DAYLIGHT
BEGIN:DAYLIGHT
TZNAME:CEST
TZOFFSETFROM:+0300
TZOFFSETTO:+0200
DTSTART:19450924T030000
RDATE:19470629T030000
END:DAYLIGHT
BEGIN:STANDARD
TZNAME:CET
TZOFFSETFROM:+0100
TZOFFSETTO:+0100
DTSTART:19460101T000000
RDATE:19800101T000000
END:STANDARD
BEGIN:STANDARD
TZNAME:CET
TZOFFSETFROM:+0200
TZOFFSETTO:+0100
DTSTART:19471005T030000
RRULE:FREQ=YEARLY;UNTIL=19491002T010000Z;BYMONTH=10;BYDAY=1SU
END:STANDARD
BEGIN:STANDARD
TZNAME:CET
TZOFFSETFROM:+0200
TZOFFSETTO:+0100
DTSTART:19800928T030000
RRULE:FREQ=YEARLY;UNTIL=19950924T010000Z;BYMONTH=9;BYDAY=-1SU
END:STANDARD
BEGIN:DAYLIGHT
TZNAME:CEST
TZOFFSETFROM:+0100
TZOFFSETTO:+0200
DTSTART:19810329T020000
RRULE:FREQ=YEARLY;BYMONTH=3;BYDAY=-1SU
END:DAYLIGHT
BEGIN:STANDARD
TZNAME:CET
TZOFFSETFROM:+0200
TZOFFSETTO:+0100
DTSTART:19961027T030000
RRULE:FREQ=YEARLY;BYMONTH=10;BYDAY=-1SU
END:STANDARD
END:VTIMEZONE
BEGIN:VEVENT
DTSTAMP:20260424T181612Z
DTSTART;TZID=Europe/Berlin:20180307T194500
DTEND;TZID=Europe/Berlin:20180307T224500
SUMMARY:HE 1. Liga Solothurn vs Bern (34)
UID:6010be51-3a96-5356-e053-1fc7a80a74f7
STATUS:CONFIRMED
LAST-MODIFIED:20180308T180401Z
DESCRIPTION:Herren 1. Liga\nBegegnungs-Nr: 34\nHeim: Solothurn\nGast: Bern\n\nAdresse: Untere Sternengasse 24\, 4500 Solothurn\n
LOCATION:Untere Sternengasse 24\, 4500 Solothurn
CATEGORIES:Saison 2017/18
END:VEVENT
BEGIN:VEVENT
DTSTAMP:20260424T181612Z
DTSTART;TZID=Europe/Berlin:20180216T200000
DTEND;TZID=Europe/Berlin:20180216T230000
SUMMARY:HE 1. Liga Solothurn vs Münchenbuchsee II (17)
UID:6010be51-3ad8-5356-e053-1fc7a80a74f7
STATUS:CONFIRMED
LAST-MODIFIED:20180217T135106Z
DESCRIPTION:Herren 1. Liga\nBegegnungs-Nr: 17\nHeim: Solothurn\nGast: Münchenbuchsee II\n\nAdresse: Untere Sternengasse 24\, 4500 Solothurn\n
LOCATION:Untere Sternengasse 24\, 4500 Solothurn
CATEGORIES:Saison 2017/18
END:VEVENT
BEGIN:VEVENT
DTSTAMP:20260424T181612Z
DTSTART;TZID=Europe/Berlin:20180124T194500
DTEND;TZID=Europe/Berlin:20180124T224500
SUMMARY:HE 1. Liga Solothurn vs Burgdorf (11)
UID:6010be51-3ae0-5356-e053-1fc7a80a74f7
STATUS:CONFIRMED
LAST-MODIFIED:20180125T161923Z
DESCRIPTION:Herren 1. Liga\nBegegnungs-Nr: 11\nHeim: Solothurn\nGast: Burgdorf\n\nAdresse: Untere Sternengasse 24\, 4500 Solothurn\n
LOCATION:Untere Sternengasse 24\, 4500 Solothurn
CATEGORIES:Saison 2017/18
END:VEVENT
BEGIN:VEVENT
DTSTAMP:20260424T181612Z
DTSTART;TZID=Europe/Berlin:20171213T194500
DTEND;TZID=Europe/Berlin:20171213T224500
SUMMARY:HE 1. Liga Solothurn vs Port (4)
UID:6010be51-3b17-5356-e053-1fc7a80a74f7
STATUS:CONFIRMED
LAST-MODIFIED:20171215T172739Z
DESCRIPTION:Herren 1. Liga\nBegegnungs-Nr: 4\nHeim: Solothurn\nGast: Port\n\nAdresse: Untere Sternengasse 24\, 4500 Solothurn\n
LOCATION:Untere Sternengasse 24\, 4500 Solothurn
CATEGORIES:Saison 2017/18
END:VEVENT
BEGIN:VEVENT
DTSTAMP:20260424T181612Z
DTSTART;TZID=Europe/Berlin:20171129T194500
DTEND;TZID=Europe/Berlin:20171129T224500
SUMMARY:HE 1. Liga Solothurn vs Münchenbuchsee (39)
UID:6010be51-3bba-5356-e053-1fc7a80a74f7
STATUS:CONFIRMED
LAST-MODIFIED:20171201T181704Z
DESCRIPTION:Herren 1. Liga\nBegegnungs-Nr: 39\nHeim: Solothurn\nGast: Münchenbuchsee\n\nAdresse: Untere Sternengasse 24\, 4500 Solothurn\n
LOCATION:Untere Sternengasse 24\, 4500 Solothurn
CATEGORIES:Saison 2017/18
END:VEVENT
BEGIN:VEVENT
DTSTAMP:20260424T181612Z
DTSTART;TZID=Europe/Berlin:20170920T194500
DTEND;TZID=Europe/Berlin:20170920T224500
SUMMARY:HE 1. Liga Solothurn vs Thun II (10)
UID:6010be51-3bbb-5356-e053-1fc7a80a74f7
STATUS:CONFIRMED
LAST-MODIFIED:20170921T163605Z
DESCRIPTION:Herren 1. Liga\nBegegnungs-Nr: 10\nHeim: Solothurn\nGast: Thun II\n\nAdresse: Untere Sternengasse 24\, 4500 Solothurn\n
LOCATION:Untere Sternengasse 24\, 4500 Solothurn
CATEGORIES:Saison 2017/18
END:VEVENT
BEGIN:VEVENT
DTSTAMP:20260424T181612Z
DTSTART;TZID=Europe/Berlin:20171206T194500
DTEND;TZID=Europe/Berlin:20171206T224500
SUMMARY:HE 1. Liga Solothurn vs Aarberg II (44)
UID:6010be51-3bbf-5356-e053-1fc7a80a74f7
STATUS:CONFIRMED
LAST-MODIFIED:20171208T161546Z
DESCRIPTION:Herren 1. Liga\nBegegnungs-Nr: 44\nHeim: Solothurn\nGast: Aarberg II\n\nAdresse: Untere Sternengasse 24\, 4500 Solothurn\n
LOCATION:Untere Sternengasse 24\, 4500 Solothurn
CATEGORIES:Saison 2017/18
END:VEVENT
BEGIN:VEVENT
DTSTAMP:20260424T181612Z
DTSTART;TZID=Europe/Berlin:20171108T194500
DTEND;TZID=Europe/Berlin:20171108T224500
SUMMARY:HE 1. Liga Solothurn vs Hindelbank (28)
UID:6010be51-3ebc-5356-e053-1fc7a80a74f7
STATUS:CONFIRMED
LAST-MODIFIED:20171109T123515Z
DESCRIPTION:Herren 1. Liga\nBegegnungs-Nr: 28\nHeim: Solothurn\nGast: Hindelbank\n\nAdresse: Untere Sternengasse 24\, 4500 Solothurn\n
LOCATION:Untere Sternengasse 24\, 4500 Solothurn
CATEGORIES:Saison 2017/18
END:VEVENT
BEGIN:VEVENT
DTSTAMP:20260424T181612Z
DTSTART;TZID=Europe/Berlin:20171018T194500
DTEND;TZID=Europe/Berlin:20171018T224500
SUMMARY:HE 1. Liga Solothurn vs Ostermundigen II (25)
UID:6010be51-594a-5356-e053-1fc7a80a74f7
STATUS:CONFIRMED
LAST-MODIFIED:20171019T153446Z
DESCRIPTION:Herren 1. Liga\nBegegnungs-Nr: 25\nHeim: Solothurn\nGast: Ostermundigen II\n\nAdresse: Untere Sternengasse 24\, 4500 Solothurn\n
LOCATION:Untere Sternengasse 24\, 4500 Solothurn
CATEGORIES:Saison 2017/18
END:VEVENT
BEGIN:VEVENT
DTSTAMP:20260424T181612Z
DTSTART;TZID=Europe/Berlin:20180113T130000
DTEND;TZID=Europe/Berlin:20180113T160000
SUMMARY:HE 1. Liga Thun II vs Solothurn (10)
UID:6010be51-3ae1-5356-e053-1fc7a80a74f7
STATUS:CONFIRMED
LAST-MODIFIED:20180114T180446Z
DESCRIPTION:Herren 1. Liga\nBegegnungs-Nr: 10\nHeim: Thun II\nGast: Solothurn\n\nAdresse: Hallerstrasse 28\, 3604 Thun\n
LOCATION:Hallerstrasse 28\, 3604 Thun
CATEGORIES:Saison 2017/18
END:VEVENT
BEGIN:VEVENT
DTSTAMP:20260424T181612Z
DTSTART;TZID=Europe/Berlin:20180321T194500
DTEND;TZID=Europe/Berlin:20180321T224500
SUMMARY:HE 1. Liga Münchenbuchsee vs Solothurn (39)
UID:6010be51-3b96-5356-e053-1fc7a80a74f7
STATUS:CONFIRMED
LAST-MODIFIED:20180322T175519Z
DESCRIPTION:Herren 1. Liga\nBegegnungs-Nr: 39\nHeim: Münchenbuchsee\nGast: Solothurn\n\nAdresse: Laubbergweg 41\, 3053 Münchenbuchsee\n
LOCATION:Laubbergweg 41\, 3053 Münchenbuchsee
CATEGORIES:Saison 2017/18
END:VEVENT
BEGIN:VEVENT
DTSTAMP:20260424T181612Z
DTSTART;TZID=Europe/Berlin:20170915T193000
DTEND;TZID=Europe/Berlin:20170915T223000
SUMMARY:HE 1. Liga Burgdorf vs Solothurn (11)
UID:6010be51-3bb9-5356-e053-1fc7a80a74f7
STATUS:CONFIRMED
LAST-MODIFIED:20170916T112608Z
DESCRIPTION:Herren 1. Liga\nBegegnungs-Nr: 11\nHeim: Burgdorf\nGast: Solothurn\n\nAdresse: Pestalozzistrasse 69\, 3400 Burgdorf\n
LOCATION:Pestalozzistrasse 69\, 3400 Burgdorf
CATEGORIES:Saison 2017/18
END:VEVENT
BEGIN:VEVENT
DTSTAMP:20260424T181612Z
DTSTART;TZID=Europe/Berlin:20180117T193000
DTEND;TZID=Europe/Berlin:20180117T223000
SUMMARY:HE 1. Liga Ostermundigen II vs Solothurn (25)
UID:6010be51-465b-5356-e053-1fc7a80a74f7
STATUS:CONFIRMED
LAST-MODIFIED:20180119T191112Z
DESCRIPTION:Herren 1. Liga\nBegegnungs-Nr: 25\nHeim: Ostermundigen II\nGast: Solothurn\n\nAdresse: Dennigkofenweg 169\, 3072 Ostermundigen\n
LOCATION:Dennigkofenweg 169\, 3072 Ostermundigen
CATEGORIES:Saison 2017/18
END:VEVENT
BEGIN:VEVENT
DTSTAMP:20260424T181612Z
DTSTART;TZID=Europe/Berlin:20171017T200000
DTEND;TZID=Europe/Berlin:20171017T230000
SUMMARY:HE 1. Liga Port vs Solothurn (4)
UID:6010be51-5759-5356-e053-1fc7a80a74f7
STATUS:CONFIRMED
LAST-MODIFIED:20171018T194516Z
DESCRIPTION:Herren 1. Liga\nBegegnungs-Nr: 4\nHeim: Port\nGast: Solothurn\n\nAdresse: Allmendstrasse 23\, 2562 Port\n
LOCATION:Allmendstrasse 23\, 2562 Port
CATEGORIES:Saison 2017/18
END:VEVENT
BEGIN:VEVENT
DTSTAMP:20260424T181612Z
DTSTART;TZID=Europe/Berlin:20180306T200000
DTEND;TZID=Europe/Berlin:20180306T230000
SUMMARY:HE 1. Liga Hindelbank vs Solothurn (28)
UID:6010be51-3a9c-5356-e053-1fc7a80a74f7
STATUS:CONFIRMED
LAST-MODIFIED:20180308T180258Z
DESCRIPTION:Herren 1. Liga\nBegegnungs-Nr: 28\nHeim: Hindelbank\nGast: Solothurn\nHalle: Turnhalle Oberstufenzentrum\nAdresse: Schulhausweg 8\, 3324 Hindelbank\n
LOCATION:Turnhalle Oberstufenzentrum Schulhausweg 8\, 3324 Hindelbank
CATEGORIES:Saison 2017/18
END:VEVENT
BEGIN:VEVENT
DTSTAMP:20260424T181612Z
DTSTART;TZID=Europe/Berlin:20180424T200000
DTEND;TZID=Europe/Berlin:20180424T230000
SUMMARY:HE 1. Liga Burgdorf vs Solothurn (1)
UID:9b62054d-a891-452d-9bad-638b9b05a05f
STATUS:CONFIRMED
LAST-MODIFIED:20180507T152719Z
DESCRIPTION:Herren 1. Liga\nBegegnungs-Nr: 1\nHeim: Burgdorf\nGast: Solothurn\n
LOCATION:
CATEGORIES:Saison 2017/18
END:VEVENT
BEGIN:VEVENT
DTSTAMP:20260424T181612Z
DTSTART;TZID=Europe/Berlin:20171115T193000
DTEND;TZID=Europe/Berlin:20171115T223000
SUMMARY:HE 1. Liga Bern vs Solothurn (34)
UID:6010be51-3eb6-5356-e053-1fc7a80a74f7
STATUS:CONFIRMED
LAST-MODIFIED:20171116T084049Z
DESCRIPTION:Herren 1. Liga\nBegegnungs-Nr: 34\nHeim: Bern\nGast: Solothurn\n\nAdresse: Papiermühlestrasse 81\, 3014 Bern\n
LOCATION:Papiermühlestrasse 81\, 3014 Bern
CATEGORIES:Saison 2017/18
END:VEVENT
BEGIN:VEVENT
DTSTAMP:20260424T181612Z
DTSTART;TZID=Europe/Berlin:20171009T194500
DTEND;TZID=Europe/Berlin:20171009T224500
SUMMARY:HE 1. Liga Münchenbuchsee II vs Solothurn (17)
UID:6010be51-3ef1-5356-e053-1fc7a80a74f7
STATUS:CONFIRMED
LAST-MODIFIED:20171011T134004Z
DESCRIPTION:Herren 1. Liga\nBegegnungs-Nr: 17\nHeim: Münchenbuchsee II\nGast: Solothurn\n\nAdresse: Laubbergweg 41\, 3053 Münchenbuchsee\n
LOCATION:Laubbergweg 41\, 3053 Münchenbuchsee
CATEGORIES:Saison 2017/18
END:VEVENT
BEGIN:VEVENT
DTSTAMP:20260424T181612Z
DTSTART;TZID=Europe/Berlin:20180404T201500
DTEND;TZID=Europe/Berlin:20180404T231500
SUMMARY:HE 1. Liga Aarberg II vs Solothurn (44)
UID:6010be51-3ef6-5356-e053-1fc7a80a74f7
STATUS:CONFIRMED
LAST-MODIFIED:20180405T173214Z
DESCRIPTION:Herren 1. Liga\nBegegnungs-Nr: 44\nHeim: Aarberg II\nGast: Solothurn\n\nAdresse: Nidaustrasse 7\, 3270 Aarberg\n
LOCATION:Nidaustrasse 7\, 3270 Aarberg
CATEGORIES:Saison 2017/18
END:VEVENT
END:VCALENDAR
