BEGIN:VCALENDAR
PRODID:-//nuDatenautomaten//framework iCal4j //DE
VERSION:2.0
CALSCALE:GREGORIAN
BEGIN:VTIMEZONE
TZID:Europe/Berlin
LAST-MODIFIED:20260306T231828Z
TZURL:https://www.tzurl.org/zoneinfo/Europe/Berlin
X-LIC-LOCATION:Europe/Berlin
X-PROLEPTIC-TZNAME:LMT
BEGIN:STANDARD
TZNAME:CET
TZOFFSETFROM:+005328
TZOFFSETTO:+0100
DTSTART:18930401T000000
END:STANDARD
BEGIN:DAYLIGHT
TZNAME:CEST
TZOFFSETFROM:+0100
TZOFFSETTO:+0200
DTSTART:19160430T230000
RDATE:19400401T020000
RDATE:19430329T020000
RDATE:19460414T020000
RDATE:19470406T030000
RDATE:19480418T020000
RDATE:19490410T020000
RDATE:19800406T020000
END:DAYLIGHT
BEGIN:STANDARD
TZNAME:CET
TZOFFSETFROM:+0200
TZOFFSETTO:+0100
DTSTART:19161001T010000
RDATE:19421102T030000
RDATE:19431004T030000
RDATE:19441002T030000
RDATE:19451118T030000
RDATE:19461007T030000
END:STANDARD
BEGIN:DAYLIGHT
TZNAME:CEST
TZOFFSETFROM:+0100
TZOFFSETTO:+0200
DTSTART:19170416T020000
RRULE:FREQ=YEARLY;UNTIL=19180415T010000Z;BYMONTH=4;BYDAY=3MO
END:DAYLIGHT
BEGIN:STANDARD
TZNAME:CET
TZOFFSETFROM:+0200
TZOFFSETTO:+0100
DTSTART:19170917T030000
RRULE:FREQ=YEARLY;UNTIL=19180916T010000Z;BYMONTH=9;BYDAY=3MO
END:STANDARD
BEGIN:DAYLIGHT
TZNAME:CEST
TZOFFSETFROM:+0100
TZOFFSETTO:+0200
DTSTART:19440403T020000
RRULE:FREQ=YEARLY;UNTIL=19450402T010000Z;BYMONTH=4;BYDAY=1MO
END:DAYLIGHT
BEGIN:DAYLIGHT
TZNAME:CEMT
TZOFFSETFROM:+0200
TZOFFSETTO:+0300
DTSTART:19450524T020000
RDATE:19470511T030000
END:DAYLIGHT
BEGIN:DAYLIGHT
TZNAME:CEST
TZOFFSETFROM:+0300
TZOFFSETTO:+0200
DTSTART:19450924T030000
RDATE:19470629T030000
END:DAYLIGHT
BEGIN:STANDARD
TZNAME:CET
TZOFFSETFROM:+0100
TZOFFSETTO:+0100
DTSTART:19460101T000000
RDATE:19800101T000000
END:STANDARD
BEGIN:STANDARD
TZNAME:CET
TZOFFSETFROM:+0200
TZOFFSETTO:+0100
DTSTART:19471005T030000
RRULE:FREQ=YEARLY;UNTIL=19491002T010000Z;BYMONTH=10;BYDAY=1SU
END:STANDARD
BEGIN:STANDARD
TZNAME:CET
TZOFFSETFROM:+0200
TZOFFSETTO:+0100
DTSTART:19800928T030000
RRULE:FREQ=YEARLY;UNTIL=19950924T010000Z;BYMONTH=9;BYDAY=-1SU
END:STANDARD
BEGIN:DAYLIGHT
TZNAME:CEST
TZOFFSETFROM:+0100
TZOFFSETTO:+0200
DTSTART:19810329T020000
RRULE:FREQ=YEARLY;BYMONTH=3;BYDAY=-1SU
END:DAYLIGHT
BEGIN:STANDARD
TZNAME:CET
TZOFFSETFROM:+0200
TZOFFSETTO:+0100
DTSTART:19961027T030000
RRULE:FREQ=YEARLY;BYMONTH=10;BYDAY=-1SU
END:STANDARD
END:VTIMEZONE
BEGIN:VEVENT
DTSTAMP:20260419T211420Z
DTSTART;TZID=Europe/Berlin:20171121T200000
DTEND;TZID=Europe/Berlin:20171121T230000
SUMMARY:S L3 Gr 4 Orbe vs Fribourg II (0)
UID:6010be51-526a-5356-e053-1fc7a80a74f7
STATUS:CONFIRMED
LAST-MODIFIED:20171127T110444Z
DESCRIPTION:3ème ligue Seniors Groupe 4\nBegegnungs-Nr: 0\nHeim: Orbe\nGast: Fribourg II\n\nAdresse: Rue du Suchet\, 1350 Orbe\n
LOCATION:Rue du Suchet\, 1350 Orbe
CATEGORIES:Saison 2017/18
END:VEVENT
BEGIN:VEVENT
DTSTAMP:20260419T211420Z
DTSTART;TZID=Europe/Berlin:20171024T200000
DTEND;TZID=Europe/Berlin:20171024T230000
SUMMARY:S L3 Gr 4 Orbe vs Romanel II (0)
UID:6010be51-4ef3-5356-e053-1fc7a80a74f7
STATUS:CONFIRMED
LAST-MODIFIED:20171030T082831Z
DESCRIPTION:3ème ligue Seniors Groupe 4\nBegegnungs-Nr: 0\nHeim: Orbe\nGast: Romanel II\n\nAdresse: Rue du Suchet\, 1350 Orbe\n
LOCATION:Rue du Suchet\, 1350 Orbe
CATEGORIES:Saison 2017/18
END:VEVENT
BEGIN:VEVENT
DTSTAMP:20260419T211420Z
DTSTART;TZID=Europe/Berlin:20171212T200000
DTEND;TZID=Europe/Berlin:20171212T230000
SUMMARY:S L3 Gr 4 Orbe vs Yverdon II (0)
UID:6010be51-5009-5356-e053-1fc7a80a74f7
STATUS:CONFIRMED
LAST-MODIFIED:20171220T101756Z
DESCRIPTION:3ème ligue Seniors Groupe 4\nBegegnungs-Nr: 0\nHeim: Orbe\nGast: Yverdon II\n\nAdresse: Rue du Suchet\, 1350 Orbe\n
LOCATION:Rue du Suchet\, 1350 Orbe
CATEGORIES:Saison 2017/18
END:VEVENT
BEGIN:VEVENT
DTSTAMP:20260419T211420Z
DTSTART;TZID=Europe/Berlin:20180206T200000
DTEND;TZID=Europe/Berlin:20180206T230000
SUMMARY:S L3 Gr 4 Orbe vs Cheyres (0)
UID:6010be51-5010-5356-e053-1fc7a80a74f7
STATUS:CONFIRMED
LAST-MODIFIED:20180213T155457Z
DESCRIPTION:3ème ligue Seniors Groupe 4\nBegegnungs-Nr: 0\nHeim: Orbe\nGast: Cheyres\n\nAdresse: Rue du Suchet\, 1350 Orbe\n
LOCATION:Rue du Suchet\, 1350 Orbe
CATEGORIES:Saison 2017/18
END:VEVENT
BEGIN:VEVENT
DTSTAMP:20260419T211420Z
DTSTART;TZID=Europe/Berlin:20170921T201500
DTEND;TZID=Europe/Berlin:20170921T231500
SUMMARY:S L3 Gr 4 Yverdon II vs Orbe (0)
UID:6010be51-4ef0-5356-e053-1fc7a80a74f7
STATUS:CONFIRMED
LAST-MODIFIED:20170927T122322Z
DESCRIPTION:3ème ligue Seniors Groupe 4\nBegegnungs-Nr: 0\nHeim: Yverdon II\nGast: Orbe\n\nAdresse: Avenue des Quatre Marroniers 1\, 1400 Yverdon-les-Bains\n
LOCATION:Avenue des Quatre Marroniers 1\, 1400 Yverdon-les-Bains
CATEGORIES:Saison 2017/18
END:VEVENT
BEGIN:VEVENT
DTSTAMP:20260419T211420Z
DTSTART;TZID=Europe/Berlin:20171109T194500
DTEND;TZID=Europe/Berlin:20171109T224500
SUMMARY:S L3 Gr 4 Cheyres vs Orbe (0)
UID:6010be51-4ef5-5356-e053-1fc7a80a74f7
STATUS:CONFIRMED
LAST-MODIFIED:20171116T103607Z
DESCRIPTION:3ème ligue Seniors Groupe 4\nBegegnungs-Nr: 0\nHeim: Cheyres\nGast: Orbe\n\nAdresse: Rue de la Gare 10\, 1468 Cheyres\n
LOCATION:Rue de la Gare 10\, 1468 Cheyres
CATEGORIES:Saison 2017/18
END:VEVENT
BEGIN:VEVENT
DTSTAMP:20260419T211420Z
DTSTART;TZID=Europe/Berlin:20180412T193000
DTEND;TZID=Europe/Berlin:20180412T223000
SUMMARY:S L3 Gr 4 Fribourg II vs Orbe (0)
UID:6010be51-5014-5356-e053-1fc7a80a74f7
STATUS:CONFIRMED
LAST-MODIFIED:20180418T083807Z
DESCRIPTION:3ème ligue Seniors Groupe 4\nBegegnungs-Nr: 0\nHeim: Fribourg II\nGast: Orbe\n\nAdresse: Avenue Général Guisan 59\, 1700 Fribourg\n
LOCATION:Avenue Général Guisan 59\, 1700 Fribourg
CATEGORIES:Saison 2017/18
END:VEVENT
BEGIN:VEVENT
DTSTAMP:20260419T211420Z
DTSTART;TZID=Europe/Berlin:20180111T200000
DTEND;TZID=Europe/Berlin:20180111T230000
SUMMARY:S L3 Gr 4 Romanel II vs Orbe (0)
UID:6010be51-500e-5356-e053-1fc7a80a74f7
STATUS:CONFIRMED
LAST-MODIFIED:20180118T170136Z
DESCRIPTION:3ème ligue Seniors Groupe 4\nBegegnungs-Nr: 0\nHeim: Romanel II\nGast: Orbe\n\nAdresse: Ch des Epinettes 1\, 1032 Romanel-sur-Lausanne\n
LOCATION:Ch des Epinettes 1\, 1032 Romanel-sur-Lausanne
CATEGORIES:Saison 2017/18
END:VEVENT
END:VCALENDAR
