BEGIN:VCALENDAR
PRODID:-//nuDatenautomaten//framework iCal4j //DE
VERSION:2.0
CALSCALE:GREGORIAN
BEGIN:VTIMEZONE
TZID:Europe/Berlin
LAST-MODIFIED:20260306T231828Z
TZURL:https://www.tzurl.org/zoneinfo/Europe/Berlin
X-LIC-LOCATION:Europe/Berlin
X-PROLEPTIC-TZNAME:LMT
BEGIN:STANDARD
TZNAME:CET
TZOFFSETFROM:+005328
TZOFFSETTO:+0100
DTSTART:18930401T000000
END:STANDARD
BEGIN:DAYLIGHT
TZNAME:CEST
TZOFFSETFROM:+0100
TZOFFSETTO:+0200
DTSTART:19160430T230000
RDATE:19400401T020000
RDATE:19430329T020000
RDATE:19460414T020000
RDATE:19470406T030000
RDATE:19480418T020000
RDATE:19490410T020000
RDATE:19800406T020000
END:DAYLIGHT
BEGIN:STANDARD
TZNAME:CET
TZOFFSETFROM:+0200
TZOFFSETTO:+0100
DTSTART:19161001T010000
RDATE:19421102T030000
RDATE:19431004T030000
RDATE:19441002T030000
RDATE:19451118T030000
RDATE:19461007T030000
END:STANDARD
BEGIN:DAYLIGHT
TZNAME:CEST
TZOFFSETFROM:+0100
TZOFFSETTO:+0200
DTSTART:19170416T020000
RRULE:FREQ=YEARLY;UNTIL=19180415T010000Z;BYMONTH=4;BYDAY=3MO
END:DAYLIGHT
BEGIN:STANDARD
TZNAME:CET
TZOFFSETFROM:+0200
TZOFFSETTO:+0100
DTSTART:19170917T030000
RRULE:FREQ=YEARLY;UNTIL=19180916T010000Z;BYMONTH=9;BYDAY=3MO
END:STANDARD
BEGIN:DAYLIGHT
TZNAME:CEST
TZOFFSETFROM:+0100
TZOFFSETTO:+0200
DTSTART:19440403T020000
RRULE:FREQ=YEARLY;UNTIL=19450402T010000Z;BYMONTH=4;BYDAY=1MO
END:DAYLIGHT
BEGIN:DAYLIGHT
TZNAME:CEMT
TZOFFSETFROM:+0200
TZOFFSETTO:+0300
DTSTART:19450524T020000
RDATE:19470511T030000
END:DAYLIGHT
BEGIN:DAYLIGHT
TZNAME:CEST
TZOFFSETFROM:+0300
TZOFFSETTO:+0200
DTSTART:19450924T030000
RDATE:19470629T030000
END:DAYLIGHT
BEGIN:STANDARD
TZNAME:CET
TZOFFSETFROM:+0100
TZOFFSETTO:+0100
DTSTART:19460101T000000
RDATE:19800101T000000
END:STANDARD
BEGIN:STANDARD
TZNAME:CET
TZOFFSETFROM:+0200
TZOFFSETTO:+0100
DTSTART:19471005T030000
RRULE:FREQ=YEARLY;UNTIL=19491002T010000Z;BYMONTH=10;BYDAY=1SU
END:STANDARD
BEGIN:STANDARD
TZNAME:CET
TZOFFSETFROM:+0200
TZOFFSETTO:+0100
DTSTART:19800928T030000
RRULE:FREQ=YEARLY;UNTIL=19950924T010000Z;BYMONTH=9;BYDAY=-1SU
END:STANDARD
BEGIN:DAYLIGHT
TZNAME:CEST
TZOFFSETFROM:+0100
TZOFFSETTO:+0200
DTSTART:19810329T020000
RRULE:FREQ=YEARLY;BYMONTH=3;BYDAY=-1SU
END:DAYLIGHT
BEGIN:STANDARD
TZNAME:CET
TZOFFSETFROM:+0200
TZOFFSETTO:+0100
DTSTART:19961027T030000
RRULE:FREQ=YEARLY;BYMONTH=10;BYDAY=-1SU
END:STANDARD
END:VTIMEZONE
BEGIN:VEVENT
DTSTAMP:20260424T193419Z
DTSTART;TZID=Europe/Berlin:20180119T193000
DTEND;TZID=Europe/Berlin:20180119T223000
SUMMARY:O40 3. Liga Gr. 3 Burgdorf III vs Münchenbuchsee II (4)
UID:6010be51-4459-5356-e053-1fc7a80a74f7
STATUS:CONFIRMED
LAST-MODIFIED:20180120T092335Z
DESCRIPTION:3. Liga O40 Gruppe 3\nBegegnungs-Nr: 4\nHeim: Burgdorf III\nGast: Münchenbuchsee II\n\nAdresse: Pestalozzistrasse 69\, 3400 Burgdorf\n
LOCATION:Pestalozzistrasse 69\, 3400 Burgdorf
CATEGORIES:Saison 2017/18
END:VEVENT
BEGIN:VEVENT
DTSTAMP:20260424T193419Z
DTSTART;TZID=Europe/Berlin:20170826T133000
DTEND;TZID=Europe/Berlin:20170826T163000
SUMMARY:O40 3. Liga Gr. 3 Burgdorf III vs Port II (1)
UID:6010be51-4801-5356-e053-1fc7a80a74f7
STATUS:CONFIRMED
LAST-MODIFIED:20170827T064730Z
DESCRIPTION:3. Liga O40 Gruppe 3\nBegegnungs-Nr: 1\nHeim: Burgdorf III\nGast: Port II\n\nAdresse: Pestalozzistrasse 69\, 3400 Burgdorf\n
LOCATION:Pestalozzistrasse 69\, 3400 Burgdorf
CATEGORIES:Saison 2017/18
END:VEVENT
BEGIN:VEVENT
DTSTAMP:20260424T193419Z
DTSTART;TZID=Europe/Berlin:20180518T193000
DTEND;TZID=Europe/Berlin:20180518T223000
SUMMARY:O40 3. Liga Final Burgdorf III vs Ittigen (2)
UID:aee1ef24-d5ff-4a11-97d4-5096a02ae437
STATUS:CONFIRMED
LAST-MODIFIED:20180519T102714Z
DESCRIPTION:3. Liga O40 Finalrunde\nBegegnungs-Nr: 2\nHeim: Burgdorf III\nGast: Ittigen\n
LOCATION:
CATEGORIES:Saison 2017/18
END:VEVENT
BEGIN:VEVENT
DTSTAMP:20260424T193419Z
DTSTART;TZID=Europe/Berlin:20171027T193000
DTEND;TZID=Europe/Berlin:20171027T223000
SUMMARY:O40 3. Liga Gr. 3 Burgdorf III vs Regio Moossee II (7)
UID:6010be51-4419-5356-e053-1fc7a80a74f7
STATUS:CONFIRMED
LAST-MODIFIED:20171028T073458Z
DESCRIPTION:3. Liga O40 Gruppe 3\nBegegnungs-Nr: 7\nHeim: Burgdorf III\nGast: Regio Moossee II\n\nAdresse: Pestalozzistrasse 69\, 3400 Burgdorf\n
LOCATION:Pestalozzistrasse 69\, 3400 Burgdorf
CATEGORIES:Saison 2017/18
END:VEVENT
BEGIN:VEVENT
DTSTAMP:20260424T193419Z
DTSTART;TZID=Europe/Berlin:20171110T193000
DTEND;TZID=Europe/Berlin:20171110T223000
SUMMARY:O40 3. Liga Gr. 3 Burgdorf III vs Grauholz (13)
UID:6010be51-441e-5356-e053-1fc7a80a74f7
STATUS:CONFIRMED
LAST-MODIFIED:20171112T034520Z
DESCRIPTION:3. Liga O40 Gruppe 3\nBegegnungs-Nr: 13\nHeim: Burgdorf III\nGast: Grauholz\n\nAdresse: Pestalozzistrasse 69\, 3400 Burgdorf\n
LOCATION:Pestalozzistrasse 69\, 3400 Burgdorf
CATEGORIES:Saison 2017/18
END:VEVENT
BEGIN:VEVENT
DTSTAMP:20260424T193419Z
DTSTART;TZID=Europe/Berlin:20180223T193000
DTEND;TZID=Europe/Berlin:20180223T223000
SUMMARY:O40 3. Liga Gr. 3 Burgdorf III vs Grossaffoltern (10)
UID:6010be51-4b09-5356-e053-1fc7a80a74f7
STATUS:CONFIRMED
LAST-MODIFIED:20180224T091609Z
DESCRIPTION:3. Liga O40 Gruppe 3\nBegegnungs-Nr: 10\nHeim: Burgdorf III\nGast: Grossaffoltern\n\nAdresse: Pestalozzistrasse 69\, 3400 Burgdorf\n
LOCATION:Pestalozzistrasse 69\, 3400 Burgdorf
CATEGORIES:Saison 2017/18
END:VEVENT
BEGIN:VEVENT
DTSTAMP:20260424T193419Z
DTSTART;TZID=Europe/Berlin:20171219T194500
DTEND;TZID=Europe/Berlin:20171219T224500
SUMMARY:O40 3. Liga Gr. 3 Port II vs Burgdorf III (1)
UID:6010be51-4455-5356-e053-1fc7a80a74f7
STATUS:CONFIRMED
LAST-MODIFIED:20171220T123530Z
DESCRIPTION:3. Liga O40 Gruppe 3\nBegegnungs-Nr: 1\nHeim: Port II\nGast: Burgdorf III\n\nAdresse: Allmendstrasse 23\, 2562 Port\n
LOCATION:Allmendstrasse 23\, 2562 Port
CATEGORIES:Saison 2017/18
END:VEVENT
BEGIN:VEVENT
DTSTAMP:20260424T193419Z
DTSTART;TZID=Europe/Berlin:20180130T200000
DTEND;TZID=Europe/Berlin:20180130T230000
SUMMARY:O40 3. Liga Gr. 3 Regio Moossee II vs Burgdorf III (7)
UID:6010be51-4456-5356-e053-1fc7a80a74f7
STATUS:CONFIRMED
LAST-MODIFIED:20180131T161120Z
DESCRIPTION:3. Liga O40 Gruppe 3\nBegegnungs-Nr: 7\nHeim: Regio Moossee II\nGast: Burgdorf III\n\nAdresse: Schulhausstrasse 23-25\, 3302 Moosseedorf\n
LOCATION:Schulhausstrasse 23-25\, 3302 Moosseedorf
CATEGORIES:Saison 2017/18
END:VEVENT
BEGIN:VEVENT
DTSTAMP:20260424T193419Z
DTSTART;TZID=Europe/Berlin:20171030T200000
DTEND;TZID=Europe/Berlin:20171030T230000
SUMMARY:O40 3. Liga Gr. 3 Grossaffoltern vs Burgdorf III (10)
UID:6010be51-56c8-5356-e053-1fc7a80a74f7
STATUS:CONFIRMED
LAST-MODIFIED:20171031T175749Z
DESCRIPTION:3. Liga O40 Gruppe 3\nBegegnungs-Nr: 10\nHeim: Grossaffoltern\nGast: Burgdorf III\n\nAdresse: Schulhausstrasse 5 \, 3257 Grossaffoltern\n
LOCATION:Schulhausstrasse 5 \, 3257 Grossaffoltern
CATEGORIES:Saison 2017/18
END:VEVENT
BEGIN:VEVENT
DTSTAMP:20260424T193419Z
DTSTART;TZID=Europe/Berlin:20180503T194500
DTEND;TZID=Europe/Berlin:20180503T224500
SUMMARY:O40 3. Liga Final Heimberg vs Burgdorf III (1)
UID:27b79f02-6742-44f3-bd9c-1b237cd77689
STATUS:CONFIRMED
LAST-MODIFIED:20180504T183742Z
DESCRIPTION:3. Liga O40 Finalrunde\nBegegnungs-Nr: 1\nHeim: Heimberg\nGast: Burgdorf III\n
LOCATION:
CATEGORIES:Saison 2017/18
END:VEVENT
BEGIN:VEVENT
DTSTAMP:20260424T193419Z
DTSTART;TZID=Europe/Berlin:20170915T194500
DTEND;TZID=Europe/Berlin:20170915T224500
SUMMARY:O40 3. Liga Gr. 3 Münchenbuchsee II vs Burgdorf III (4)
UID:6010be51-5c6c-5356-e053-1fc7a80a74f7
STATUS:CONFIRMED
LAST-MODIFIED:20170916T113107Z
DESCRIPTION:3. Liga O40 Gruppe 3\nBegegnungs-Nr: 4\nHeim: Münchenbuchsee II\nGast: Burgdorf III\n\nAdresse: Laubbergweg 41\, 3053 Münchenbuchsee\n
LOCATION:Laubbergweg 41\, 3053 Münchenbuchsee
CATEGORIES:Saison 2017/18
END:VEVENT
BEGIN:VEVENT
DTSTAMP:20260424T193419Z
DTSTART;TZID=Europe/Berlin:20180316T200000
DTEND;TZID=Europe/Berlin:20180316T230000
SUMMARY:O40 3. Liga Gr. 3 Grauholz vs Burgdorf III (13)
UID:6010be51-444f-5356-e053-1fc7a80a74f7
STATUS:CONFIRMED
LAST-MODIFIED:20180317T113417Z
DESCRIPTION:3. Liga O40 Gruppe 3\nBegegnungs-Nr: 13\nHeim: Grauholz\nGast: Burgdorf III\n\nAdresse: Schulhausweg 8\, 3324 Hindelbank\n
LOCATION:Schulhausweg 8\, 3324 Hindelbank
CATEGORIES:Saison 2017/18
END:VEVENT
END:VCALENDAR
