BEGIN:VCALENDAR
PRODID:-//nuDatenautomaten//framework iCal4j //DE
VERSION:2.0
CALSCALE:GREGORIAN
BEGIN:VTIMEZONE
TZID:Europe/Berlin
LAST-MODIFIED:20260306T231828Z
TZURL:https://www.tzurl.org/zoneinfo/Europe/Berlin
X-LIC-LOCATION:Europe/Berlin
X-PROLEPTIC-TZNAME:LMT
BEGIN:STANDARD
TZNAME:CET
TZOFFSETFROM:+005328
TZOFFSETTO:+0100
DTSTART:18930401T000000
END:STANDARD
BEGIN:DAYLIGHT
TZNAME:CEST
TZOFFSETFROM:+0100
TZOFFSETTO:+0200
DTSTART:19160430T230000
RDATE:19400401T020000
RDATE:19430329T020000
RDATE:19460414T020000
RDATE:19470406T030000
RDATE:19480418T020000
RDATE:19490410T020000
RDATE:19800406T020000
END:DAYLIGHT
BEGIN:STANDARD
TZNAME:CET
TZOFFSETFROM:+0200
TZOFFSETTO:+0100
DTSTART:19161001T010000
RDATE:19421102T030000
RDATE:19431004T030000
RDATE:19441002T030000
RDATE:19451118T030000
RDATE:19461007T030000
END:STANDARD
BEGIN:DAYLIGHT
TZNAME:CEST
TZOFFSETFROM:+0100
TZOFFSETTO:+0200
DTSTART:19170416T020000
RRULE:FREQ=YEARLY;UNTIL=19180415T010000Z;BYMONTH=4;BYDAY=3MO
END:DAYLIGHT
BEGIN:STANDARD
TZNAME:CET
TZOFFSETFROM:+0200
TZOFFSETTO:+0100
DTSTART:19170917T030000
RRULE:FREQ=YEARLY;UNTIL=19180916T010000Z;BYMONTH=9;BYDAY=3MO
END:STANDARD
BEGIN:DAYLIGHT
TZNAME:CEST
TZOFFSETFROM:+0100
TZOFFSETTO:+0200
DTSTART:19440403T020000
RRULE:FREQ=YEARLY;UNTIL=19450402T010000Z;BYMONTH=4;BYDAY=1MO
END:DAYLIGHT
BEGIN:DAYLIGHT
TZNAME:CEMT
TZOFFSETFROM:+0200
TZOFFSETTO:+0300
DTSTART:19450524T020000
RDATE:19470511T030000
END:DAYLIGHT
BEGIN:DAYLIGHT
TZNAME:CEST
TZOFFSETFROM:+0300
TZOFFSETTO:+0200
DTSTART:19450924T030000
RDATE:19470629T030000
END:DAYLIGHT
BEGIN:STANDARD
TZNAME:CET
TZOFFSETFROM:+0100
TZOFFSETTO:+0100
DTSTART:19460101T000000
RDATE:19800101T000000
END:STANDARD
BEGIN:STANDARD
TZNAME:CET
TZOFFSETFROM:+0200
TZOFFSETTO:+0100
DTSTART:19471005T030000
RRULE:FREQ=YEARLY;UNTIL=19491002T010000Z;BYMONTH=10;BYDAY=1SU
END:STANDARD
BEGIN:STANDARD
TZNAME:CET
TZOFFSETFROM:+0200
TZOFFSETTO:+0100
DTSTART:19800928T030000
RRULE:FREQ=YEARLY;UNTIL=19950924T010000Z;BYMONTH=9;BYDAY=-1SU
END:STANDARD
BEGIN:DAYLIGHT
TZNAME:CEST
TZOFFSETFROM:+0100
TZOFFSETTO:+0200
DTSTART:19810329T020000
RRULE:FREQ=YEARLY;BYMONTH=3;BYDAY=-1SU
END:DAYLIGHT
BEGIN:STANDARD
TZNAME:CET
TZOFFSETFROM:+0200
TZOFFSETTO:+0100
DTSTART:19961027T030000
RRULE:FREQ=YEARLY;BYMONTH=10;BYDAY=-1SU
END:STANDARD
END:VTIMEZONE
BEGIN:VEVENT
DTSTAMP:20260424T181714Z
DTSTART;TZID=Europe/Berlin:20171110T200000
DTEND;TZID=Europe/Berlin:20171110T230000
SUMMARY:HE 5. Liga Gr. 4 Herzogenbuchsee IV vs Wynigen III (20)
UID:6010be51-45a4-5356-e053-1fc7a80a74f7
STATUS:CONFIRMED
LAST-MODIFIED:20171110T205334Z
DESCRIPTION:5. Liga Herren Gruppe 4\nBegegnungs-Nr: 20\nHeim: Herzogenbuchsee IV\nGast: Wynigen III\n\nAdresse: Ringstrasse 10\, 3360 Herzogenbuchsee\n
LOCATION:Ringstrasse 10\, 3360 Herzogenbuchsee
CATEGORIES:Saison 2017/18
END:VEVENT
BEGIN:VEVENT
DTSTAMP:20260424T181714Z
DTSTART;TZID=Europe/Berlin:20171024T201500
DTEND;TZID=Europe/Berlin:20171024T231500
SUMMARY:HE 5. Liga Gr. 4 Herzogenbuchsee IV vs Bern VII (14)
UID:6010be51-45a7-5356-e053-1fc7a80a74f7
STATUS:CONFIRMED
LAST-MODIFIED:20171024T200640Z
DESCRIPTION:5. Liga Herren Gruppe 4\nBegegnungs-Nr: 14\nHeim: Herzogenbuchsee IV\nGast: Bern VII\n\nAdresse: Ringstrasse 10\, 3360 Herzogenbuchsee\n
LOCATION:Ringstrasse 10\, 3360 Herzogenbuchsee
CATEGORIES:Saison 2017/18
END:VEVENT
BEGIN:VEVENT
DTSTAMP:20260424T181714Z
DTSTART;TZID=Europe/Berlin:20180323T200000
DTEND;TZID=Europe/Berlin:20180323T230000
SUMMARY:HE 5. Liga Gr. 4 Herzogenbuchsee IV vs Solothurn VII (27)
UID:6010be51-45e0-5356-e053-1fc7a80a74f7
STATUS:CONFIRMED
LAST-MODIFIED:20180324T131309Z
DESCRIPTION:5. Liga Herren Gruppe 4\nBegegnungs-Nr: 27\nHeim: Herzogenbuchsee IV\nGast: Solothurn VII\n\nAdresse: Ringstrasse 10\, 3360 Herzogenbuchsee\n
LOCATION:Ringstrasse 10\, 3360 Herzogenbuchsee
CATEGORIES:Saison 2017/18
END:VEVENT
BEGIN:VEVENT
DTSTAMP:20260424T181714Z
DTSTART;TZID=Europe/Berlin:20180306T201500
DTEND;TZID=Europe/Berlin:20180306T231500
SUMMARY:HE 5. Liga Gr. 4 Herzogenbuchsee IV vs Huttwil II (24)
UID:6010be51-45e3-5356-e053-1fc7a80a74f7
STATUS:CONFIRMED
LAST-MODIFIED:20180308T180752Z
DESCRIPTION:5. Liga Herren Gruppe 4\nBegegnungs-Nr: 24\nHeim: Herzogenbuchsee IV\nGast: Huttwil II\n\nAdresse: Ringstrasse 10\, 3360 Herzogenbuchsee\n
LOCATION:Ringstrasse 10\, 3360 Herzogenbuchsee
CATEGORIES:Saison 2017/18
END:VEVENT
BEGIN:VEVENT
DTSTAMP:20260424T181714Z
DTSTART;TZID=Europe/Berlin:20180209T200000
DTEND;TZID=Europe/Berlin:20180209T230000
SUMMARY:HE 5. Liga Gr. 4 Herzogenbuchsee IV vs Grossaffoltern III (9)
UID:6010be51-4622-5356-e053-1fc7a80a74f7
STATUS:CONFIRMED
LAST-MODIFIED:20180210T104957Z
DESCRIPTION:5. Liga Herren Gruppe 4\nBegegnungs-Nr: 9\nHeim: Herzogenbuchsee IV\nGast: Grossaffoltern III\n\nAdresse: Ringstrasse 10\, 3360 Herzogenbuchsee\n
LOCATION:Ringstrasse 10\, 3360 Herzogenbuchsee
CATEGORIES:Saison 2017/18
END:VEVENT
BEGIN:VEVENT
DTSTAMP:20260424T181714Z
DTSTART;TZID=Europe/Berlin:20171222T200000
DTEND;TZID=Europe/Berlin:20171222T230000
SUMMARY:HE 5. Liga Gr. 4 Herzogenbuchsee IV vs Burgdorf IX (3)
UID:6010be51-4628-5356-e053-1fc7a80a74f7
STATUS:CONFIRMED
LAST-MODIFIED:20171222T205325Z
DESCRIPTION:5. Liga Herren Gruppe 4\nBegegnungs-Nr: 3\nHeim: Herzogenbuchsee IV\nGast: Burgdorf IX\n\nAdresse: Ringstrasse 10\, 3360 Herzogenbuchsee\n
LOCATION:Ringstrasse 10\, 3360 Herzogenbuchsee
CATEGORIES:Saison 2017/18
END:VEVENT
BEGIN:VEVENT
DTSTAMP:20260424T181714Z
DTSTART;TZID=Europe/Berlin:20170908T200000
DTEND;TZID=Europe/Berlin:20170908T230000
SUMMARY:HE 5. Liga Gr. 4 Herzogenbuchsee IV vs Langenthal IV (8)
UID:6010be51-5bab-5356-e053-1fc7a80a74f7
STATUS:CONFIRMED
LAST-MODIFIED:20170910T173256Z
DESCRIPTION:5. Liga Herren Gruppe 4\nBegegnungs-Nr: 8\nHeim: Herzogenbuchsee IV\nGast: Langenthal IV\n\nAdresse: Ringstrasse 10\, 3360 Herzogenbuchsee\n
LOCATION:Ringstrasse 10\, 3360 Herzogenbuchsee
CATEGORIES:Saison 2017/18
END:VEVENT
BEGIN:VEVENT
DTSTAMP:20260424T181714Z
DTSTART;TZID=Europe/Berlin:20171201T200000
DTEND;TZID=Europe/Berlin:20171201T230000
SUMMARY:HE 5. Liga Gr. 4 Solothurn VII vs Herzogenbuchsee IV (27)
UID:6010be51-4575-5356-e053-1fc7a80a74f7
STATUS:CONFIRMED
LAST-MODIFIED:20171202T185232Z
DESCRIPTION:5. Liga Herren Gruppe 4\nBegegnungs-Nr: 27\nHeim: Solothurn VII\nGast: Herzogenbuchsee IV\n\nAdresse: Untere Sternengasse 24\, 4500 Solothurn\n
LOCATION:Untere Sternengasse 24\, 4500 Solothurn
CATEGORIES:Saison 2017/18
END:VEVENT
BEGIN:VEVENT
DTSTAMP:20260424T181714Z
DTSTART;TZID=Europe/Berlin:20171127T200000
DTEND;TZID=Europe/Berlin:20171127T230000
SUMMARY:HE 5. Liga Gr. 4 Huttwil II vs Herzogenbuchsee IV (24)
UID:6010be51-45a1-5356-e053-1fc7a80a74f7
STATUS:CONFIRMED
LAST-MODIFIED:20171128T191157Z
DESCRIPTION:5. Liga Herren Gruppe 4\nBegegnungs-Nr: 24\nHeim: Huttwil II\nGast: Herzogenbuchsee IV\n\nAdresse: Dornackerweg 2 (untere Halle)\, 4950 Huttwil\n
LOCATION:Dornackerweg 2 (untere Halle)\, 4950 Huttwil
CATEGORIES:Saison 2017/18
END:VEVENT
BEGIN:VEVENT
DTSTAMP:20260424T181714Z
DTSTART;TZID=Europe/Berlin:20171023T200000
DTEND;TZID=Europe/Berlin:20171023T230000
SUMMARY:HE 5. Liga Gr. 4 Grossaffoltern III vs Herzogenbuchsee IV (9)
UID:6010be51-45ae-5356-e053-1fc7a80a74f7
STATUS:CONFIRMED
LAST-MODIFIED:20171024T200200Z
DESCRIPTION:5. Liga Herren Gruppe 4\nBegegnungs-Nr: 9\nHeim: Grossaffoltern III\nGast: Herzogenbuchsee IV\n\nAdresse: Schulhausstrasse 5 \, 3257 Grossaffoltern\n
LOCATION:Schulhausstrasse 5 \, 3257 Grossaffoltern
CATEGORIES:Saison 2017/18
END:VEVENT
BEGIN:VEVENT
DTSTAMP:20260424T181714Z
DTSTART;TZID=Europe/Berlin:20180222T201500
DTEND;TZID=Europe/Berlin:20180222T231500
SUMMARY:HE 5. Liga Gr. 4 Wynigen III vs Herzogenbuchsee IV (20)
UID:6010be51-45e7-5356-e053-1fc7a80a74f7
STATUS:CONFIRMED
LAST-MODIFIED:20180223T183232Z
DESCRIPTION:5. Liga Herren Gruppe 4\nBegegnungs-Nr: 20\nHeim: Wynigen III\nGast: Herzogenbuchsee IV\n
LOCATION:
CATEGORIES:Saison 2017/18
END:VEVENT
BEGIN:VEVENT
DTSTAMP:20260424T181714Z
DTSTART;TZID=Europe/Berlin:20170901T193000
DTEND;TZID=Europe/Berlin:20170901T223000
SUMMARY:HE 5. Liga Gr. 4 Burgdorf IX vs Herzogenbuchsee IV (3)
UID:6010be51-4a46-5356-e053-1fc7a80a74f7
STATUS:CONFIRMED
LAST-MODIFIED:20170903T120127Z
DESCRIPTION:5. Liga Herren Gruppe 4\nBegegnungs-Nr: 3\nHeim: Burgdorf IX\nGast: Herzogenbuchsee IV\n\nAdresse: Pestalozzistrasse 69\, 3400 Burgdorf\n
LOCATION:Pestalozzistrasse 69\, 3400 Burgdorf
CATEGORIES:Saison 2017/18
END:VEVENT
BEGIN:VEVENT
DTSTAMP:20260424T181714Z
DTSTART;TZID=Europe/Berlin:20180212T193000
DTEND;TZID=Europe/Berlin:20180212T223000
SUMMARY:HE 5. Liga Gr. 4 Bern VII vs Herzogenbuchsee IV (14)
UID:6010be51-461c-5356-e053-1fc7a80a74f7
STATUS:CONFIRMED
LAST-MODIFIED:20180213T182758Z
DESCRIPTION:5. Liga Herren Gruppe 4\nBegegnungs-Nr: 14\nHeim: Bern VII\nGast: Herzogenbuchsee IV\n\nAdresse: Papiermühlestrasse 81\, 3014 Bern\n
LOCATION:Papiermühlestrasse 81\, 3014 Bern
CATEGORIES:Saison 2017/18
END:VEVENT
BEGIN:VEVENT
DTSTAMP:20260424T181714Z
DTSTART;TZID=Europe/Berlin:20180117T200000
DTEND;TZID=Europe/Berlin:20180117T230000
SUMMARY:HE 5. Liga Gr. 4 Langenthal IV vs Herzogenbuchsee IV (8)
UID:6010be51-4623-5356-e053-1fc7a80a74f7
STATUS:CONFIRMED
LAST-MODIFIED:20180119T191726Z
DESCRIPTION:5. Liga Herren Gruppe 4\nBegegnungs-Nr: 8\nHeim: Langenthal IV\nGast: Herzogenbuchsee IV\n\nAdresse: Weststrasse 29\, 4900 Langenthal\n
LOCATION:Weststrasse 29\, 4900 Langenthal
CATEGORIES:Saison 2017/18
END:VEVENT
END:VCALENDAR
